From mboxrd@z Thu Jan 1 00:00:00 1970 Return-Path: Received: from mails.dpdk.org (mails.dpdk.org [217.70.189.124]) by inbox.dpdk.org (Postfix) with ESMTP id 0948E461B0 for ; Fri, 7 Feb 2025 02:24:41 +0100 (CET) Received: from mails.dpdk.org (localhost [127.0.0.1]) by mails.dpdk.org (Postfix) with ESMTP id 02436402D5; Fri, 7 Feb 2025 02:24:41 +0100 (CET) Received: from mail-il1-f227.google.com (mail-il1-f227.google.com [209.85.166.227]) by mails.dpdk.org (Postfix) with ESMTP id BBA10402A7 for ; Fri, 7 Feb 2025 02:24:39 +0100 (CET) Received: by mail-il1-f227.google.com with SMTP id e9e14a558f8ab-3ce85545983so4679975ab.0 for ; Thu, 06 Feb 2025 17:24:39 -0800 (PST) DKIM-Signature: v=1; a=rsa-sha256; c=relaxed/relaxed; d=iol.unh.edu; s=unh-iol; t=1738891479; x=1739496279; darn=dpdk.org; h=references:in-reply-to:cc:to:from:subject:message-id:date:from:to :cc:subject:date:message-id:reply-to; bh=KEQaSN+J5IFzEFTwe45Ed6D5aRkelK3LnYkTqY91gdw=; b=XglTwbGErYwTgCrjPxYy+RbUBLzC0GQ1IS9gtLrsFvy+Lqi9QH6CgK65q37vqYjMHr 5P5wnqd1t+j/UKLf2os4PC5ofjkfQnXuJYWc46SpI6cw6MZsCKmkty2CG9KZt59pXndS Wll3AftD5dS4dPtv/SrFKCxwMxfX6nE+WKR0s= X-Google-DKIM-Signature: v=1; a=rsa-sha256; c=relaxed/relaxed; d=1e100.net; s=20230601; t=1738891479; x=1739496279; h=references:in-reply-to:cc:to:from:subject:message-id:date :x-gm-message-state:from:to:cc:subject:date:message-id:reply-to; bh=KEQaSN+J5IFzEFTwe45Ed6D5aRkelK3LnYkTqY91gdw=; b=e7BPZRRzcc6UzXXrDV4IxUKIF3ysHhmK2cRjLuTZBe27JW/ONid3/QCAG0LZvVE8w6 PZDlAZ7Bat/dd4y+kqlIMdBQir2AsBYNMCX/oGnYrDmop0LROxDFc7fPSBcEFbwqzjnS uLqylr0Fhb9xlnlxMRpuW5IhSdTYM3FjiGkTpGxQZ06tIpfZCS3QJx3PgqI8Gs0kWxdF l1ieXFJ7A8gF7IBfuY47t3kCoRgsQvtdLZZ1yt0uq/CFDZw6UNB4w/caHQQMAD1Uj04X 3UkqBAuQrC0yxlQCqH1FPHHzvJ9eIPP4SVoDgZvwjdDpbSC82mbZCx3YQ54sfJDVRjFo cXjQ== X-Gm-Message-State: AOJu0Yy+OfemelF/PX6KHh4Jpkhko1Cdv3RuPGrlihhPId/yzMNn3TE4 mz8VpfUotIg1ok1soIvNK56aUxYj+wLkMoEi+jWbGD+J4rYLoNoXsP/ScH1dpGQfrNt7b6v7ScG j0rjl0au0G4rUUUeNwBUT3iQg6xIqMXaTlHvH6nkCOxVT+D0I0SHhi6zX X-Gm-Gg: ASbGnctDYZ1cZ5/ldF6CFPaNQ7XyScnMzlXuLoIgegpBuQzkji/7oQURpm89tMw5ywo dvkfZ8PHMFCOLevmmQWVs3oaPCBbh+pSNdVstYZz7w0v+Sf1pE3kLDIsoInwoL5W9J0VSYQodAF oQiiYXsCIorW1P1kp8x3CXBSldA3lZNlXepEScr/OAykBhPsTZxTaj9Abvu4SHSMAzzc7IzPHqp Nrc7miGcsIz2IZsmZfrwYKSjgn4grs2hJAXVjlL9AHJRvH3elyOP/Qla4tyR7/jw/4RHgvOzVkJ IpEe19YJvW103Y+t/2j6Wv69GyOi77z/TnXpZDQuSw== X-Google-Smtp-Source: AGHT+IE5GwfC+i0kn04ou6KWY5NsBXG87Aij13O4EzMxgUv+N5cCWCrbI33GRGAqANDxicNmHbeZtrrHzEHt X-Received: by 2002:a05:6e02:2382:b0:3d0:11a4:1f87 with SMTP id e9e14a558f8ab-3d13e2795a1mr10574655ab.7.1738891479076; Thu, 06 Feb 2025 17:24:39 -0800 (PST) Received: from postal.iol.unh.edu (postal.iol.unh.edu. [2606:4100:3880:1234::84]) by smtp-relay.gmail.com with ESMTPS id e9e14a558f8ab-3d06181da8bsm1188785ab.24.2025.02.06.17.24.38 (version=TLS1_2 cipher=ECDHE-ECDSA-AES128-GCM-SHA256 bits=128/128); Thu, 06 Feb 2025 17:24:39 -0800 (PST) X-Relaying-Domain: iol.unh.edu Date: Thu, 06 Feb 2025 17:24:39 -0800 (PST) Message-ID: <67a560d7.050a0220.15083.6c48SMTPIN_ADDED_MISSING@mx.google.com> Received: from [172.21.0.5] (unknown [172.18.0.240]) by postal.iol.unh.edu (Postfix) with ESMTP id 6798B6052471; Thu, 6 Feb 2025 20:24:38 -0500 (EST) Subject: |SUCCESS| pw151003-151004 [PATCH] [v2,2/2] build: replace support fo From: dpdklab@iol.unh.edu To: Test Report Cc: dpdk-test-reports@iol.unh.edu In-Reply-To: <20250205182918.4041268-3-bruce.richardson@intel.com> References: <20250205182918.4041268-3-bruce.richardson@intel.com> Content-Type: text/plain X-BeenThere: test-report@dpdk.org X-Mailman-Version: 2.1.29 Precedence: list List-Id: automatic DPDK test reports List-Unsubscribe: , List-Archive: List-Post: List-Help: List-Subscribe: , Errors-To: test-report-bounces@dpdk.org Test-Label: iol-sample-apps-testing Test-Status: SUCCESS http://dpdk.org/patch/151004 _Testing PASS_ Submitter: Bruce Richardson Date: Wednesday, February 05 2025 18:29:15 DPDK git baseline: Repo:dpdk Branch: master CommitID:32c18e7364e30a8e43cc7cc6709a7ce606fa285e 151003-151004 --> testing pass Upstream job id: ACVP-FIPS-testing#8799 Test environment and result as below: +--------------------+----------------------+----------------------+ | Environment | compressdev_zlib_pmd | dpdk_fips_validation | +====================+======================+======================+ | Ubuntu 22.04 (ARM) | PASS | SKIPPED | +--------------------+----------------------+----------------------+ | Ubuntu 22.04 | PASS | SKIPPED | +--------------------+----------------------+----------------------+ | Ubuntu 20.04 | SKIPPED | PASS | +--------------------+----------------------+----------------------+ Ubuntu 22.04 (ARM) Kernel: 5.15.0-97-generic Compiler: gcc gcc (Ubuntu 11.4.0-1ubuntu1~22.04) 11.4.0 Ubuntu 22.04 Kernel: 5.15.0-100-generic Compiler: gcc gcc (Ubuntu 11.4.0-1ubuntu1~22.04) 11.4.0 Ubuntu 20.04 Kernel: Depends on container host Compiler: gcc (Ubuntu 9.4.0-1ubuntu1~20.04.2) 9.4.0 To view detailed results, visit: https://lab.dpdk.org/results/dashboard/patchsets/32503/ UNH-IOL DPDK Community Lab To manage your email subscriptions, visit: https://lab.dpdk.org/results/dashboard/preferences/subscriptions/