From mboxrd@z Thu Jan  1 00:00:00 1970
Return-Path: <test-report-bounces@dpdk.org>
Received: from mails.dpdk.org (mails.dpdk.org [217.70.189.124])
	by inbox.dpdk.org (Postfix) with ESMTP id 9B427461B0
	for <public@inbox.dpdk.org>; Fri,  7 Feb 2025 02:29:28 +0100 (CET)
Received: from mails.dpdk.org (localhost [127.0.0.1])
	by mails.dpdk.org (Postfix) with ESMTP id 7D90A402D5;
	Fri,  7 Feb 2025 02:29:28 +0100 (CET)
Received: from mail-oa1-f99.google.com (mail-oa1-f99.google.com
 [209.85.160.99]) by mails.dpdk.org (Postfix) with ESMTP id 20564402A7
 for <test-report@dpdk.org>; Fri,  7 Feb 2025 02:29:27 +0100 (CET)
Received: by mail-oa1-f99.google.com with SMTP id
 586e51a60fabf-2b813e4b03bso790165fac.3
 for <test-report@dpdk.org>; Thu, 06 Feb 2025 17:29:27 -0800 (PST)
DKIM-Signature: v=1; a=rsa-sha256; c=relaxed/relaxed;
 d=iol.unh.edu; s=unh-iol; t=1738891766; x=1739496566; darn=dpdk.org;
 h=references:in-reply-to:cc:to:from:subject:message-id:date:from:to
 :cc:subject:date:message-id:reply-to;
 bh=BcJdhU5vu/4UABL0Oyor3omRGnAbN3UpZpFGX7pkakA=;
 b=J8UknQFHiXdcJ57vrGE8g2NxTJ2BsMANDcT5HB/JNgVv6Tr8GxrA6Q7NeeaKwcVdDe
 jKvM66120Sqko9vfB4uAjz9wt5pbVVCr/DEtHsFa+nTJmsKs/OP04P4ZCq+koTvGTNPQ
 gJWZ+SR5aHgxSvERK6X8OXDilqZwk6+rfx6B0=
X-Google-DKIM-Signature: v=1; a=rsa-sha256; c=relaxed/relaxed;
 d=1e100.net; s=20230601; t=1738891766; x=1739496566;
 h=references:in-reply-to:cc:to:from:subject:message-id:date
 :x-gm-message-state:from:to:cc:subject:date:message-id:reply-to;
 bh=BcJdhU5vu/4UABL0Oyor3omRGnAbN3UpZpFGX7pkakA=;
 b=TL2ZQICgPlfDbu0yvuqYMJ0QDAmlGLKaI7KApg+W+WLpPiWeK6Unc5EyyxbJwq2DdK
 zp6C8wlvlSqJ1CQl9m6t3FC4hB0XSCw4E1hFQvvZhtIz+G8iDv+DtJkc+iJwvmH+SkfU
 xRKAASeWtyVjVtzlpQi8Q6smIP0enNxad1zwND4DAukRt2TLEuT9AreoTphKpwgFPJH9
 4IS4s/B3xB2SdaooB8mizh8fytk/fzXl2lZ0nagiC3c86xhC+oTYAamlmiWTjNAuBAmj
 aovILzFWEp+GfuAP2+hFfrDkKbC/W1ROUMnKr7gyJJwIrYKmc8KXUyswIfw1ErcjD3Ep
 bCfw==
X-Gm-Message-State: AOJu0YwJyJDFmkqlgU7yp6RStBiP06ZoPQsAxrtarYKeYIXgS4oYCcr8
 lbII9xcRWjdznpVKTpzY7qjeb338X5rzXlBwvfYVi9lYFc53d2oep98HlPeTUbnVbRo9s34/UKc
 qnbELEsSMee6ArefaaQPIgrd2iuWQ3+sjCKHj4vHu
X-Gm-Gg: ASbGncuRu+3Q/Vm99vjABR4gEYPT88CkCdXCHmv0leNLUTXSS+7V/ixHTtEUlIABXXJ
 NfD2NZES7gMSH8IzBaCldzsOeoLOYk21LqbBapVrYZ/IyV8u2J/QZhvINwlQFCK/yMvVAzQ820Y
 BXhY0w5uBHmctcGEsRR9O3DkXF3wN9c9PG0IZtZjsIIFogFy5/hj5tG55w5dmW+Ua6ApOlanbKf
 uPti+8AfehKzxYO5Yvq9+HPU/eoWdxC2AE+wbFDJKa306cUTWmMM2G3cCC8ddqKN0ayMV3gr8Xb
 H5j8dUr+WXBQQYM0XNe8isuC5VMITQ==
X-Google-Smtp-Source: AGHT+IFBFcgJG1lLM1JtojCn7RhFl1n4ztn2Etl9/KIAAu7Z6sWQj9FZxwM6/7aPf474Vtj5Gxw4PWaPtf+Z
X-Received: by 2002:a05:6870:e410:b0:2a3:d9b3:3d01 with SMTP id
 586e51a60fabf-2b83eef389amr922872fac.29.1738891766335; 
 Thu, 06 Feb 2025 17:29:26 -0800 (PST)
Received: from postal.iol.unh.edu (postal.iol.unh.edu. [132.177.123.84])
 by smtp-relay.gmail.com with ESMTPS id
 586e51a60fabf-2b825fc752bsm132111fac.14.2025.02.06.17.29.26
 (version=TLS1_2 cipher=ECDHE-ECDSA-AES128-GCM-SHA256 bits=128/128);
 Thu, 06 Feb 2025 17:29:26 -0800 (PST)
X-Relaying-Domain: iol.unh.edu
Date: Thu, 06 Feb 2025 17:29:26 -0800 (PST)
Message-ID: <67a561f6.050a0220.4dfbc.721eSMTPIN_ADDED_MISSING@mx.google.com>
Received: from [172.21.0.5] (unknown [172.18.0.240])
 by postal.iol.unh.edu (Postfix) with ESMTP id D0B936052471;
 Thu,  6 Feb 2025 20:29:25 -0500 (EST)
Subject: |SUCCESS| pw151042-151045 [PATCH] [v6,4/4] lib: change find device a
From: dpdklab@iol.unh.edu
To: Test Report <test-report@dpdk.org>
Cc: dpdk-test-reports@iol.unh.edu
In-Reply-To: <20250206105428.237346-4-shperetz@nvidia.com>
References: <20250206105428.237346-4-shperetz@nvidia.com>
Content-Type: text/plain
X-BeenThere: test-report@dpdk.org
X-Mailman-Version: 2.1.29
Precedence: list
List-Id: automatic DPDK test reports <test-report.dpdk.org>
List-Unsubscribe: <https://mails.dpdk.org/options/test-report>,
 <mailto:test-report-request@dpdk.org?subject=unsubscribe>
List-Archive: <http://mails.dpdk.org/archives/test-report/>
List-Post: <mailto:test-report@dpdk.org>
List-Help: <mailto:test-report-request@dpdk.org?subject=help>
List-Subscribe: <https://mails.dpdk.org/listinfo/test-report>,
 <mailto:test-report-request@dpdk.org?subject=subscribe>
Errors-To: test-report-bounces@dpdk.org

Test-Label: iol-unit-arm64-testing
Test-Status: SUCCESS
http://dpdk.org/patch/151045

_Testing PASS_

Submitter: Shani Peretz <shperetz@nvidia.com>
Date: Thursday, February 06 2025 10:54:27 
DPDK git baseline: Repo:dpdk
  Branch: master
  CommitID:32c18e7364e30a8e43cc7cc6709a7ce606fa285e

151042-151045 --> testing pass

Upstream job id: Generic-Unit-Test-DPDK#312360

Test environment and result as below:

+-----------------------------+----------------+--------------+------------------------------+---------------------------+
|         Environment         | dpdk_unit_test | lpm_autotest | cryptodev_sw_snow3g_autotest | cryptodev_sw_zuc_autotest |
+=============================+================+==============+==============================+===========================+
| 32-bit Ubuntu 22.04.4 (ARM) | PASS           | SKIPPED      | SKIPPED                      | SKIPPED                   |
+-----------------------------+----------------+--------------+------------------------------+---------------------------+
| Debian 11 (Buster) (ARM)    | PASS           | SKIPPED      | SKIPPED                      | SKIPPED                   |
+-----------------------------+----------------+--------------+------------------------------+---------------------------+
| CentOS Stream 9 (ARM)       | PASS           | SKIPPED      | SKIPPED                      | SKIPPED                   |
+-----------------------------+----------------+--------------+------------------------------+---------------------------+
| Fedora 40 (ARM)             | PASS           | SKIPPED      | SKIPPED                      | SKIPPED                   |
+-----------------------------+----------------+--------------+------------------------------+---------------------------+
| Debian 12 (arm)             | PASS           | SKIPPED      | PASS                         | PASS                      |
+-----------------------------+----------------+--------------+------------------------------+---------------------------+
| Fedora 40 (ARM Clang)       | PASS           | SKIPPED      | SKIPPED                      | SKIPPED                   |
+-----------------------------+----------------+--------------+------------------------------+---------------------------+
| Fedora 41 (ARM)             | PASS           | SKIPPED      | SKIPPED                      | SKIPPED                   |
+-----------------------------+----------------+--------------+------------------------------+---------------------------+
| RHEL9 (ARM)                 | PASS           | SKIPPED      | SKIPPED                      | SKIPPED                   |
+-----------------------------+----------------+--------------+------------------------------+---------------------------+
| Fedora 41 (ARM Clang)       | PASS           | SKIPPED      | SKIPPED                      | SKIPPED                   |
+-----------------------------+----------------+--------------+------------------------------+---------------------------+
| Ubuntu 22.04 (ARM)          | PASS           | SKIPPED      | SKIPPED                      | SKIPPED                   |
+-----------------------------+----------------+--------------+------------------------------+---------------------------+
| Ubuntu 20.04 (ARM)          | PASS           | SKIPPED      | SKIPPED                      | SKIPPED                   |
+-----------------------------+----------------+--------------+------------------------------+---------------------------+
| Ubuntu 24.04 (ARM)          | PASS           | SKIPPED      | SKIPPED                      | SKIPPED                   |
+-----------------------------+----------------+--------------+------------------------------+---------------------------+
| Ubuntu 20.04 ARM SVE        | SKIPPED        | PASS         | SKIPPED                      | SKIPPED                   |
+-----------------------------+----------------+--------------+------------------------------+---------------------------+


32-bit Ubuntu 22.04.4 (ARM)
	Kernel: 5.15.83+ aarch64
	Compiler: gcc (Ubuntu 11.4.0-1ubuntu1~22.04) 11.4.0

Debian 11 (Buster) (ARM)
	Kernel: Depends on container host
	Compiler: gcc (Debian 10.2.1-6) 10.2.1 20210110

CentOS Stream 9 (ARM)
	Kernel: Depends on container host
	Compiler: gcc 11.5.0 20240719 (Red Hat 11.5.0-2)

Fedora 40 (ARM)
	Kernel: Depends on container host
	Compiler: gcc 14.2.1 20240912 (Red Hat 14.2.1-3)

Debian 12 (arm)
	Kernel: Depends on container host
	Compiler: gcc (Debian 12.2.0-14) 12.2.0

Fedora 40 (ARM Clang)
	Kernel: Depends on container host
	Compiler: clang 18.1.8 (Fedora 18.1.8-1.fc40)

Fedora 41 (ARM)
	Kernel: Depends on container host
	Compiler: gcc 14.2.1 20240912 (Red Hat 14.2.1-3)

RHEL9 (ARM)
	Kernel: Depends on container host
	Compiler: gcc 11.5.0 20240719 (Red Hat 11.5.0-2)

Fedora 41 (ARM Clang)
	Kernel: Depends on container host
	Compiler: clang 19.1.5 (Fedora 19.1.5-1.fc41)

Ubuntu 22.04 (ARM)
	Kernel: Depends on container host
	Compiler: gcc (Ubuntu 11.4.0-1ubuntu1~22.04) 11.4.0

Ubuntu 20.04 (ARM)
	Kernel: Depends on container host
	Compiler: gcc (Ubuntu 9.4.0-1ubuntu1~20.04.2) 9.4.0

Ubuntu 24.04 (ARM)
	Kernel: Depends on container host
	Compiler: gcc (Ubuntu 13.3.0-6ubuntu2~24.04) 13.3.0

Ubuntu 20.04 ARM SVE
	Kernel: Depends on container host
	Compiler: gcc (Ubuntu 10.5.0-1ubuntu1~20.04) 10.5.0

To view detailed results, visit:
https://lab.dpdk.org/results/dashboard/patchsets/32511/

UNH-IOL DPDK Community Lab

To manage your email subscriptions, visit: 
https://lab.dpdk.org/results/dashboard/preferences/subscriptions/