From mboxrd@z Thu Jan 1 00:00:00 1970 Return-Path: Received: from mails.dpdk.org (mails.dpdk.org [217.70.189.124]) by inbox.dpdk.org (Postfix) with ESMTP id EAB25461B0 for ; Fri, 7 Feb 2025 02:47:24 +0100 (CET) Received: from mails.dpdk.org (localhost [127.0.0.1]) by mails.dpdk.org (Postfix) with ESMTP id C7ACF402D5; Fri, 7 Feb 2025 02:47:24 +0100 (CET) Received: from mail-ot1-f99.google.com (mail-ot1-f99.google.com [209.85.210.99]) by mails.dpdk.org (Postfix) with ESMTP id 471F4402A7 for ; Fri, 7 Feb 2025 02:47:23 +0100 (CET) Received: by mail-ot1-f99.google.com with SMTP id 46e09a7af769-71e10e6a1ceso497494a34.0 for ; Thu, 06 Feb 2025 17:47:23 -0800 (PST) DKIM-Signature: v=1; a=rsa-sha256; c=relaxed/relaxed; d=iol.unh.edu; s=unh-iol; t=1738892842; x=1739497642; darn=dpdk.org; h=references:in-reply-to:cc:to:from:subject:message-id:date:from:to :cc:subject:date:message-id:reply-to; bh=dEBCFs/KnC7BBCeshsvD00lFmiWww4APpoLR6aS+n9Y=; b=hWByoqeA13ROlXTwcyldAfhPiEmgrN2PylgNixMksZ/7a7jndUNNJk7lcZnpSvlcGr eclRSNG0EXw/yuBiZBWR+5zsDT7v39mcJEZgX30Q7UAobfXTF/I3PD6+8V6ZS4RDrb65 rsKChpuI6dpn0N1+k4jh1abLTh71tO38BccP4= X-Google-DKIM-Signature: v=1; a=rsa-sha256; c=relaxed/relaxed; d=1e100.net; s=20230601; t=1738892842; x=1739497642; h=references:in-reply-to:cc:to:from:subject:message-id:date :x-gm-message-state:from:to:cc:subject:date:message-id:reply-to; bh=dEBCFs/KnC7BBCeshsvD00lFmiWww4APpoLR6aS+n9Y=; b=W9fxgEMYUQi2Kd/Hy+f/zpCZG+48/QdWlrlMrA2enIOLw/jTuhJfRlkfQJQDmgtJJ4 uPnHoJPJ+MsggCHAukZVCIlSI1xR7Tj71ozmjcxykeysJ84kn2KSJugKiZoqEvKilNEz 3l3qHmiiqQy5AilYveC5xKvkFEn3oXDARJviNZzkR6+6019OysDBa+a/5Xc3csF3k8Ch hWg04c67Jj6ZcULBc7LLgDuU0aRCRcaB2h6TabGs256usM8fojclWSxQyjyUuVC5Nlue TwYQPK9Lv80Ad+I6HLgUppks6Yq8ShndfJSARUVjzTtZTfYgatlXBP0K/BoZh9dyan9c t0Hg== X-Gm-Message-State: AOJu0YyjVsm46Nk2H2Rn9seETZa3+JXvCj5PvdJonNZOYhvyTdfWemrv pqgGQPYa2glk1TPVgqJZ1CqzlKPXggcFl8zGC3b6XP9uKihzZFxeGl/LI/ImR11DX1HLn1cKqVq tI/k5n6Y5hmxp3Mjh3SwZD6f36mqlfvfazSDs5Jw6 X-Gm-Gg: ASbGncvQjuQedgRGbCgFSm4UunEWYmmY8dE5YQ2+tEQuo+llwuttVMLaGBkRO4thAOn QQHxfcFz8XpdRqhKXz24XDZ7kb+l4EqHTncA5OxGEa9dXdG84PZKR/hfSDz8GxX0n5sJXyyO+cF pqlkwJIVl9WT0KQiMeRe2mdQg+Yb4OF63OaUMe477YWW01sXnYtorWaFmTIXI7GNpfJ+j2bjptz lXfTqYXgw1k28cmhhUuEh5BVor3wWLxmoWjB92C9lqUHtRjOUs3xWH7SrQoxhFp2W//OM0O4z2O fdjh/joHUa7gf26wtqZQ8CXlHy8CkQ== X-Google-Smtp-Source: AGHT+IHDKqAhY7CZkOvkF4d6ocQUnvp9LuNG/CQ1Epjhf4+vIxrjVSir7A+THQmyIpUK4oOPkuzzSgKCVVvL X-Received: by 2002:a05:6830:698f:b0:718:18d6:a447 with SMTP id 46e09a7af769-726b88a9e63mr1214799a34.24.1738892842284; Thu, 06 Feb 2025 17:47:22 -0800 (PST) Received: from postal.iol.unh.edu (postal.iol.unh.edu. [132.177.123.84]) by smtp-relay.gmail.com with ESMTPS id 46e09a7af769-726af9fe43csm116355a34.7.2025.02.06.17.47.22 (version=TLS1_2 cipher=ECDHE-ECDSA-AES128-GCM-SHA256 bits=128/128); Thu, 06 Feb 2025 17:47:22 -0800 (PST) X-Relaying-Domain: iol.unh.edu Date: Thu, 06 Feb 2025 17:47:22 -0800 (PST) Message-ID: <67a5662a.050a0220.85d33.5ee0SMTPIN_ADDED_MISSING@mx.google.com> Received: from [172.21.0.5] (unknown [172.18.0.240]) by postal.iol.unh.edu (Postfix) with ESMTP id 65A186052471; Thu, 6 Feb 2025 20:47:21 -0500 (EST) Subject: |WARNING| pw149320-149324 [PATCH] [v2,5/5] vhost: use strlcpy instea From: dpdklab@iol.unh.edu To: Test Report Cc: dpdk-test-reports@iol.unh.edu In-Reply-To: <20241219225253.782792-6-stephen@networkplumber.org> References: <20241219225253.782792-6-stephen@networkplumber.org> Content-Type: text/plain X-BeenThere: test-report@dpdk.org X-Mailman-Version: 2.1.29 Precedence: list List-Id: automatic DPDK test reports List-Unsubscribe: , List-Archive: List-Post: List-Help: List-Subscribe: , Errors-To: test-report-bounces@dpdk.org Test-Label: iol-compile-amd64-testing Test-Status: WARNING http://dpdk.org/patch/149324 _Testing issues RETEST #1_ Submitter: Stephen Hemminger Date: Thursday, December 19 2024 22:49:55 DPDK git baseline: Repo:dpdk Branch: master CommitID:94ad302b4ebba4a5b6706a1c43ea0505e5098169 149320-149324 --> testing issues Upstream job id: Generic-DPDK-Compile-Meson#358734 Test environment and result as below: +---------------------+--------------------+------------------+-------------------+-------------------+-------------------------+----------------------+ | Environment | dpdk_meson_compile | dpdk_compile_ovs | dpdk_compile_spdk | dpdk_msvc_compile | dpdk_llvm_clang_compile | dpdk_mingw64_compile | +=====================+====================+==================+===================+===================+=========================+======================+ | Fedora 39 (Clang) | PASS | PASS | PASS | SKIPPED | SKIPPED | SKIPPED | +---------------------+--------------------+------------------+-------------------+-------------------+-------------------------+----------------------+ | Fedora 39 | PASS | PASS | PASS | SKIPPED | SKIPPED | SKIPPED | +---------------------+--------------------+------------------+-------------------+-------------------+-------------------------+----------------------+ | Fedora 40 (Clang) | PASS | PASS | PASS | SKIPPED | SKIPPED | SKIPPED | +---------------------+--------------------+------------------+-------------------+-------------------+-------------------------+----------------------+ | openSUSE Leap 15 | PASS | WARN | SKIPPED | SKIPPED | SKIPPED | SKIPPED | +---------------------+--------------------+------------------+-------------------+-------------------+-------------------------+----------------------+ | RHEL8 | PASS | PASS | SKIPPED | SKIPPED | SKIPPED | SKIPPED | +---------------------+--------------------+------------------+-------------------+-------------------+-------------------------+----------------------+ | Fedora 40 | PASS | PASS | PASS | SKIPPED | SKIPPED | SKIPPED | +---------------------+--------------------+------------------+-------------------+-------------------+-------------------------+----------------------+ | RHEL9 | PASS | PASS | SKIPPED | SKIPPED | SKIPPED | SKIPPED | +---------------------+--------------------+------------------+-------------------+-------------------+-------------------------+----------------------+ | Ubuntu 24.04 | PASS | PASS | PASS | SKIPPED | SKIPPED | SKIPPED | +---------------------+--------------------+------------------+-------------------+-------------------+-------------------------+----------------------+ | Ubuntu 22.04 | PASS | PASS | PASS | SKIPPED | SKIPPED | SKIPPED | +---------------------+--------------------+------------------+-------------------+-------------------+-------------------------+----------------------+ | Alpine | PASS | PASS | SKIPPED | SKIPPED | SKIPPED | SKIPPED | +---------------------+--------------------+------------------+-------------------+-------------------+-------------------------+----------------------+ | FreeBSD 13.4 | PASS | SKIPPED | SKIPPED | SKIPPED | SKIPPED | SKIPPED | +---------------------+--------------------+------------------+-------------------+-------------------+-------------------------+----------------------+ | CentOS Stream 9 | PASS | PASS | PASS | SKIPPED | SKIPPED | SKIPPED | +---------------------+--------------------+------------------+-------------------+-------------------+-------------------------+----------------------+ | FreeBSD 14.2 | PASS | SKIPPED | SKIPPED | SKIPPED | SKIPPED | SKIPPED | +---------------------+--------------------+------------------+-------------------+-------------------+-------------------------+----------------------+ | Debian 12 | PASS | PASS | PASS | SKIPPED | SKIPPED | SKIPPED | +---------------------+--------------------+------------------+-------------------+-------------------+-------------------------+----------------------+ | Ubuntu 20.04 | PASS | SKIPPED | SKIPPED | SKIPPED | SKIPPED | SKIPPED | +---------------------+--------------------+------------------+-------------------+-------------------+-------------------------+----------------------+ | Debian Bullseye | PASS | PASS | PASS | SKIPPED | SKIPPED | SKIPPED | +---------------------+--------------------+------------------+-------------------+-------------------+-------------------------+----------------------+ | Fedora 41 (Clang) | PASS | PASS | PASS | SKIPPED | SKIPPED | SKIPPED | +---------------------+--------------------+------------------+-------------------+-------------------+-------------------------+----------------------+ | Fedora 41 | PASS | PASS | PASS | SKIPPED | SKIPPED | SKIPPED | +---------------------+--------------------+------------------+-------------------+-------------------+-------------------------+----------------------+ | Windows Server 2022 | SKIPPED | SKIPPED | SKIPPED | PASS | PASS | PASS | +---------------------+--------------------+------------------+-------------------+-------------------+-------------------------+----------------------+ ==== 20 line log output for openSUSE Leap 15 (dpdk_compile_ovs): ==== --- Failed to get log output --- ==== End log output ==== Fedora 39 (Clang) Kernel: Depends on container host Compiler: clang 17.0.6 (Fedora 17.0.6-2.fc39) Fedora 39 Kernel: Depends on container host Compiler: gcc 13.3.1 20240522 (Red Hat 13.3.1-1) Fedora 40 (Clang) Kernel: Depends on container host Compiler: clang 18.1.8 (Fedora 18.1.8-1.fc40) openSUSE Leap 15 Kernel: Depends on container host Compiler: gcc (SUSE Linux) 7.5.0 RHEL8 Kernel: Depends on container host Compiler: gcc 8.5.0 20210514 (Red Hat 8.5.0-22) Fedora 40 Kernel: Depends on container host Compiler: gcc 14.2.1 20240912 (Red Hat 14.2.1-3) RHEL9 Kernel: Depends on container host Compiler: gcc 11.5.0 20240719 (Red Hat 11.5.0-2) Ubuntu 24.04 Kernel: Depends on container host Compiler: gcc (Ubuntu 13.3.0-6ubuntu2~24.04) 13.3.0 Ubuntu 22.04 Kernel: Depends on container host Compiler: gcc (Ubuntu 11.4.0-1ubuntu1~22.04) 11.4.0 Alpine Kernel: Depends on container host Compiler: gcc (Alpine 14.2.0) 14.2.0 FreeBSD 13.4 Kernel: 13.4-RELEASE-p1 Compiler: clang 18.1.6 CentOS Stream 9 Kernel: Depends on container host Compiler: gcc 11.5.0 20240719 (Red Hat 11.5.0-2) FreeBSD 14.2 Kernel: 14.2-RELEASE Compiler: clang 18.1.6 Debian 12 Kernel: Depends on container host Compiler: gcc (Debian 12.2.0-14) 12.2.0 Ubuntu 20.04 Kernel: Depends on container host Compiler: gcc (Ubuntu 9.4.0-1ubuntu1~20.04.2) 9.4.0 Debian Bullseye Kernel: Depends on container host Compiler: gcc (Debian 10.2.1-6) 10.2.1 20210110 Fedora 41 (Clang) Kernel: Depends on container host Compiler: clang 19.1.5 (Fedora 19.1.5-1.fc41) Fedora 41 Kernel: Depends on container host Compiler: gcc 14.2.1 20240912 (Red Hat 14.2.1-3) Windows Server 2022 Kernel: 10.0.20348.2031 Compiler: clang 15.0.7, gcc 14.1.0 (MinGW), and MSVC VS 19.39.33521 To view detailed results, visit: https://lab.dpdk.org/results/dashboard/patchsets/32175/ UNH-IOL DPDK Community Lab To manage your email subscriptions, visit: https://lab.dpdk.org/results/dashboard/preferences/subscriptions/