From mboxrd@z Thu Jan 1 00:00:00 1970 Return-Path: Received: from mails.dpdk.org (mails.dpdk.org [217.70.189.124]) by inbox.dpdk.org (Postfix) with ESMTP id 9529D461B0 for ; Fri, 7 Feb 2025 02:51:18 +0100 (CET) Received: from mails.dpdk.org (localhost [127.0.0.1]) by mails.dpdk.org (Postfix) with ESMTP id 803A9402D5; Fri, 7 Feb 2025 02:51:18 +0100 (CET) Received: from mail-qt1-f228.google.com (mail-qt1-f228.google.com [209.85.160.228]) by mails.dpdk.org (Postfix) with ESMTP id 8B9AD402A7 for ; Fri, 7 Feb 2025 02:51:17 +0100 (CET) Received: by mail-qt1-f228.google.com with SMTP id d75a77b69052e-4679eacf2c5so15418631cf.0 for ; Thu, 06 Feb 2025 17:51:17 -0800 (PST) DKIM-Signature: v=1; a=rsa-sha256; c=relaxed/relaxed; d=iol.unh.edu; s=unh-iol; t=1738893077; x=1739497877; darn=dpdk.org; h=cc:to:from:subject:message-id:date:from:to:cc:subject:date :message-id:reply-to; bh=dBaXIkTL/qJnFLPuEE+Zw3OQbJAILydwi31RPXeTgXQ=; b=Wym3gE8pA2d46Ys2+csGkcujRJKRU4Xh2yOOoqnHizlxEWiysL4LteyLkK3dd74eUj 2+1pL9Hg51XJ6f+MsZhn4raL1Vf6i+7F4Ts8jBZyvjLoZXAMCtbI6vEnqT36Ymr3OT9R eqDPiBN/kHA+rYjIZLC1/YP8rIFUG5yuGOmO0= X-Google-DKIM-Signature: v=1; a=rsa-sha256; c=relaxed/relaxed; d=1e100.net; s=20230601; t=1738893077; x=1739497877; h=cc:to:from:subject:message-id:date:x-gm-message-state:from:to:cc :subject:date:message-id:reply-to; bh=dBaXIkTL/qJnFLPuEE+Zw3OQbJAILydwi31RPXeTgXQ=; b=rZVMd+Ht2J4/NV0BOBPrVsp/7H0QKpWXtoe5iM7HzC7T0Cr+FtJjxbDEvEyhUizkNx 0IFoQykUpPTzhoPPIKnOxNhdw1kDNJKUiNobnX6PxzQbgvLaR7XHokDBMGKFPiq4dcOM 8sO7/vTEGPrreLbpkkrVFKBeo5Rdy1ZC/DGmj8ICzi4+PXoEiyHI0qrm3toEgPq6UZTs ndLCFtb2/Weeovdi7vDpBUH3Qp6dZF0wPZ93KtbVYWaQuwy+UClfPCtKjzWcg9rkHPwF HywiVwa2STiRegxKpe2lgwTPeRU9JOgOUbaT4WUeZwQLG2tBaQ6DD3l1l9gn4GjC6OSp mpTQ== X-Gm-Message-State: AOJu0YzskskarB9jVYvf8vhUX8mSVqZJgS7yJXHwrsY154p9vz9dIoH2 0a2oCQQHqq0T3+DcM8mKmoODl71KDEeEdCD/f0TCho+dgoWxdtnG9AXMDJrfDOkEZMITXA/6fYD 0wyztShE4EE/KdGkCciYtYxag/7NOE8Sf3y9nHg9E X-Gm-Gg: ASbGncuwvCu4olgNz4Uw9Jzgt1l1vT4+mR5M3SuS9grjdiS8uZoiHYsSYkAhAHEayna NA4Rr9Zc51RrFKwLboQy906tur/D/7OFQ3GuuWng4hUbUQPSJXGKHe3B+LuayCbC3p0sIyztC8L kw7r+PvBGuo/zTrXxkVhTKo6pO1VEGYDtjBc3ZUIoL0xG8J6n5x7noHm7aBv/J/Wcm/JBPg+WI2 isy6pBWQCZh9jGoFkmfs4DoBuM1AA72Mzkik7p1d3drHfZk3wem71SHQMDq578W4Ojh4a25DRzd Ru9VWl+2S2lPjTVcEZkwyTvLqeyN4w== X-Google-Smtp-Source: AGHT+IHwDX2AjUU7wj8IkS8PCA1tUodJTE2kA9uOjdCFjmzd8MkyPD8rbedrJnoBNx8vq5z7MWJjFmvYUH36 X-Received: by 2002:a05:622a:1a8e:b0:467:800f:f475 with SMTP id d75a77b69052e-471679ecd5fmr28565891cf.19.1738893076883; Thu, 06 Feb 2025 17:51:16 -0800 (PST) Received: from postal.iol.unh.edu (postal.iol.unh.edu. [132.177.123.84]) by smtp-relay.gmail.com with ESMTPS id d75a77b69052e-47149277972sm1162521cf.2.2025.02.06.17.51.16 (version=TLS1_2 cipher=ECDHE-ECDSA-AES128-GCM-SHA256 bits=128/128); Thu, 06 Feb 2025 17:51:16 -0800 (PST) X-Relaying-Domain: iol.unh.edu Date: Thu, 06 Feb 2025 17:51:16 -0800 (PST) Message-ID: <67a56714.c80a0220.13bb7f.66faSMTPIN_ADDED_MISSING@mx.google.com> Received: from [172.21.0.5] (unknown [172.18.0.240]) by postal.iol.unh.edu (Postfix) with ESMTP id 85C066052471; Thu, 6 Feb 2025 20:51:16 -0500 (EST) Subject: |SUCCESS| [GIT MASTER] 32c18e7364e30a8e43cc7cc6709a7ce606fa285e From: dpdklab@iol.unh.edu To: Test Report Cc: dpdk-test-reports@iol.unh.edu, Jerin Jacob Content-Type: text/plain X-BeenThere: test-report@dpdk.org X-Mailman-Version: 2.1.29 Precedence: list List-Id: automatic DPDK test reports List-Unsubscribe: , List-Archive: List-Post: List-Help: List-Subscribe: , Errors-To: test-report-bounces@dpdk.org _Testing PASS_ Branch: dpdk-next-eventdev 32c18e7364e30a8e43cc7cc6709a7ce606fa285e --> testing pass Upstream job id: Generic-Unit-Test-DPDK#312388 Test environment and result as below: +-----------------------------+--------------+---------------------------+------------------------------+----------------+ | Environment | lpm_autotest | cryptodev_sw_zuc_autotest | cryptodev_sw_snow3g_autotest | dpdk_unit_test | +=============================+==============+===========================+==============================+================+ | Ubuntu 20.04 ARM SVE | PASS | SKIPPED | SKIPPED | SKIPPED | +-----------------------------+--------------+---------------------------+------------------------------+----------------+ | Debian 12 (arm) | SKIPPED | PASS | PASS | PASS | +-----------------------------+--------------+---------------------------+------------------------------+----------------+ | Debian 11 (Buster) (ARM) | SKIPPED | SKIPPED | SKIPPED | PASS | +-----------------------------+--------------+---------------------------+------------------------------+----------------+ | CentOS Stream 9 (ARM) | SKIPPED | SKIPPED | SKIPPED | PASS | +-----------------------------+--------------+---------------------------+------------------------------+----------------+ | Fedora 40 (ARM Clang) | SKIPPED | SKIPPED | SKIPPED | PASS | +-----------------------------+--------------+---------------------------+------------------------------+----------------+ | Fedora 41 (ARM) | SKIPPED | SKIPPED | SKIPPED | PASS | +-----------------------------+--------------+---------------------------+------------------------------+----------------+ | Fedora 40 (ARM) | SKIPPED | SKIPPED | SKIPPED | PASS | +-----------------------------+--------------+---------------------------+------------------------------+----------------+ | Ubuntu 20.04 (ARM) | SKIPPED | SKIPPED | SKIPPED | PASS | +-----------------------------+--------------+---------------------------+------------------------------+----------------+ | RHEL9 (ARM) | SKIPPED | SKIPPED | SKIPPED | PASS | +-----------------------------+--------------+---------------------------+------------------------------+----------------+ | Ubuntu 22.04 (ARM) | SKIPPED | SKIPPED | SKIPPED | PASS | +-----------------------------+--------------+---------------------------+------------------------------+----------------+ | Fedora 41 (ARM Clang) | SKIPPED | SKIPPED | SKIPPED | PASS | +-----------------------------+--------------+---------------------------+------------------------------+----------------+ | Ubuntu 24.04 (ARM) | SKIPPED | SKIPPED | SKIPPED | PASS | +-----------------------------+--------------+---------------------------+------------------------------+----------------+ | 32-bit Ubuntu 22.04.4 (ARM) | SKIPPED | SKIPPED | SKIPPED | PASS | +-----------------------------+--------------+---------------------------+------------------------------+----------------+ Ubuntu 20.04 ARM SVE Kernel: Depends on container host Compiler: gcc (Ubuntu 10.5.0-1ubuntu1~20.04) 10.5.0 Debian 12 (arm) Kernel: Depends on container host Compiler: gcc (Debian 12.2.0-14) 12.2.0 Debian 11 (Buster) (ARM) Kernel: Depends on container host Compiler: gcc (Debian 10.2.1-6) 10.2.1 20210110 CentOS Stream 9 (ARM) Kernel: Depends on container host Compiler: gcc 11.5.0 20240719 (Red Hat 11.5.0-2) Fedora 40 (ARM Clang) Kernel: Depends on container host Compiler: clang 18.1.8 (Fedora 18.1.8-1.fc40) Fedora 41 (ARM) Kernel: Depends on container host Compiler: gcc 14.2.1 20240912 (Red Hat 14.2.1-3) Fedora 40 (ARM) Kernel: Depends on container host Compiler: gcc 14.2.1 20240912 (Red Hat 14.2.1-3) Ubuntu 20.04 (ARM) Kernel: Depends on container host Compiler: gcc (Ubuntu 9.4.0-1ubuntu1~20.04.2) 9.4.0 RHEL9 (ARM) Kernel: Depends on container host Compiler: gcc 11.5.0 20240719 (Red Hat 11.5.0-2) Ubuntu 22.04 (ARM) Kernel: Depends on container host Compiler: gcc (Ubuntu 11.4.0-1ubuntu1~22.04) 11.4.0 Fedora 41 (ARM Clang) Kernel: Depends on container host Compiler: clang 19.1.5 (Fedora 19.1.5-1.fc41) Ubuntu 24.04 (ARM) Kernel: Depends on container host Compiler: gcc (Ubuntu 13.3.0-6ubuntu2~24.04) 13.3.0 32-bit Ubuntu 22.04.4 (ARM) Kernel: 5.15.83+ aarch64 Compiler: gcc (Ubuntu 11.4.0-1ubuntu1~22.04) 11.4.0 To view detailed results, visit: https://lab.dpdk.org/results/dashboard/tarballs/32475/ UNH-IOL DPDK Community Lab To manage your email subscriptions, visit: https://lab.dpdk.org/results/dashboard/preferences/subscriptions/