From mboxrd@z Thu Jan 1 00:00:00 1970 Return-Path: Received: from mails.dpdk.org (mails.dpdk.org [217.70.189.124]) by inbox.dpdk.org (Postfix) with ESMTP id 309C6461B0 for ; Fri, 7 Feb 2025 02:54:13 +0100 (CET) Received: from mails.dpdk.org (localhost [127.0.0.1]) by mails.dpdk.org (Postfix) with ESMTP id 29C21402D5; Fri, 7 Feb 2025 02:54:13 +0100 (CET) Received: from mail-io1-f99.google.com (mail-io1-f99.google.com [209.85.166.99]) by mails.dpdk.org (Postfix) with ESMTP id 452A0402A7 for ; Fri, 7 Feb 2025 02:54:12 +0100 (CET) Received: by mail-io1-f99.google.com with SMTP id ca18e2360f4ac-844df397754so45778239f.2 for ; Thu, 06 Feb 2025 17:54:12 -0800 (PST) DKIM-Signature: v=1; a=rsa-sha256; c=relaxed/relaxed; d=iol.unh.edu; s=unh-iol; t=1738893251; x=1739498051; darn=dpdk.org; h=references:in-reply-to:cc:to:from:subject:message-id:date:from:to :cc:subject:date:message-id:reply-to; bh=1OVUC02otfJrZu83uIC2C8y2ksNgfX1jwv5ZrKgNVgk=; b=Dt/nSbFZ0Nmzkzf2S7ZPi6XWo0+ssi6yzLQ5+m4xBwzp5XoFvPACQX1dGIIKe8CeBd 4k5qCWa+ebttE/S+mZXZ5+u+D+3aZDGSvsy2gA8xw6aZsFTqRgSKCB7lZ4aVXWED8fCF EBj0tdmQawL3CRvO9ZGVAMbC5oS7HKfH5eVVU= X-Google-DKIM-Signature: v=1; a=rsa-sha256; c=relaxed/relaxed; d=1e100.net; s=20230601; t=1738893251; x=1739498051; h=references:in-reply-to:cc:to:from:subject:message-id:date :x-gm-message-state:from:to:cc:subject:date:message-id:reply-to; bh=1OVUC02otfJrZu83uIC2C8y2ksNgfX1jwv5ZrKgNVgk=; b=kT7567kuL5A0nQDTf8R2O/z9Vj9vrKEPtEZ7rlHBXBEA7jFLnCt59Y3xxRzUwsnRvl kbvkfXwY6wdBjV6YgAe8QQahPVBlDEA/NFzvWQpVvOuj48TJM9NXnLF2m7RMmtD3HN8X gRTHQHAW3GaFC0xRXHnDLJNZBkk1KreA4g+8X4nWrHSa/RJl/FeQ1v1iq2zKQxOmFXPc QlEmx05GKTB6pVMxeRmeE432tcLCYN7adtE7ceqrK56jprjIrfNzHP46BaBB9JC+TmWN S2E8/e5Gw+S6tFFAYYn4ZnjqCnutS2I8ns9xICLAGRD+DZDO+ASVZwshwGDkWxb/4sus yt5Q== X-Gm-Message-State: AOJu0Yxtf2Sr8B6vuBsOCd1L//CgdC/J6t3jkUv6IxMkcc+3tKcivnJw fCCt/0SOozFzX6k8qKzosp/inBDIZxoS7f4Yg4OjTXpnc8Id14RW83L7RR4HyQ5MjzTjbH2DSrj DWiYYPUvAuZg43fvR4tYj5/Tp2XiJy8WFr7qb2bky X-Gm-Gg: ASbGncuH7aavmwlYi72LMJREMyoB/WFQKjMTG00QaTtxHom927gGMQnA9SwfGk+dBFp pOZO5FW7zjsjsIIrrsB1sVQqvF1yQkboq4Be2UEsHJ4TxWlSHlnmnFpLsoGIdd5mKocJ278Ioes zmoaNfD7CO+XJYcjH0DVsu47Ae89hGf890Lk8Tn/tw/Dd8l6yyztpKYN02j3X0Igv9dDHc4cims zcvTIEG9Ah5AYVCX1w6QQ457tRlqhuVmkih9TUOl2Z6nLPLxkfJScI44peUJR3mbBeM1Qixxs8f zjk0Va5xlRACOHNEmnFtLpCCkC2u8A== X-Google-Smtp-Source: AGHT+IGg+/OVomhuackf5YtfyPH0KR0ruVCwcHKKivTRUyrFKeR93g8WA5s8rXW7dtFpeHTmwJdJ1SS6h2vG X-Received: by 2002:a05:6602:398f:b0:83a:639b:bc44 with SMTP id ca18e2360f4ac-854fd888fa3mr207093839f.3.1738893251520; Thu, 06 Feb 2025 17:54:11 -0800 (PST) Received: from postal.iol.unh.edu (postal.iol.unh.edu. [132.177.123.84]) by smtp-relay.gmail.com with ESMTPS id ca18e2360f4ac-854f66626ecsm14244039f.3.2025.02.06.17.54.11 (version=TLS1_2 cipher=ECDHE-ECDSA-AES128-GCM-SHA256 bits=128/128); Thu, 06 Feb 2025 17:54:11 -0800 (PST) X-Relaying-Domain: iol.unh.edu Date: Thu, 06 Feb 2025 17:54:11 -0800 (PST) Message-ID: <67a567c3.050a0220.2317a3.7a3cSMTPIN_ADDED_MISSING@mx.google.com> Received: from [172.21.0.6] (unknown [172.18.0.240]) by postal.iol.unh.edu (Postfix) with ESMTP id 0C8156052471; Thu, 6 Feb 2025 20:54:11 -0500 (EST) Subject: |SUCCESS| pw149936-149937 [PATCH] [v3,2/2] app/test: add SM4 GCM tes From: dpdklab@iol.unh.edu To: Test Report Cc: dpdk-test-reports@iol.unh.edu In-Reply-To: <20250113171022.1649181-2-brian.dooley@intel.com> References: <20250113171022.1649181-2-brian.dooley@intel.com> Content-Type: text/plain X-BeenThere: test-report@dpdk.org X-Mailman-Version: 2.1.29 Precedence: list List-Id: automatic DPDK test reports List-Unsubscribe: , List-Archive: List-Post: List-Help: List-Subscribe: , Errors-To: test-report-bounces@dpdk.org Test-Label: iol-compile-amd64-testing Test-Status: SUCCESS http://dpdk.org/patch/149937 _Testing PASS RETEST #1_ Submitter: Dooley, Brian Date: Monday, January 13 2025 17:10:22 DPDK git baseline: Repo:dpdk Branch: master CommitID:cdf7f14fae72cdf64bcccff3ed4ab30accdf436e 149936-149937 --> testing pass Upstream job id: Generic-DPDK-Compile-Meson#358769 Test environment and result as below: +---------------------+--------------------+------------------+-------------------+-------------------------+-------------------+----------------------+ | Environment | dpdk_meson_compile | dpdk_compile_ovs | dpdk_compile_spdk | dpdk_llvm_clang_compile | dpdk_msvc_compile | dpdk_mingw64_compile | +=====================+====================+==================+===================+=========================+===================+======================+ | CentOS Stream 9 | PASS | PASS | PASS | SKIPPED | SKIPPED | SKIPPED | +---------------------+--------------------+------------------+-------------------+-------------------------+-------------------+----------------------+ | Debian Bullseye | PASS | PASS | PASS | SKIPPED | SKIPPED | SKIPPED | +---------------------+--------------------+------------------+-------------------+-------------------------+-------------------+----------------------+ | Debian 12 | PASS | PASS | PASS | SKIPPED | SKIPPED | SKIPPED | +---------------------+--------------------+------------------+-------------------+-------------------------+-------------------+----------------------+ | Fedora 41 | PASS | PASS | PASS | SKIPPED | SKIPPED | SKIPPED | +---------------------+--------------------+------------------+-------------------+-------------------------+-------------------+----------------------+ | Fedora 40 (Clang) | PASS | PASS | PASS | SKIPPED | SKIPPED | SKIPPED | +---------------------+--------------------+------------------+-------------------+-------------------------+-------------------+----------------------+ | Fedora 40 | PASS | PASS | PASS | SKIPPED | SKIPPED | SKIPPED | +---------------------+--------------------+------------------+-------------------+-------------------------+-------------------+----------------------+ | Fedora 41 (Clang) | PASS | PASS | PASS | SKIPPED | SKIPPED | SKIPPED | +---------------------+--------------------+------------------+-------------------+-------------------------+-------------------+----------------------+ | openSUSE Leap 15 | PASS | SKIPPED | SKIPPED | SKIPPED | SKIPPED | SKIPPED | +---------------------+--------------------+------------------+-------------------+-------------------------+-------------------+----------------------+ | RHEL8 | PASS | PASS | SKIPPED | SKIPPED | SKIPPED | SKIPPED | +---------------------+--------------------+------------------+-------------------+-------------------------+-------------------+----------------------+ | RHEL9 | PASS | PASS | SKIPPED | SKIPPED | SKIPPED | SKIPPED | +---------------------+--------------------+------------------+-------------------+-------------------------+-------------------+----------------------+ | Ubuntu 24.04 | PASS | PASS | PASS | SKIPPED | SKIPPED | SKIPPED | +---------------------+--------------------+------------------+-------------------+-------------------------+-------------------+----------------------+ | Ubuntu 22.04 | PASS | PASS | PASS | SKIPPED | SKIPPED | SKIPPED | +---------------------+--------------------+------------------+-------------------+-------------------------+-------------------+----------------------+ | Alpine | PASS | PASS | SKIPPED | SKIPPED | SKIPPED | SKIPPED | +---------------------+--------------------+------------------+-------------------+-------------------------+-------------------+----------------------+ | FreeBSD 14.2 | PASS | SKIPPED | SKIPPED | SKIPPED | SKIPPED | SKIPPED | +---------------------+--------------------+------------------+-------------------+-------------------------+-------------------+----------------------+ | FreeBSD 13.4 | PASS | SKIPPED | SKIPPED | SKIPPED | SKIPPED | SKIPPED | +---------------------+--------------------+------------------+-------------------+-------------------------+-------------------+----------------------+ | Ubuntu 20.04 | PASS | SKIPPED | SKIPPED | SKIPPED | SKIPPED | SKIPPED | +---------------------+--------------------+------------------+-------------------+-------------------------+-------------------+----------------------+ | Windows Server 2022 | SKIPPED | SKIPPED | SKIPPED | PASS | PASS | PASS | +---------------------+--------------------+------------------+-------------------+-------------------------+-------------------+----------------------+ CentOS Stream 9 Kernel: Depends on container host Compiler: gcc 11.5.0 20240719 (Red Hat 11.5.0-2) Debian Bullseye Kernel: Depends on container host Compiler: gcc (Debian 10.2.1-6) 10.2.1 20210110 Debian 12 Kernel: Depends on container host Compiler: gcc (Debian 12.2.0-14) 12.2.0 Fedora 41 Kernel: Depends on container host Compiler: gcc 14.2.1 20240912 (Red Hat 14.2.1-3) Fedora 40 (Clang) Kernel: Depends on container host Compiler: clang 18.1.8 (Fedora 18.1.8-1.fc40) Fedora 40 Kernel: Depends on container host Compiler: gcc 14.2.1 20240912 (Red Hat 14.2.1-3) Fedora 41 (Clang) Kernel: Depends on container host Compiler: clang 19.1.5 (Fedora 19.1.5-1.fc41) openSUSE Leap 15 Kernel: Depends on container host Compiler: gcc (SUSE Linux) 7.5.0 RHEL8 Kernel: Depends on container host Compiler: gcc 8.5.0 20210514 (Red Hat 8.5.0-22) RHEL9 Kernel: Depends on container host Compiler: gcc 11.5.0 20240719 (Red Hat 11.5.0-2) Ubuntu 24.04 Kernel: Depends on container host Compiler: gcc (Ubuntu 13.3.0-6ubuntu2~24.04) 13.3.0 Ubuntu 22.04 Kernel: Depends on container host Compiler: gcc (Ubuntu 11.4.0-1ubuntu1~22.04) 11.4.0 Alpine Kernel: Depends on container host Compiler: gcc (Alpine 14.2.0) 14.2.0 FreeBSD 14.2 Kernel: 14.2-RELEASE Compiler: clang 18.1.6 FreeBSD 13.4 Kernel: 13.4-RELEASE-p1 Compiler: clang 18.1.6 Ubuntu 20.04 Kernel: Depends on container host Compiler: gcc (Ubuntu 9.4.0-1ubuntu1~20.04.2) 9.4.0 Windows Server 2022 Kernel: 10.0.20348.2031 Compiler: clang 15.0.7, gcc 14.1.0 (MinGW), and MSVC VS 19.39.33521 To view detailed results, visit: https://lab.dpdk.org/results/dashboard/patchsets/32308/ UNH-IOL DPDK Community Lab To manage your email subscriptions, visit: https://lab.dpdk.org/results/dashboard/preferences/subscriptions/