From mboxrd@z Thu Jan 1 00:00:00 1970 Return-Path: Received: from mails.dpdk.org (mails.dpdk.org [217.70.189.124]) by inbox.dpdk.org (Postfix) with ESMTP id F0906461B0 for ; Fri, 7 Feb 2025 02:58:18 +0100 (CET) Received: from mails.dpdk.org (localhost [127.0.0.1]) by mails.dpdk.org (Postfix) with ESMTP id C615F402D5; Fri, 7 Feb 2025 02:58:18 +0100 (CET) Received: from mail-il1-f226.google.com (mail-il1-f226.google.com [209.85.166.226]) by mails.dpdk.org (Postfix) with ESMTP id C682F402A7 for ; Fri, 7 Feb 2025 02:58:17 +0100 (CET) Received: by mail-il1-f226.google.com with SMTP id e9e14a558f8ab-3d051dca3b6so5411285ab.1 for ; Thu, 06 Feb 2025 17:58:17 -0800 (PST) DKIM-Signature: v=1; a=rsa-sha256; c=relaxed/relaxed; d=iol.unh.edu; s=unh-iol; t=1738893497; x=1739498297; darn=dpdk.org; h=cc:to:from:subject:message-id:date:from:to:cc:subject:date :message-id:reply-to; bh=vFeOhZMMAXNnaaf7Mn5P9dNLRm21etVcG1MA+Wp4WsA=; b=WQxC++8X7keetHmK104fMKvTo8ZNByjf30kmBIIuM1GgB6BERrvF6JvWi5RTxOyPOw NoDs4pL96dSKln0A3SCLR7hiedaHuyKQkAI0FPscoinqmBTMhBUh+uHETAs3bQ4yEqKg Q/pei/51XEGQdezpmFj1GaTSKJhCk1zuyTdYk= X-Google-DKIM-Signature: v=1; a=rsa-sha256; c=relaxed/relaxed; d=1e100.net; s=20230601; t=1738893497; x=1739498297; h=cc:to:from:subject:message-id:date:x-gm-message-state:from:to:cc :subject:date:message-id:reply-to; bh=vFeOhZMMAXNnaaf7Mn5P9dNLRm21etVcG1MA+Wp4WsA=; b=rdK18dRMeSa/YCcxA4/NfcgMX8G6qi3GyIikraFDZAozgpXGH1mxjx2e6Q7CcJBAt+ 8wZlt059exmLcAXwDwxFrrFRDHJofVxTwYZzWfQoeiuolodjR0KbVvm9bsjdBuig+5oX avDFa24tMW1snsWIyqNu/eBun2rY1oewptTnK7XT7bzfULGA7aNkxc3VtmiTwPpBZdiG JkhI/xHaYZy/BnERt8+AZMLQuN74aZzb6Jecv/NQQ34ihT5zEI0tgYWHKUSN6JCyH/OV tl75GVA9WxRPLiWg0n9l/UQoNRnMoNiFHdaSjkkaacaWzfBMV5QnMJn8r0Uzi6xBFN9Z XOTg== X-Gm-Message-State: AOJu0YyFbYwK72oCKNz1HEPTrV06SqZ7/QAh9W1NZ0np5yT5UgpgWTej g6jiaJBkZwgX79ETrskCuhI6cmiZUm3CVZW9o9p9et9t8mGTkdm0eRC2hP3ZauoM2zGGTkhyqvm lBODfslviLAODTCqO6psKGsipAp0H6oUXt3nXDxGC X-Gm-Gg: ASbGncscXE7NnUqu8yc5Ipo7wRmdiKuJc00ouo5tCdJrdoX5A+KI0nAaSCUOwn2eaIl Le+ImMzlH6Yc+yJdAAzYbxKg9/L+RPW3ug2cqZozi5AvwE2E9UK3mpWkxH5rpIekhovckzVSAfK DfKJVDTNEIH890QcABSWIbESk0Z6yEUgp2JSazjfMv5KKykNdluIiqLgIiECAY9lkOVKOouF4zk UrHVntdPprWMVNUh+uLwGMpkeoXIND6Hi9Up8HismhxfFTTioMBB3ZI+UM4n+IeeMfQT73dz0Gz 2dIkpy8LHtvK5naVrXmyX/RlZGw9Jg== X-Google-Smtp-Source: AGHT+IFpVHsrMuS9smYP3w/jrW6IwR4MQ3bvQBzxajKmWc9WtSq+mgwOA+f1Xa/az6QbKThC/vp0q61d/IfV X-Received: by 2002:a05:6e02:1907:b0:3d0:1118:f05b with SMTP id e9e14a558f8ab-3d13df78affmr9414815ab.19.1738893496551; Thu, 06 Feb 2025 17:58:16 -0800 (PST) Received: from postal.iol.unh.edu (postal.iol.unh.edu. [132.177.123.84]) by smtp-relay.gmail.com with ESMTPS id 8926c6da1cb9f-4eccf9d56e2sm157210173.21.2025.02.06.17.58.16 (version=TLS1_2 cipher=ECDHE-ECDSA-AES128-GCM-SHA256 bits=128/128); Thu, 06 Feb 2025 17:58:16 -0800 (PST) X-Relaying-Domain: iol.unh.edu Date: Thu, 06 Feb 2025 17:58:16 -0800 (PST) Message-ID: <67a568b8.050a0220.273c5b.89e2SMTPIN_ADDED_MISSING@mx.google.com> Received: from [172.21.0.5] (unknown [172.18.0.240]) by postal.iol.unh.edu (Postfix) with ESMTP id 0DEF96052471; Thu, 6 Feb 2025 20:58:16 -0500 (EST) Subject: |SUCCESS| [GIT MASTER] 32c18e7364e30a8e43cc7cc6709a7ce606fa285e From: dpdklab@iol.unh.edu To: Test Report Cc: dpdk-test-reports@iol.unh.edu, Jerin Jacob Content-Type: text/plain X-BeenThere: test-report@dpdk.org X-Mailman-Version: 2.1.29 Precedence: list List-Id: automatic DPDK test reports List-Unsubscribe: , List-Archive: List-Post: List-Help: List-Subscribe: , Errors-To: test-report-bounces@dpdk.org _Testing PASS_ Branch: dpdk-next-eventdev 32c18e7364e30a8e43cc7cc6709a7ce606fa285e --> testing pass Upstream job id: Generic-DPDK-Compile-Meson#358699 Test environment and result as below: +---------------------+--------------------+-------------------+-------------------------+------------------+-------------------+ | Environment | dpdk_meson_compile | dpdk_msvc_compile | dpdk_llvm_clang_compile | dpdk_compile_ovs | dpdk_compile_spdk | +=====================+====================+===================+=========================+==================+===================+ | FreeBSD 13.4 | PASS | SKIPPED | SKIPPED | SKIPPED | SKIPPED | +---------------------+--------------------+-------------------+-------------------------+------------------+-------------------+ | FreeBSD 14.2 | PASS | SKIPPED | SKIPPED | SKIPPED | SKIPPED | +---------------------+--------------------+-------------------+-------------------------+------------------+-------------------+ | CentOS Stream 9 | PASS | SKIPPED | SKIPPED | PASS | PASS | +---------------------+--------------------+-------------------+-------------------------+------------------+-------------------+ | Debian Bullseye | PASS | SKIPPED | SKIPPED | PASS | PASS | +---------------------+--------------------+-------------------+-------------------------+------------------+-------------------+ | Debian 12 | PASS | SKIPPED | SKIPPED | PASS | PASS | +---------------------+--------------------+-------------------+-------------------------+------------------+-------------------+ | Fedora 40 (Clang) | PASS | SKIPPED | SKIPPED | PASS | PASS | +---------------------+--------------------+-------------------+-------------------------+------------------+-------------------+ | Fedora 40 | PASS | SKIPPED | SKIPPED | PASS | PASS | +---------------------+--------------------+-------------------+-------------------------+------------------+-------------------+ | Fedora 41 (Clang) | PASS | SKIPPED | SKIPPED | PASS | PASS | +---------------------+--------------------+-------------------+-------------------------+------------------+-------------------+ | Fedora 41 | PASS | SKIPPED | SKIPPED | PASS | PASS | +---------------------+--------------------+-------------------+-------------------------+------------------+-------------------+ | openSUSE Leap 15 | PASS | SKIPPED | SKIPPED | SKIPPED | SKIPPED | +---------------------+--------------------+-------------------+-------------------------+------------------+-------------------+ | RHEL9 | PASS | SKIPPED | SKIPPED | PASS | SKIPPED | +---------------------+--------------------+-------------------+-------------------------+------------------+-------------------+ | Ubuntu 20.04 | PASS | SKIPPED | SKIPPED | SKIPPED | SKIPPED | +---------------------+--------------------+-------------------+-------------------------+------------------+-------------------+ | Ubuntu 22.04 | PASS | SKIPPED | SKIPPED | PASS | PASS | +---------------------+--------------------+-------------------+-------------------------+------------------+-------------------+ | Ubuntu 24.04 | PASS | SKIPPED | SKIPPED | PASS | PASS | +---------------------+--------------------+-------------------+-------------------------+------------------+-------------------+ | RHEL8 | PASS | SKIPPED | SKIPPED | PASS | SKIPPED | +---------------------+--------------------+-------------------+-------------------------+------------------+-------------------+ | Alpine | PASS | SKIPPED | SKIPPED | PASS | SKIPPED | +---------------------+--------------------+-------------------+-------------------------+------------------+-------------------+ | Windows Server 2022 | SKIPPED | PASS | PASS | SKIPPED | SKIPPED | +---------------------+--------------------+-------------------+-------------------------+------------------+-------------------+ FreeBSD 13.4 Kernel: 13.4-RELEASE-p1 Compiler: clang 18.1.6 FreeBSD 14.2 Kernel: 14.2-RELEASE Compiler: clang 18.1.6 CentOS Stream 9 Kernel: Depends on container host Compiler: gcc 11.5.0 20240719 (Red Hat 11.5.0-2) Debian Bullseye Kernel: Depends on container host Compiler: gcc (Debian 10.2.1-6) 10.2.1 20210110 Debian 12 Kernel: Depends on container host Compiler: gcc (Debian 12.2.0-14) 12.2.0 Fedora 40 (Clang) Kernel: Depends on container host Compiler: clang 18.1.8 (Fedora 18.1.8-1.fc40) Fedora 40 Kernel: Depends on container host Compiler: gcc 14.2.1 20240912 (Red Hat 14.2.1-3) Fedora 41 (Clang) Kernel: Depends on container host Compiler: clang 19.1.5 (Fedora 19.1.5-1.fc41) Fedora 41 Kernel: Depends on container host Compiler: gcc 14.2.1 20240912 (Red Hat 14.2.1-3) openSUSE Leap 15 Kernel: Depends on container host Compiler: gcc (SUSE Linux) 7.5.0 RHEL9 Kernel: Depends on container host Compiler: gcc 11.5.0 20240719 (Red Hat 11.5.0-2) Ubuntu 20.04 Kernel: Depends on container host Compiler: gcc (Ubuntu 9.4.0-1ubuntu1~20.04.2) 9.4.0 Ubuntu 22.04 Kernel: Depends on container host Compiler: gcc (Ubuntu 11.4.0-1ubuntu1~22.04) 11.4.0 Ubuntu 24.04 Kernel: Depends on container host Compiler: gcc (Ubuntu 13.3.0-6ubuntu2~24.04) 13.3.0 RHEL8 Kernel: Depends on container host Compiler: gcc 8.5.0 20210514 (Red Hat 8.5.0-22) Alpine Kernel: Depends on container host Compiler: gcc (Alpine 14.2.0) 14.2.0 Windows Server 2022 Kernel: 10.0.20348.2031 Compiler: clang 15.0.7, gcc 14.1.0 (MinGW), and MSVC VS 19.39.33521 To view detailed results, visit: https://lab.dpdk.org/results/dashboard/tarballs/32475/ UNH-IOL DPDK Community Lab To manage your email subscriptions, visit: https://lab.dpdk.org/results/dashboard/preferences/subscriptions/