From mboxrd@z Thu Jan 1 00:00:00 1970 Return-Path: Received: from mails.dpdk.org (mails.dpdk.org [217.70.189.124]) by inbox.dpdk.org (Postfix) with ESMTP id A16D3461B4 for ; Fri, 7 Feb 2025 03:09:29 +0100 (CET) Received: from mails.dpdk.org (localhost [127.0.0.1]) by mails.dpdk.org (Postfix) with ESMTP id 9C93D402D5; Fri, 7 Feb 2025 03:09:29 +0100 (CET) Received: from mail-yb1-f225.google.com (mail-yb1-f225.google.com [209.85.219.225]) by mails.dpdk.org (Postfix) with ESMTP id 1D7FD402A7 for ; Fri, 7 Feb 2025 03:09:28 +0100 (CET) Received: by mail-yb1-f225.google.com with SMTP id 3f1490d57ef6-e5b296611d1so2079351276.1 for ; Thu, 06 Feb 2025 18:09:28 -0800 (PST) DKIM-Signature: v=1; a=rsa-sha256; c=relaxed/relaxed; d=iol.unh.edu; s=unh-iol; t=1738894167; x=1739498967; darn=dpdk.org; h=references:in-reply-to:cc:to:from:subject:message-id:date:from:to :cc:subject:date:message-id:reply-to; bh=4UfxSnhShadQWCBsHOu4vugl/d+hnB1U7mBFlPm6quI=; b=NMIYpdqdySJjMQ9hix1k7/FL2TDdEvA/8/9CJwn2c/1xmfCOeFwGtgtQhLQEsDc3rC hEFTXPiWF9e5hhO14n28swj7q9QT/fqJa6a4yydlTNJhNgL742ZACsKGzLl7MpoM9s44 PD77bhdgr2OUbSevfXDkREx28YUoHXXtWSd9Y= X-Google-DKIM-Signature: v=1; a=rsa-sha256; c=relaxed/relaxed; d=1e100.net; s=20230601; t=1738894167; x=1739498967; h=references:in-reply-to:cc:to:from:subject:message-id:date :x-gm-message-state:from:to:cc:subject:date:message-id:reply-to; bh=4UfxSnhShadQWCBsHOu4vugl/d+hnB1U7mBFlPm6quI=; b=EMgGIjQoWmUHPC6wT46n9k7vBzZilgq4Y1WbWOLeAJDsW1zhwHGgeL6Dyty3HWA19y Ej/wMjBc1HTMqpokqAjyzSycHmlqyOihOeiPKXTG+J6DEgoew65nfgvdYYvDaODLJQGx RZFg0wKd5wVIhejMP28Sn8pwn+BD2EdAWuGmBnmlLcv9t/cz5Ad8EkvxsbcTbFdGr5zI 72mFxxD4yhVRfBkLnfnsAXRMssFBYLc7ccszeJz5Iv+K7J9t7Ja3kEAczCGf2Sho4esg Ep5JxACL3IzQCRKeTX4HiM1sTibVBLRgYM6fzoo1dJln/HPeYRC0JFVjaBjieS90C7nR HPtA== X-Gm-Message-State: AOJu0YxHBsrO0Je4FPQBoEaSuEgKqSe8PJMVxvOTEVfPfx/ruJK4Sijh zwcRqOkzhcI7Psh3/WcfVABkUQHr5dxji66sqKIYNm6xLnwHzorB2ujyUa0KpeRnMeFdRdq8vd9 PG02JhP5nrG8h55O4paw+CtDLH8pHAJzqphsJOhiC X-Gm-Gg: ASbGncux6DQh1cGY6uQgxap2XFs3f8n4NXpFlYKqDQedCS9yurQTDTfRugL0GaiRdB7 Qipwb1PAKYkqUmVSNppifER6CwVXpheO2CPPcgvOJG0NQBjZ5DzNr7rGtPl2ppAEm+cmqsU0+oW n1zqrpIzH4RVGevGxK1sxUHvn4O5LQvReztyTVXJgoDUWDACsmeAqChs8XwVWjvK9vN02Il12aS 305PVlqUAMBJQCNTgiOKEEE3MiIKaay3KwpleRZ/asWU2N/biOJH9HqmR3nF7TKcW437M5VEowr go/UU6Dps1J0t8B0AkphmSsUtYfOHg== X-Google-Smtp-Source: AGHT+IGZsE1nZdLSHBhpLaEmXfWpNd+4KJKtEGtQUmOymFDF7J+GFhqtpW0b4NIEEftcFcCF9ZDC3SaaPB2S X-Received: by 2002:a05:6902:18c4:b0:e58:cb:70f0 with SMTP id 3f1490d57ef6-e5b46b9ba03mr1187045276.6.1738894167434; Thu, 06 Feb 2025 18:09:27 -0800 (PST) Received: from postal.iol.unh.edu (postal.iol.unh.edu. [132.177.123.84]) by smtp-relay.gmail.com with ESMTPS id 3f1490d57ef6-e5b3a433c2bsm130337276.22.2025.02.06.18.09.27 (version=TLS1_2 cipher=ECDHE-ECDSA-AES128-GCM-SHA256 bits=128/128); Thu, 06 Feb 2025 18:09:27 -0800 (PST) X-Relaying-Domain: iol.unh.edu Date: Thu, 06 Feb 2025 18:09:27 -0800 (PST) Message-ID: <67a56b57.250a0220.237e0.789bSMTPIN_ADDED_MISSING@mx.google.com> Received: from [172.21.0.5] (unknown [172.18.0.240]) by postal.iol.unh.edu (Postfix) with ESMTP id D92EB6052472; Thu, 6 Feb 2025 21:09:26 -0500 (EST) Subject: |SUCCESS| pw150970 [PATCH] [v5] eal: define __SIZEOF_LONG__ when usi From: dpdklab@iol.unh.edu To: Test Report Cc: dpdk-test-reports@iol.unh.edu In-Reply-To: <1738771937-18083-1-git-send-email-andremue@linux.microsoft.com> References: <1738771937-18083-1-git-send-email-andremue@linux.microsoft.com> Content-Type: text/plain X-BeenThere: test-report@dpdk.org X-Mailman-Version: 2.1.29 Precedence: list List-Id: automatic DPDK test reports List-Unsubscribe: , List-Archive: List-Post: List-Help: List-Subscribe: , Errors-To: test-report-bounces@dpdk.org Test-Label: iol-sample-apps-testing Test-Status: SUCCESS http://dpdk.org/patch/150970 _Testing PASS_ Submitter: Andre Muezerie Date: Wednesday, February 05 2025 16:12:17 DPDK git baseline: Repo:dpdk Branch: master CommitID:32c18e7364e30a8e43cc7cc6709a7ce606fa285e 150970 --> testing pass Upstream job id: ACVP-FIPS-testing#8800 Test environment and result as below: +--------------------+----------------------+----------------------+ | Environment | compressdev_zlib_pmd | dpdk_fips_validation | +====================+======================+======================+ | Ubuntu 22.04 (ARM) | PASS | SKIPPED | +--------------------+----------------------+----------------------+ | Ubuntu 22.04 | PASS | SKIPPED | +--------------------+----------------------+----------------------+ | Ubuntu 20.04 | SKIPPED | PASS | +--------------------+----------------------+----------------------+ Ubuntu 22.04 (ARM) Kernel: 5.15.0-97-generic Compiler: gcc gcc (Ubuntu 11.4.0-1ubuntu1~22.04) 11.4.0 Ubuntu 22.04 Kernel: 5.15.0-100-generic Compiler: gcc gcc (Ubuntu 11.4.0-1ubuntu1~22.04) 11.4.0 Ubuntu 20.04 Kernel: Depends on container host Compiler: gcc (Ubuntu 9.4.0-1ubuntu1~20.04.2) 9.4.0 To view detailed results, visit: https://lab.dpdk.org/results/dashboard/patchsets/32498/ UNH-IOL DPDK Community Lab To manage your email subscriptions, visit: https://lab.dpdk.org/results/dashboard/preferences/subscriptions/