From mboxrd@z Thu Jan 1 00:00:00 1970 Return-Path: Received: from mails.dpdk.org (mails.dpdk.org [217.70.189.124]) by inbox.dpdk.org (Postfix) with ESMTP id 2B1D7461B4 for ; Fri, 7 Feb 2025 03:33:01 +0100 (CET) Received: from mails.dpdk.org (localhost [127.0.0.1]) by mails.dpdk.org (Postfix) with ESMTP id 12B2D402D5; Fri, 7 Feb 2025 03:33:01 +0100 (CET) Received: from mail-pl1-f226.google.com (mail-pl1-f226.google.com [209.85.214.226]) by mails.dpdk.org (Postfix) with ESMTP id 11F62402A7 for ; Fri, 7 Feb 2025 03:33:00 +0100 (CET) Received: by mail-pl1-f226.google.com with SMTP id d9443c01a7336-21f5660c2fdso669845ad.2 for ; Thu, 06 Feb 2025 18:32:59 -0800 (PST) DKIM-Signature: v=1; a=rsa-sha256; c=relaxed/relaxed; d=iol.unh.edu; s=unh-iol; t=1738895579; x=1739500379; darn=dpdk.org; h=references:in-reply-to:cc:to:from:subject:message-id:date:from:to :cc:subject:date:message-id:reply-to; bh=nnJDSP4IZ2CTYuAsNlRQgNtd/zZZqMBQowBdKL4dYBk=; b=PP/lEqJCv4jzWm5LRsU5NM8hGRZ3cs8wgKKOqXyS6NzmiR1J2urguxm6hkKMhM8vwA xnpztXKNMHW07pZTT/tNUTdAk0+YQ6/ywtpmL9X8ZWbeHUkPzHvgOxDX+KSyBaARueKy YiI4GysmMSIwjTo6zNK73CAZUD8GiwoPfiG08= X-Google-DKIM-Signature: v=1; a=rsa-sha256; c=relaxed/relaxed; d=1e100.net; s=20230601; t=1738895579; x=1739500379; h=references:in-reply-to:cc:to:from:subject:message-id:date :x-gm-message-state:from:to:cc:subject:date:message-id:reply-to; bh=nnJDSP4IZ2CTYuAsNlRQgNtd/zZZqMBQowBdKL4dYBk=; b=oelgrED6hjKtWVKl5/rYEHIzn+iwN0dWRz2Tvwe1y9SVt30T1U6+mDJFrUztM/Yjwi 1ONL2lu4cujRnBb7RZOSe+Bb33gMye5eT1MbnSd9yTTjjz628BThN/ijbAN51XukO0tl rFywKDEV/ocw3axrBKvRU406YE1kzKE6yaOFbiz8gZ5IxnDJjxjsPN1Qb9psKpMJv3a8 9SGslA+y7eMlZ7zsX8FWyPgUS/IMIUhN5wHSXJ1aGJkOHYBChkTN1Qe9Syorn/CuPvHY OAuGOuTykchCOXVNf7ZfGq59ml+sGe9h1ro2mcxmSGgzItsM9b9NXdcTDQSLaKri/9fR IEew== X-Gm-Message-State: AOJu0YydBMy8c+xs1WtI/CaZRDeDEwFACBiCGSuZ0PRTq0VJlZaR9VdY 4jfIvouDPfPx/1P1sIdp7wRV1jpVINHn8d3BBEX47kqYnG5LfK0ZhZPgCv7kKe4bu0K7+BqJy4u csdGCD54VkKVYnriqKBdA1zKbwofT1ES7t5gfjXHP X-Gm-Gg: ASbGncs0FWwG9zkys9OtU8MMbNJ2/FkdsUyYR4+8j6rW6scxKrnaR9284JmXB+iu8uw DhbNDLcurkSEPEEZL1URnS2lwsK2WJQgpNW8k/yFvwvXsyNbw9ywo1C43/6iLTvEv79G4R7wIG4 p9RqGcjV0peQrP0h6NlqyZwZB83L3mw/vnKyiR4lRgeQuu21z5K4vsiGTIYKiSZvJDn/oM0evgl 2Bt6TCqZB3iAEzY92WsLviSmKGLYpJePs9GcUV8molbrR4KPlWWgnPXth0sd1aKrbJCxKOxHYkl dbokdW4eg8nOtzi3KAxxBGV4yaUcEg== X-Google-Smtp-Source: AGHT+IGRPyhJKVCRZKgsl98z760QIfWt7N5TF8s2nbttEWlIKgcuxj1saFpxhdsPbtcGacNh0NbHU6NH+JOj X-Received: by 2002:a05:6a00:c86:b0:725:e73c:c415 with SMTP id d2e1a72fcca58-7305d505ad8mr2806219b3a.18.1738895579086; Thu, 06 Feb 2025 18:32:59 -0800 (PST) Received: from postal.iol.unh.edu (postal.iol.unh.edu. [132.177.123.84]) by smtp-relay.gmail.com with ESMTPS id d2e1a72fcca58-73048ad3bd4sm119231b3a.6.2025.02.06.18.32.58 (version=TLS1_2 cipher=ECDHE-ECDSA-AES128-GCM-SHA256 bits=128/128); Thu, 06 Feb 2025 18:32:59 -0800 (PST) X-Relaying-Domain: iol.unh.edu Date: Thu, 06 Feb 2025 18:32:59 -0800 (PST) Message-ID: <67a570db.a70a0220.dc432.6701SMTPIN_ADDED_MISSING@mx.google.com> Received: from [172.21.0.5] (unknown [172.18.0.240]) by postal.iol.unh.edu (Postfix) with ESMTP id BF36F6052471; Thu, 6 Feb 2025 21:32:57 -0500 (EST) Subject: |SUCCESS| pw151071 [PATCH] [v3] net: add thread-safe crc api From: dpdklab@iol.unh.edu To: Test Report Cc: dpdk-test-reports@iol.unh.edu In-Reply-To: <20250206203844.3874038-1-arkadiuszx.kusztal@intel.com> References: <20250206203844.3874038-1-arkadiuszx.kusztal@intel.com> Content-Type: text/plain X-BeenThere: test-report@dpdk.org X-Mailman-Version: 2.1.29 Precedence: list List-Id: automatic DPDK test reports List-Unsubscribe: , List-Archive: List-Post: List-Help: List-Subscribe: , Errors-To: test-report-bounces@dpdk.org Test-Label: iol-unit-amd64-testing Test-Status: SUCCESS http://dpdk.org/patch/151071 _Testing PASS_ Submitter: Kusztal, ArkadiuszX Date: Thursday, February 06 2025 20:38:44 DPDK git baseline: Repo:dpdk Branch: master CommitID:7125636162d67b1c40ba6802a3ff4466d125d243 151071 --> testing pass Upstream job id: Generic-Unit-Test-DPDK#312497 Test environment and result as below: +---------------------+----------------+ | Environment | dpdk_unit_test | +=====================+================+ | Ubuntu 20.04 | PASS | +---------------------+----------------+ | Fedora 41 | PASS | +---------------------+----------------+ | RHEL8 | PASS | +---------------------+----------------+ | Fedora 40 (Clang) | PASS | +---------------------+----------------+ | Fedora 40 | PASS | +---------------------+----------------+ | Debian Bullseye | PASS | +---------------------+----------------+ | Ubuntu 22.04 | PASS | +---------------------+----------------+ | Debian 12 | PASS | +---------------------+----------------+ | CentOS Stream 9 | PASS | +---------------------+----------------+ | Fedora 41 (Clang) | PASS | +---------------------+----------------+ | RHEL9 | PASS | +---------------------+----------------+ | Ubuntu 24.04 | PASS | +---------------------+----------------+ | Windows Server 2022 | PASS | +---------------------+----------------+ Ubuntu 20.04 Kernel: Depends on container host Compiler: gcc (Ubuntu 9.4.0-1ubuntu1~20.04.2) 9.4.0 Fedora 41 Kernel: Depends on container host Compiler: gcc 14.2.1 20240912 (Red Hat 14.2.1-3) RHEL8 Kernel: Depends on container host Compiler: gcc 8.5.0 20210514 (Red Hat 8.5.0-22) Fedora 40 (Clang) Kernel: Depends on container host Compiler: clang 18.1.8 (Fedora 18.1.8-1.fc40) Fedora 40 Kernel: Depends on container host Compiler: gcc 14.2.1 20240912 (Red Hat 14.2.1-3) Debian Bullseye Kernel: Depends on container host Compiler: gcc (Debian 10.2.1-6) 10.2.1 20210110 Ubuntu 22.04 Kernel: Depends on container host Compiler: gcc (Ubuntu 11.4.0-1ubuntu1~22.04) 11.4.0 Debian 12 Kernel: Depends on container host Compiler: gcc (Debian 12.2.0-14) 12.2.0 CentOS Stream 9 Kernel: Depends on container host Compiler: gcc 11.5.0 20240719 (Red Hat 11.5.0-2) Fedora 41 (Clang) Kernel: Depends on container host Compiler: clang 19.1.5 (Fedora 19.1.5-1.fc41) RHEL9 Kernel: Depends on container host Compiler: gcc 11.5.0 20240719 (Red Hat 11.5.0-2) Ubuntu 24.04 Kernel: Depends on container host Compiler: gcc (Ubuntu 13.3.0-6ubuntu2~24.04) 13.3.0 Windows Server 2022 Kernel: 10.0.20348.2031 Compiler: clang 15.0.7, gcc 14.1.0 (MinGW), and MSVC VS 19.39.33521 To view detailed results, visit: https://lab.dpdk.org/results/dashboard/patchsets/32514/ UNH-IOL DPDK Community Lab To manage your email subscriptions, visit: https://lab.dpdk.org/results/dashboard/preferences/subscriptions/