From mboxrd@z Thu Jan 1 00:00:00 1970 Return-Path: Received: from mails.dpdk.org (mails.dpdk.org [217.70.189.124]) by inbox.dpdk.org (Postfix) with ESMTP id 6792A461B4 for ; Fri, 7 Feb 2025 03:43:46 +0100 (CET) Received: from mails.dpdk.org (localhost [127.0.0.1]) by mails.dpdk.org (Postfix) with ESMTP id 42493402D5; Fri, 7 Feb 2025 03:43:46 +0100 (CET) Received: from mail-pl1-f228.google.com (mail-pl1-f228.google.com [209.85.214.228]) by mails.dpdk.org (Postfix) with ESMTP id 4769F402A7 for ; Fri, 7 Feb 2025 03:43:45 +0100 (CET) Received: by mail-pl1-f228.google.com with SMTP id d9443c01a7336-21c2f1b610dso39284835ad.0 for ; Thu, 06 Feb 2025 18:43:45 -0800 (PST) DKIM-Signature: v=1; a=rsa-sha256; c=relaxed/relaxed; d=iol.unh.edu; s=unh-iol; t=1738896224; x=1739501024; darn=dpdk.org; h=references:in-reply-to:cc:to:from:subject:message-id:date:from:to :cc:subject:date:message-id:reply-to; bh=iw0JXqVsYlFyOCEuUTWH70jJJvHhANTlr0dys7spRvw=; b=LpFC2BVHwusbsmhSe7DMzsm4GOc61AOt7s0rXcej8VEgPau88ACXqEe1TVU3Tfd6Kj JcB9ymKPgbMj4co0bIq/NTtGA8LBjcOQQGbu5lXYH2kq5eMNQE04I6CZ6IAUyCFptAXf B+DsVvURN7FvFrY0c8T8YbRs13OCRZQuCI8hs= X-Google-DKIM-Signature: v=1; a=rsa-sha256; c=relaxed/relaxed; d=1e100.net; s=20230601; t=1738896224; x=1739501024; h=references:in-reply-to:cc:to:from:subject:message-id:date :x-gm-message-state:from:to:cc:subject:date:message-id:reply-to; bh=iw0JXqVsYlFyOCEuUTWH70jJJvHhANTlr0dys7spRvw=; b=OU8Rvc3DqfaSP3Hx7ctdj/15Pcn5YM8jOCs6hw3YGEA6z8enjsNsyi0qo5G4euqBmN aDGNW5YpaRDDhhbl2qlCtFheTC//6KzBbUikhq1A8PYDFFKZhnc292nEbCGpSJ9xjgYV JgFuAqPfbYXRZ6YNrJ5hb96bgUBbOc00wjREXx09/tVPj7C2wqbVMtwEzq2e8l7F8V0b sRvddY6EeNszWFt9CpvqZpxCUY5Jm3psUVms2DUVwnIUwYuBuzDl4RLtur02aNx2z1LV kCUm/SOVHQgQkuffwzJOXanjSahzIB/EVuSVOcq+9ZkNcucQzQr8eGkt2OMmcUi9F8FH MKxA== X-Gm-Message-State: AOJu0YwWX5nbQld1rTaW4/uoGNiOJ88bIiVKZw9UsSCwLHqaZwuY9BZs aEwbWwvIju8Iwf+HvQCii2eWINWNfLIsdugTRUOKcTtpEEVYMQYmAcwBKhB+g7Ek8wdqTZT8I4i gG99Fys0nIR+SXUCEpjYB2A6Ae0v3pJWOTPmAuuPyTe43W/bzHvCHsSmA X-Gm-Gg: ASbGncvcd7ahEFCtYvNE7F18vri6jMXOYlfHMveJ3Xi/l0+sBesIZhHq9hDewrIrj6G 8n0KoI2cQL344Td/EJKzkPYqPB9dAJzqqkbYstuHyMNKKrJkIwEwdz5Rcwz2pBxxIAheTm3cCJV R0FtmI4inCZmVpU3D4lJGUbGpdPVBus6RzMRK9EGfMbyQ9481gpCKKDn+AhdvFveqFwBIkZEhZD zu+5ggNyGw18877PdArLxRLQCVMa++D2RquYKSZUeXO6ph952TuRS5xwjaG8eyQMDA9oNVn+wxw Mromlv6sERnvLm0BpH+CT9Z8J4ND4/Ax5PrULDGyQg== X-Google-Smtp-Source: AGHT+IEAwPbhHnMfy/vNrVmw8tVTYQad9yoUKDS0TgnN4D2lp36DxiG9aRMWYQL8tWH/uBhn+907VURwp5Ri X-Received: by 2002:a17:902:ce90:b0:216:2bd7:1c4a with SMTP id d9443c01a7336-21f4e7248a8mr22748535ad.26.1738896224277; Thu, 06 Feb 2025 18:43:44 -0800 (PST) Received: from postal.iol.unh.edu (postal.iol.unh.edu. [2606:4100:3880:1234::84]) by smtp-relay.gmail.com with ESMTPS id 98e67ed59e1d1-2fa09a56e24sm154426a91.7.2025.02.06.18.43.44 (version=TLS1_2 cipher=ECDHE-ECDSA-AES128-GCM-SHA256 bits=128/128); Thu, 06 Feb 2025 18:43:44 -0800 (PST) X-Relaying-Domain: iol.unh.edu Date: Thu, 06 Feb 2025 18:43:44 -0800 (PST) Message-ID: <67a57360.170a0220.2279d4.83a1SMTPIN_ADDED_MISSING@mx.google.com> Received: from [172.17.0.4] (unknown [172.18.0.217]) by postal.iol.unh.edu (Postfix) with ESMTP id 6E1656052471; Thu, 6 Feb 2025 21:43:43 -0500 (EST) Subject: |SUCCESS| pw151071 [PATCH] [v3] net: add thread-safe crc api From: dpdklab@iol.unh.edu To: Test Report Cc: dpdk-test-reports@iol.unh.edu In-Reply-To: <20250206203844.3874038-1-arkadiuszx.kusztal@intel.com> References: <20250206203844.3874038-1-arkadiuszx.kusztal@intel.com> Content-Type: text/plain X-BeenThere: test-report@dpdk.org X-Mailman-Version: 2.1.29 Precedence: list List-Id: automatic DPDK test reports List-Unsubscribe: , List-Archive: List-Post: List-Help: List-Subscribe: , Errors-To: test-report-bounces@dpdk.org Test-Label: iol-abi-testing Test-Status: SUCCESS http://dpdk.org/patch/151071 _Testing PASS_ Submitter: Kusztal, ArkadiuszX Date: Thursday, February 06 2025 20:38:44 DPDK git baseline: Repo:dpdk Branch: master CommitID:7125636162d67b1c40ba6802a3ff4466d125d243 151071 --> testing pass Upstream job id: Generic-DPDK-Compile-ABI#115144 Test environment and result as below: +-------------------+----------+ | Environment | abi_test | +===================+==========+ | CentOS Stream 9 | PASS | +-------------------+----------+ | Debian Bullseye | PASS | +-------------------+----------+ | Fedora 40 | PASS | +-------------------+----------+ | Debian 12 | PASS | +-------------------+----------+ | Fedora 41 (Clang) | PASS | +-------------------+----------+ | RHEL9 | PASS | +-------------------+----------+ | openSUSE Leap 15 | PASS | +-------------------+----------+ | Ubuntu 24.04 | PASS | +-------------------+----------+ | Fedora 41 | PASS | +-------------------+----------+ | Ubuntu 22.04 | PASS | +-------------------+----------+ | RHEL8 | PASS | +-------------------+----------+ | Fedora 40 (Clang) | PASS | +-------------------+----------+ CentOS Stream 9 Kernel: Depends on container host Compiler: gcc 11.5.0 20240719 (Red Hat 11.5.0-2) Debian Bullseye Kernel: Depends on container host Compiler: gcc (Debian 10.2.1-6) 10.2.1 20210110 Fedora 40 Kernel: Depends on container host Compiler: gcc 14.2.1 20240912 (Red Hat 14.2.1-3) Debian 12 Kernel: Depends on container host Compiler: gcc (Debian 12.2.0-14) 12.2.0 Fedora 41 (Clang) Kernel: Depends on container host Compiler: clang 19.1.5 (Fedora 19.1.5-1.fc41) RHEL9 Kernel: Depends on container host Compiler: gcc 11.5.0 20240719 (Red Hat 11.5.0-2) openSUSE Leap 15 Kernel: Depends on container host Compiler: gcc (SUSE Linux) 7.5.0 Ubuntu 24.04 Kernel: Depends on container host Compiler: gcc (Ubuntu 13.3.0-6ubuntu2~24.04) 13.3.0 Fedora 41 Kernel: Depends on container host Compiler: gcc 14.2.1 20240912 (Red Hat 14.2.1-3) Ubuntu 22.04 Kernel: Depends on container host Compiler: gcc (Ubuntu 11.4.0-1ubuntu1~22.04) 11.4.0 RHEL8 Kernel: Depends on container host Compiler: gcc 8.5.0 20210514 (Red Hat 8.5.0-22) Fedora 40 (Clang) Kernel: Depends on container host Compiler: clang 18.1.8 (Fedora 18.1.8-1.fc40) To view detailed results, visit: https://lab.dpdk.org/results/dashboard/patchsets/32514/ UNH-IOL DPDK Community Lab To manage your email subscriptions, visit: https://lab.dpdk.org/results/dashboard/preferences/subscriptions/