From mboxrd@z Thu Jan 1 00:00:00 1970 Return-Path: Received: from mails.dpdk.org (mails.dpdk.org [217.70.189.124]) by inbox.dpdk.org (Postfix) with ESMTP id E5AC0461B4 for ; Fri, 7 Feb 2025 03:49:03 +0100 (CET) Received: from mails.dpdk.org (localhost [127.0.0.1]) by mails.dpdk.org (Postfix) with ESMTP id CA716402D5; Fri, 7 Feb 2025 03:49:03 +0100 (CET) Received: from mail-ot1-f97.google.com (mail-ot1-f97.google.com [209.85.210.97]) by mails.dpdk.org (Postfix) with ESMTP id 24F4B402A7 for ; Fri, 7 Feb 2025 03:49:02 +0100 (CET) Received: by mail-ot1-f97.google.com with SMTP id 46e09a7af769-724a5d0427fso1175984a34.1 for ; Thu, 06 Feb 2025 18:49:02 -0800 (PST) DKIM-Signature: v=1; a=rsa-sha256; c=relaxed/relaxed; d=iol.unh.edu; s=unh-iol; t=1738896541; x=1739501341; darn=dpdk.org; h=cc:to:from:subject:message-id:date:from:to:cc:subject:date :message-id:reply-to; bh=XJkaW/fZAbXcPMJ+opacn1rHAHFrLuJcdlQBglmiwm0=; b=ZtCKffSMgqVJX29nHSzNwJYrtp6+/R9hBUK6c+gXG+WFykUpPBWmVTeiflmGC9xjtM IzeiZcT6elKHwWAUd4mH7TFBo5LSQPhGHy+4Tu6RKIibffigB0xS67vKfJ8QCr9B2PQV w3ltfwTgM0PK/+Ry/1fNWbKwWJ8p6kBM3cn8Y= X-Google-DKIM-Signature: v=1; a=rsa-sha256; c=relaxed/relaxed; d=1e100.net; s=20230601; t=1738896541; x=1739501341; h=cc:to:from:subject:message-id:date:x-gm-message-state:from:to:cc :subject:date:message-id:reply-to; bh=XJkaW/fZAbXcPMJ+opacn1rHAHFrLuJcdlQBglmiwm0=; b=pXw5WdU0ncZp939vzhcK4+b3AmMucSFTsqAGlHDLssxNzuaIk8srVCr0UUw/L6F6jf 2PDZ6bj/om9rfyo4JVm+YZl3XDMS4htXyovbkdOWVlrYwEpiFobEc+VVRNa2xw4hiFI5 XYcyagKxA6Fp89MGDR/YtZ2BYcyFL3QhXURnd4UJUrVgLP3v9D7ASO+MKB1hs1n+zGjW WHoJAfZiY1r0TBSCZ45UBAb1PQHBdvhyiR+/YdbXcGq9PzZlLhgGrFUsvLlK3uBWTLFY RoEueCQRHzBP8+faZFKTFJf/f+zMKISvnYhbad4m7j9S/1vUTeylkDB6bwXqRsjDHBFj BJ/A== X-Gm-Message-State: AOJu0YwnzbSL8O97ft0wwbWGKDpuAuNyQt10IAePLxI7xQyt/pnfLGO4 pDAfRVETlzSQPzQa4qyM+lmWcrWg57O4oQP42RXnUWAAOWpT2+IWpYQeiTkpEh9XCnue5Paiv7p DvxIDLxxtc9Ygv4quqnaEX7ckg3grDI88k+NwRwIy X-Gm-Gg: ASbGnctdZF9pdpj3C1l/2eLH7LC/QWYS9lp3BuzHyW6zH8P7KoEilMFtzL7rcM+vGao DgOCpqu+HIApM9XVukPHSsI0kXAeffYOI/wX4h+kQk/ScYHRG1n3fwlBrLn67iEcFh3cOA4kplD xwQwpXoU7NGWvlxbJTIHiozWJ9AtRIUkYKwKtw9Kz/n37vzV6MTpcTAIUZu0J+Mz8y9GN+Msjkz gAgH8VQM9RJoyXeyAJZ854WIW2dT+GsYw3WsDfly5c/drauWQq6a9njqbhxVSyl0vTaYG68nBZr zT+wn3kNaqa7HdwEiajn2K2zVC/k0g== X-Google-Smtp-Source: AGHT+IFBKz9shQo/SwXkZcWuZoEWULAT75zuGYzir8RGPO7uEZKfj4k0w/Wq6PRkel/1yg5dI/KuZJMtzEj2 X-Received: by 2002:a05:6830:6010:b0:71e:904:6aed with SMTP id 46e09a7af769-726b87db5e6mr1179087a34.10.1738896541311; Thu, 06 Feb 2025 18:49:01 -0800 (PST) Received: from postal.iol.unh.edu (postal.iol.unh.edu. [132.177.123.84]) by smtp-relay.gmail.com with ESMTPS id 586e51a60fabf-2b8261e70b9sm127336fac.29.2025.02.06.18.49.01 (version=TLS1_2 cipher=ECDHE-ECDSA-AES128-GCM-SHA256 bits=128/128); Thu, 06 Feb 2025 18:49:01 -0800 (PST) X-Relaying-Domain: iol.unh.edu Date: Thu, 06 Feb 2025 18:49:01 -0800 (PST) Message-ID: <67a5749d.050a0220.1a09e0.6731SMTPIN_ADDED_MISSING@mx.google.com> Received: from [172.17.0.6] (unknown [172.18.0.217]) by postal.iol.unh.edu (Postfix) with ESMTP id B91B56052471; Thu, 6 Feb 2025 21:49:00 -0500 (EST) Subject: |SUCCESS| [GIT MASTER] 7125636162d67b1c40ba6802a3ff4466d125d243 From: dpdklab@iol.unh.edu To: Test Report Cc: dpdk-test-reports@iol.unh.edu, Akhil Goyal Content-Type: text/plain X-BeenThere: test-report@dpdk.org X-Mailman-Version: 2.1.29 Precedence: list List-Id: automatic DPDK test reports List-Unsubscribe: , List-Archive: List-Post: List-Help: List-Subscribe: , Errors-To: test-report-bounces@dpdk.org _Testing PASS_ Branch: dpdk-next-crypto 7125636162d67b1c40ba6802a3ff4466d125d243 --> testing pass Upstream job id: Generic-DPDK-Compile-Meson#358789 Test environment and result as below: +---------------------+--------------------+-------------------+-------------------------+----------------------+------------------+-------------------+ | Environment | dpdk_meson_compile | dpdk_msvc_compile | dpdk_llvm_clang_compile | dpdk_mingw64_compile | dpdk_compile_ovs | dpdk_compile_spdk | +=====================+====================+===================+=========================+======================+==================+===================+ | FreeBSD 13.4 | PASS | SKIPPED | SKIPPED | SKIPPED | SKIPPED | SKIPPED | +---------------------+--------------------+-------------------+-------------------------+----------------------+------------------+-------------------+ | FreeBSD 14.2 | PASS | SKIPPED | SKIPPED | SKIPPED | SKIPPED | SKIPPED | +---------------------+--------------------+-------------------+-------------------------+----------------------+------------------+-------------------+ | CentOS Stream 9 | PASS | SKIPPED | SKIPPED | SKIPPED | PASS | PASS | +---------------------+--------------------+-------------------+-------------------------+----------------------+------------------+-------------------+ | Debian Bullseye | PASS | SKIPPED | SKIPPED | SKIPPED | PASS | PASS | +---------------------+--------------------+-------------------+-------------------------+----------------------+------------------+-------------------+ | Debian 12 | PASS | SKIPPED | SKIPPED | SKIPPED | PASS | PASS | +---------------------+--------------------+-------------------+-------------------------+----------------------+------------------+-------------------+ | Fedora 40 (Clang) | PASS | SKIPPED | SKIPPED | SKIPPED | PASS | PASS | +---------------------+--------------------+-------------------+-------------------------+----------------------+------------------+-------------------+ | Fedora 40 | PASS | SKIPPED | SKIPPED | SKIPPED | PASS | PASS | +---------------------+--------------------+-------------------+-------------------------+----------------------+------------------+-------------------+ | Fedora 41 (Clang) | PASS | SKIPPED | SKIPPED | SKIPPED | PASS | PASS | +---------------------+--------------------+-------------------+-------------------------+----------------------+------------------+-------------------+ | Fedora 41 | PASS | SKIPPED | SKIPPED | SKIPPED | PASS | PASS | +---------------------+--------------------+-------------------+-------------------------+----------------------+------------------+-------------------+ | openSUSE Leap 15 | PASS | SKIPPED | SKIPPED | SKIPPED | SKIPPED | SKIPPED | +---------------------+--------------------+-------------------+-------------------------+----------------------+------------------+-------------------+ | RHEL8 | PASS | SKIPPED | SKIPPED | SKIPPED | PASS | SKIPPED | +---------------------+--------------------+-------------------+-------------------------+----------------------+------------------+-------------------+ | RHEL9 | PASS | SKIPPED | SKIPPED | SKIPPED | PASS | SKIPPED | +---------------------+--------------------+-------------------+-------------------------+----------------------+------------------+-------------------+ | Ubuntu 20.04 | PASS | SKIPPED | SKIPPED | SKIPPED | SKIPPED | SKIPPED | +---------------------+--------------------+-------------------+-------------------------+----------------------+------------------+-------------------+ | Ubuntu 22.04 | PASS | SKIPPED | SKIPPED | SKIPPED | PASS | PASS | +---------------------+--------------------+-------------------+-------------------------+----------------------+------------------+-------------------+ | Ubuntu 24.04 | PASS | SKIPPED | SKIPPED | SKIPPED | PASS | PASS | +---------------------+--------------------+-------------------+-------------------------+----------------------+------------------+-------------------+ | Alpine | PASS | SKIPPED | SKIPPED | SKIPPED | PASS | SKIPPED | +---------------------+--------------------+-------------------+-------------------------+----------------------+------------------+-------------------+ | Windows Server 2022 | SKIPPED | PASS | PASS | PASS | SKIPPED | SKIPPED | +---------------------+--------------------+-------------------+-------------------------+----------------------+------------------+-------------------+ FreeBSD 13.4 Kernel: 13.4-RELEASE-p1 Compiler: clang 18.1.6 FreeBSD 14.2 Kernel: 14.2-RELEASE Compiler: clang 18.1.6 CentOS Stream 9 Kernel: Depends on container host Compiler: gcc 11.5.0 20240719 (Red Hat 11.5.0-2) Debian Bullseye Kernel: Depends on container host Compiler: gcc (Debian 10.2.1-6) 10.2.1 20210110 Debian 12 Kernel: Depends on container host Compiler: gcc (Debian 12.2.0-14) 12.2.0 Fedora 40 (Clang) Kernel: Depends on container host Compiler: clang 18.1.8 (Fedora 18.1.8-1.fc40) Fedora 40 Kernel: Depends on container host Compiler: gcc 14.2.1 20240912 (Red Hat 14.2.1-3) Fedora 41 (Clang) Kernel: Depends on container host Compiler: clang 19.1.5 (Fedora 19.1.5-1.fc41) Fedora 41 Kernel: Depends on container host Compiler: gcc 14.2.1 20240912 (Red Hat 14.2.1-3) openSUSE Leap 15 Kernel: Depends on container host Compiler: gcc (SUSE Linux) 7.5.0 RHEL8 Kernel: Depends on container host Compiler: gcc 8.5.0 20210514 (Red Hat 8.5.0-22) RHEL9 Kernel: Depends on container host Compiler: gcc 11.5.0 20240719 (Red Hat 11.5.0-2) Ubuntu 20.04 Kernel: Depends on container host Compiler: gcc (Ubuntu 9.4.0-1ubuntu1~20.04.2) 9.4.0 Ubuntu 22.04 Kernel: Depends on container host Compiler: gcc (Ubuntu 11.4.0-1ubuntu1~22.04) 11.4.0 Ubuntu 24.04 Kernel: Depends on container host Compiler: gcc (Ubuntu 13.3.0-6ubuntu2~24.04) 13.3.0 Alpine Kernel: Depends on container host Compiler: gcc (Alpine 14.2.0) 14.2.0 Windows Server 2022 Kernel: 10.0.20348.2031 Compiler: clang 15.0.7, gcc 14.1.0 (MinGW), and MSVC VS 19.39.33521 To view detailed results, visit: https://lab.dpdk.org/results/dashboard/tarballs/32476/ UNH-IOL DPDK Community Lab To manage your email subscriptions, visit: https://lab.dpdk.org/results/dashboard/preferences/subscriptions/