From mboxrd@z Thu Jan 1 00:00:00 1970 Return-Path: Received: from mails.dpdk.org (mails.dpdk.org [217.70.189.124]) by inbox.dpdk.org (Postfix) with ESMTP id 002AC461B5 for ; Fri, 7 Feb 2025 04:07:07 +0100 (CET) Received: from mails.dpdk.org (localhost [127.0.0.1]) by mails.dpdk.org (Postfix) with ESMTP id D2E19402D5; Fri, 7 Feb 2025 04:07:07 +0100 (CET) Received: from mail-il1-f228.google.com (mail-il1-f228.google.com [209.85.166.228]) by mails.dpdk.org (Postfix) with ESMTP id A8034402A7 for ; Fri, 7 Feb 2025 04:07:06 +0100 (CET) Received: by mail-il1-f228.google.com with SMTP id e9e14a558f8ab-3ce886a2d5bso14196005ab.1 for ; Thu, 06 Feb 2025 19:07:06 -0800 (PST) DKIM-Signature: v=1; a=rsa-sha256; c=relaxed/relaxed; d=iol.unh.edu; s=unh-iol; t=1738897626; x=1739502426; darn=dpdk.org; h=references:in-reply-to:cc:to:from:subject:message-id:date:from:to :cc:subject:date:message-id:reply-to; bh=YCt6U9K3GtD4vlwvfXZW0O91/fZo7E9YD5hVw3yNMHc=; b=TxoNYn2P3oCA7L+omIaT0EkXAcmX8hYab98vzvQyhpeVehEQSzlybe51io0c06Ona4 gugJeKfCZOKy/GKfwlrishaO+o3LVQJwN8du7UiA0G2Qh8NVuDwbGQSUcMKXJwXuxjbE 7QvKIyTkpP82Goxy5mJTbcEMgXQsN3/8/WjKg= X-Google-DKIM-Signature: v=1; a=rsa-sha256; c=relaxed/relaxed; d=1e100.net; s=20230601; t=1738897626; x=1739502426; h=references:in-reply-to:cc:to:from:subject:message-id:date :x-gm-message-state:from:to:cc:subject:date:message-id:reply-to; bh=YCt6U9K3GtD4vlwvfXZW0O91/fZo7E9YD5hVw3yNMHc=; b=NWTfZHna1cZEttw3uS8O622sc2ZItGQ8sB0FTbtRQR3pf4XjdqPoD0hIyDtZ+Hxwas AQc1kCHuV7O9o2cZi7iXBSjTGEcY58E3kOCGpC1o6NF6tLPt1uySHMjgdy/pQL7TaGsC kcuIEqL0S5Brl7O+8b2FiTPoqnR7YEe/QkKaO+Xi4H/yR5qWcGS+SQ685ta1ZQ3jE9GY ZtXhONeKHkICES2chsfpsnlYOAmGBaaYlti5wAOrVLymGBY9HY6UC8tWM42+OwQrjK0H 8PXOEgPYmHFHrx+7HJOPhA0Px89s7OIW43oscrk9px+mIlmL1K6DSafM7WOntwAtee9y irkg== X-Gm-Message-State: AOJu0YwGdqqi2swDP+uwUWF7ucwCW1OElhyvJkwdMq/5eHCVYddHjLCa auBN4fjXAkj3T8u8eXWSC8J8uALcuGsvDc4iXv2u6m7b1nkpxDkmEGT5n3WZb2Lmhc0DjAb2CF5 T3TKovb6/Flv97wvJHrBkhdIWCrjOm4VB/VjYb8KdVIUJQytFQ9/WC6tB X-Gm-Gg: ASbGncuNcAYunzWxl5kEmsSBELeHW7hJXtSFwktYssrPgD7KRed7S13yTCLS5VwLXj6 a4ISjcmk6J7Kx7WtCtqQrrofsDW7degRaJpgEnI7HvaoslnqPpmVZC51F3yY6k5fKs0wbBSkRkz Exa1/mWZvemTtHPjxXHQT1zvKEPAxmZNGo62nm/0NpZyYOZHXwG2GGCXqt7wIKtEhU+9bXgqHIO QQ7jmw6H62l/TK2ygvuGcNkUgfsRIoslhcGTkq+xcFYfRze8qxTxtFiNkNUd54LhnKsMJ5xxZc2 Zz/ARr2xSXySEFdR/sjmc/+wy1pseo44z5fy0i8bWQ== X-Google-Smtp-Source: AGHT+IF8/L34dRPXkxQdw0h8R2sqc67fmOrMlrz+zW1wZiHFDi31k8kIMeob3lTZEUW1Rt7346ewixYiGzY6 X-Received: by 2002:a05:6e02:20e1:b0:3d0:123e:fbdd with SMTP id e9e14a558f8ab-3d13dee19d4mr11534465ab.11.1738897625884; Thu, 06 Feb 2025 19:07:05 -0800 (PST) Received: from postal.iol.unh.edu (postal.iol.unh.edu. [2606:4100:3880:1234::84]) by smtp-relay.gmail.com with ESMTPS id e9e14a558f8ab-3d05e8d9272sm1672545ab.1.2025.02.06.19.07.05 (version=TLS1_2 cipher=ECDHE-ECDSA-AES128-GCM-SHA256 bits=128/128); Thu, 06 Feb 2025 19:07:05 -0800 (PST) X-Relaying-Domain: iol.unh.edu Date: Thu, 06 Feb 2025 19:07:05 -0800 (PST) Message-ID: <67a578d9.050a0220.21fed0.96a9SMTPIN_ADDED_MISSING@mx.google.com> Received: from [172.21.0.5] (unknown [172.18.0.240]) by postal.iol.unh.edu (Postfix) with ESMTP id 614DF6052471; Thu, 6 Feb 2025 22:07:05 -0500 (EST) Subject: |SUCCESS| pw151008-151011 [PATCH] [v5,4/4] lib: change find device a From: dpdklab@iol.unh.edu To: Test Report Cc: dpdk-test-reports@iol.unh.edu In-Reply-To: <20250206000838.23428-5-shperetz@nvidia.com> References: <20250206000838.23428-5-shperetz@nvidia.com> Content-Type: text/plain X-BeenThere: test-report@dpdk.org X-Mailman-Version: 2.1.29 Precedence: list List-Id: automatic DPDK test reports List-Unsubscribe: , List-Archive: List-Post: List-Help: List-Subscribe: , Errors-To: test-report-bounces@dpdk.org Test-Label: iol-sample-apps-testing Test-Status: SUCCESS http://dpdk.org/patch/151011 _Testing PASS_ Submitter: Shani Peretz Date: Thursday, February 06 2025 00:08:38 DPDK git baseline: Repo:dpdk Branch: master CommitID:32c18e7364e30a8e43cc7cc6709a7ce606fa285e 151008-151011 --> testing pass Upstream job id: ACVP-FIPS-testing#8801 Test environment and result as below: +--------------------+----------------------+----------------------+ | Environment | compressdev_zlib_pmd | dpdk_fips_validation | +====================+======================+======================+ | Ubuntu 22.04 (ARM) | PASS | SKIPPED | +--------------------+----------------------+----------------------+ | Ubuntu 22.04 | PASS | SKIPPED | +--------------------+----------------------+----------------------+ | Ubuntu 20.04 | SKIPPED | PASS | +--------------------+----------------------+----------------------+ Ubuntu 22.04 (ARM) Kernel: 5.15.0-97-generic Compiler: gcc gcc (Ubuntu 11.4.0-1ubuntu1~22.04) 11.4.0 Ubuntu 22.04 Kernel: 5.15.0-100-generic Compiler: gcc gcc (Ubuntu 11.4.0-1ubuntu1~22.04) 11.4.0 Ubuntu 20.04 Kernel: Depends on container host Compiler: gcc (Ubuntu 9.4.0-1ubuntu1~20.04.2) 9.4.0 To view detailed results, visit: https://lab.dpdk.org/results/dashboard/patchsets/32506/ UNH-IOL DPDK Community Lab To manage your email subscriptions, visit: https://lab.dpdk.org/results/dashboard/preferences/subscriptions/