From: dpdklab@iol.unh.edu
To: Test Report <test-report@dpdk.org>
Cc: dpdk-test-reports@iol.unh.edu
Subject: |SUCCESS| pw151074 [PATCH] [v8] graph: mcore: optimize graph search
Date: Thu, 06 Feb 2025 19:23:29 -0800 (PST) [thread overview]
Message-ID: <67a57cb1.650a0220.1af9d2.3b70SMTPIN_ADDED_MISSING@mx.google.com> (raw)
In-Reply-To: <20250207013939.1783-1-chcchc88@163.com>
Test-Label: iol-compile-amd64-testing
Test-Status: SUCCESS
http://dpdk.org/patch/151074
_Testing PASS_
Submitter: Huichao Cai <chcchc88@163.com>
Date: Friday, February 07 2025 01:39:39
DPDK git baseline: Repo:dpdk
Branch: master
CommitID:1bf86800f7daf8d5c71a08a0776ff3b754ee6570
151074 --> testing pass
Upstream job id: Windows-Compile-DPDK-Native#26501
Test environment and result as below:
+---------------------+-------------------+--------------------+-------------------------+----------------------+
| Environment | dpdk_msvc_compile | dpdk_meson_compile | dpdk_llvm_clang_compile | dpdk_mingw64_compile |
+=====================+===================+====================+=========================+======================+
| Windows Server 2022 | PASS | SKIPPED | PASS | PASS |
+---------------------+-------------------+--------------------+-------------------------+----------------------+
| FreeBSD 13.4 | SKIPPED | PASS | SKIPPED | SKIPPED |
+---------------------+-------------------+--------------------+-------------------------+----------------------+
| FreeBSD 14.2 | SKIPPED | PASS | SKIPPED | SKIPPED |
+---------------------+-------------------+--------------------+-------------------------+----------------------+
Windows Server 2022
Kernel: 10.0.20348.2031
Compiler: clang 15.0.7, gcc 14.1.0 (MinGW), and MSVC VS 19.39.33521
FreeBSD 13.4
Kernel: 13.4-RELEASE-p1
Compiler: clang 18.1.6
FreeBSD 14.2
Kernel: 14.2-RELEASE
Compiler: clang 18.1.6
To view detailed results, visit:
https://lab.dpdk.org/results/dashboard/patchsets/32516/
UNH-IOL DPDK Community Lab
To manage your email subscriptions, visit:
https://lab.dpdk.org/results/dashboard/preferences/subscriptions/
next prev parent reply other threads:[~2025-02-07 3:23 UTC|newest]
Thread overview: 20+ messages / expand[flat|nested] mbox.gz Atom feed top
[not found] <20250207013939.1783-1-chcchc88@163.com>
2025-02-07 1:13 ` |SUCCESS| pw151074 [PATCH v8] " qemudev
2025-02-07 1:17 ` qemudev
2025-02-07 1:39 ` checkpatch
2025-02-07 2:44 ` 0-day Robot
2025-02-07 2:54 ` |SUCCESS| pw151074 [PATCH] [v8] " dpdklab
2025-02-07 2:55 ` dpdklab
2025-02-07 2:58 ` |PENDING| " dpdklab
2025-02-07 3:02 ` |SUCCESS| " dpdklab
2025-02-07 3:03 ` dpdklab
2025-02-07 3:05 ` dpdklab
2025-02-07 3:07 ` dpdklab
2025-02-07 3:09 ` |PENDING| " dpdklab
2025-02-07 3:19 ` dpdklab
2025-02-07 3:23 ` dpdklab [this message]
2025-02-07 3:25 ` dpdklab
2025-02-07 3:27 ` |SUCCESS| " dpdklab
2025-02-07 4:26 ` dpdklab
2025-02-07 4:27 ` dpdklab
2025-02-07 5:18 ` |PENDING| " dpdklab
2025-02-07 6:16 ` |SUCCESS| " dpdklab
Reply instructions:
You may reply publicly to this message via plain-text email
using any one of the following methods:
* Save the following mbox file, import it into your mail client,
and reply-to-all from there: mbox
Avoid top-posting and favor interleaved quoting:
https://en.wikipedia.org/wiki/Posting_style#Interleaved_style
* Reply using the --to, --cc, and --in-reply-to
switches of git-send-email(1):
git send-email \
--in-reply-to=67a57cb1.650a0220.1af9d2.3b70SMTPIN_ADDED_MISSING@mx.google.com \
--to=dpdklab@iol.unh.edu \
--cc=dpdk-test-reports@iol.unh.edu \
--cc=test-report@dpdk.org \
/path/to/YOUR_REPLY
https://kernel.org/pub/software/scm/git/docs/git-send-email.html
* If your mail client supports setting the In-Reply-To header
via mailto: links, try the mailto: link
Be sure your reply has a Subject: header at the top and a blank line
before the message body.
This is a public inbox, see mirroring instructions
for how to clone and mirror all data and code used for this inbox;
as well as URLs for NNTP newsgroup(s).