From mboxrd@z Thu Jan 1 00:00:00 1970 Return-Path: Received: from mails.dpdk.org (mails.dpdk.org [217.70.189.124]) by inbox.dpdk.org (Postfix) with ESMTP id 503B5461B5 for ; Fri, 7 Feb 2025 04:23:31 +0100 (CET) Received: from mails.dpdk.org (localhost [127.0.0.1]) by mails.dpdk.org (Postfix) with ESMTP id 35D5F402D5; Fri, 7 Feb 2025 04:23:31 +0100 (CET) Received: from mail-pl1-f226.google.com (mail-pl1-f226.google.com [209.85.214.226]) by mails.dpdk.org (Postfix) with ESMTP id C77EF402A7 for ; Fri, 7 Feb 2025 04:23:30 +0100 (CET) Received: by mail-pl1-f226.google.com with SMTP id d9443c01a7336-21f3e2b4eceso23546735ad.2 for ; Thu, 06 Feb 2025 19:23:30 -0800 (PST) DKIM-Signature: v=1; a=rsa-sha256; c=relaxed/relaxed; d=iol.unh.edu; s=unh-iol; t=1738898610; x=1739503410; darn=dpdk.org; h=references:in-reply-to:cc:to:from:subject:message-id:date:from:to :cc:subject:date:message-id:reply-to; bh=zu0xSPn7hkNC93jlTcG0QXg6kcTONs04FnLuCog+l3o=; b=PmBFqMtqOB1wZNa1UR3ncBXbKqoH2gaExB1NGzaxchw0H0h+M8jQIBG/gA1B/m/Mgg bFKdhjiDVxEt5EmJbsdb1h7X/6tR93ex350RZU9R9c88QIkk1mfSpc7xLxZ1iJarzFMM 6xBt7x7twdy3BGDb9q2VtdG0h5t7SqSJFcIe0= X-Google-DKIM-Signature: v=1; a=rsa-sha256; c=relaxed/relaxed; d=1e100.net; s=20230601; t=1738898610; x=1739503410; h=references:in-reply-to:cc:to:from:subject:message-id:date :x-gm-message-state:from:to:cc:subject:date:message-id:reply-to; bh=zu0xSPn7hkNC93jlTcG0QXg6kcTONs04FnLuCog+l3o=; b=eCvzDQA2tDj4NcRvRfO+ZMXcKfrkb99qMSekxYCYjq+JThk90RRZrLlRHb1/z/xhbo aRob6auALnLMUTN2tpe3eEN86xYQ3fcF0WBobdkJr8dAapAYAwtbsb/5k38mjVsxTcWl zMTWCwQel2svPw6yu9Z3xIhndTyPOONJE0cVjBs5oCCYzWZuz31eIEHK0tE4NgVwCkE3 NSxMzrS5GwTXBJZf5zKDlbWjCjedPsrAauAYg917FDFIMRDrr4T95jhddgDxFO1tAk10 ZuxxSTCX9erUyjrJ3Lr53tpRo8LOML42dVmwq4vyc5hmocuZUOivEtENDISPFMZw1ttq 8fzA== X-Gm-Message-State: AOJu0YyhpdK4BFuZ/RPH/JhiKBPIsV8989EWcsmwSRFefpOYYKbY7UzL sSNEgq6GhJ54v9YmWFYQ0RGZQhQFqxU9KApxAENmsr5AEvjSkSl6UbWGn6l1BZPP+YAiCrnf3MY NG6RDfPHmIbb2+xybuMwUWmNRfYVAir8Bi1CkiHqf X-Gm-Gg: ASbGncuanjL7ZyEgWkJDV1/x/9ziyh6bgh8T7Mwk7GJm5r7QFXtCFhM/hlpyWGVxaX4 GqkwyqPvek63FsriHd9pFXRcbuBZF3g0GKDoz4yXFV2bRYft5Cup2SWSfNbIctVTXNOc/yVUTL7 htutZCg/xy+Ddzl4T+3MrUVZLgmZMSNaUlxQbxYVaydurvxI8Vvg9DNOxzhJnLkZ8XYMT34Chra qFPLY77ToKYmUaIarNYsyCMy3CZl5zKHqvLOzFSz+a7uC0r+dvMvhKKWD+URc6DGGVEVdlmcjoi XWrKaSI9ZaSrcJL+YrZLmRNCad/dFQ== X-Google-Smtp-Source: AGHT+IGmoKDdRcpfzrnMHaZZsFfgSZMxJNWK9WMo+JklOKSTQJLOhfTnZ8//13VM26+YAYV7yqLzDrTUGrCm X-Received: by 2002:a05:6a00:3d51:b0:729:35b:542e with SMTP id d2e1a72fcca58-7305d51c6a5mr2641043b3a.16.1738898609901; Thu, 06 Feb 2025 19:23:29 -0800 (PST) Received: from postal.iol.unh.edu (postal.iol.unh.edu. [132.177.123.84]) by smtp-relay.gmail.com with ESMTPS id 41be03b00d2f7-ad51aebc84csm68664a12.2.2025.02.06.19.23.29 (version=TLS1_2 cipher=ECDHE-ECDSA-AES128-GCM-SHA256 bits=128/128); Thu, 06 Feb 2025 19:23:29 -0800 (PST) X-Relaying-Domain: iol.unh.edu Date: Thu, 06 Feb 2025 19:23:29 -0800 (PST) Message-ID: <67a57cb1.650a0220.1af9d2.3b70SMTPIN_ADDED_MISSING@mx.google.com> Received: from [172.21.0.5] (unknown [172.18.0.240]) by postal.iol.unh.edu (Postfix) with ESMTP id 142996052471; Thu, 6 Feb 2025 22:23:29 -0500 (EST) Subject: |SUCCESS| pw151074 [PATCH] [v8] graph: mcore: optimize graph search From: dpdklab@iol.unh.edu To: Test Report Cc: dpdk-test-reports@iol.unh.edu In-Reply-To: <20250207013939.1783-1-chcchc88@163.com> References: <20250207013939.1783-1-chcchc88@163.com> Content-Type: text/plain X-BeenThere: test-report@dpdk.org X-Mailman-Version: 2.1.29 Precedence: list List-Id: automatic DPDK test reports List-Unsubscribe: , List-Archive: List-Post: List-Help: List-Subscribe: , Errors-To: test-report-bounces@dpdk.org Test-Label: iol-compile-amd64-testing Test-Status: SUCCESS http://dpdk.org/patch/151074 _Testing PASS_ Submitter: Huichao Cai Date: Friday, February 07 2025 01:39:39 DPDK git baseline: Repo:dpdk Branch: master CommitID:1bf86800f7daf8d5c71a08a0776ff3b754ee6570 151074 --> testing pass Upstream job id: Windows-Compile-DPDK-Native#26501 Test environment and result as below: +---------------------+-------------------+--------------------+-------------------------+----------------------+ | Environment | dpdk_msvc_compile | dpdk_meson_compile | dpdk_llvm_clang_compile | dpdk_mingw64_compile | +=====================+===================+====================+=========================+======================+ | Windows Server 2022 | PASS | SKIPPED | PASS | PASS | +---------------------+-------------------+--------------------+-------------------------+----------------------+ | FreeBSD 13.4 | SKIPPED | PASS | SKIPPED | SKIPPED | +---------------------+-------------------+--------------------+-------------------------+----------------------+ | FreeBSD 14.2 | SKIPPED | PASS | SKIPPED | SKIPPED | +---------------------+-------------------+--------------------+-------------------------+----------------------+ Windows Server 2022 Kernel: 10.0.20348.2031 Compiler: clang 15.0.7, gcc 14.1.0 (MinGW), and MSVC VS 19.39.33521 FreeBSD 13.4 Kernel: 13.4-RELEASE-p1 Compiler: clang 18.1.6 FreeBSD 14.2 Kernel: 14.2-RELEASE Compiler: clang 18.1.6 To view detailed results, visit: https://lab.dpdk.org/results/dashboard/patchsets/32516/ UNH-IOL DPDK Community Lab To manage your email subscriptions, visit: https://lab.dpdk.org/results/dashboard/preferences/subscriptions/