From mboxrd@z Thu Jan 1 00:00:00 1970 Return-Path: Received: from mails.dpdk.org (mails.dpdk.org [217.70.189.124]) by inbox.dpdk.org (Postfix) with ESMTP id 30A67461B5 for ; Fri, 7 Feb 2025 04:29:04 +0100 (CET) Received: from mails.dpdk.org (localhost [127.0.0.1]) by mails.dpdk.org (Postfix) with ESMTP id 0AA7042795; Fri, 7 Feb 2025 04:29:04 +0100 (CET) Received: from mail-oo1-f97.google.com (mail-oo1-f97.google.com [209.85.161.97]) by mails.dpdk.org (Postfix) with ESMTP id 7BDE7402D5 for ; Fri, 7 Feb 2025 04:29:02 +0100 (CET) Received: by mail-oo1-f97.google.com with SMTP id 006d021491bc7-5f2b21a0784so499781eaf.1 for ; Thu, 06 Feb 2025 19:29:02 -0800 (PST) DKIM-Signature: v=1; a=rsa-sha256; c=relaxed/relaxed; d=iol.unh.edu; s=unh-iol; t=1738898941; x=1739503741; darn=dpdk.org; h=references:in-reply-to:cc:to:from:subject:message-id:date:from:to :cc:subject:date:message-id:reply-to; bh=wS/TO3zqIzObg5WqNcTLK6kdBEVFzEBq4Z4FWzknicg=; b=M/nIsqqQRhDULYHTazSsNOA03AbcAvU7jl407EYSO1+4NM/LXbEa48yzBHA/eiObtA +lZqZRX1tgPVjdXIauvMwEfZFhlB5A1YK4rbkdgUNZzbBRzddY1myUeLGkUydea4XsrI dmQ4PgjAhwBSKj4YfD1+IzcBCrKRy5b7IxqTU= X-Google-DKIM-Signature: v=1; a=rsa-sha256; c=relaxed/relaxed; d=1e100.net; s=20230601; t=1738898941; x=1739503741; h=references:in-reply-to:cc:to:from:subject:message-id:date :x-gm-message-state:from:to:cc:subject:date:message-id:reply-to; bh=wS/TO3zqIzObg5WqNcTLK6kdBEVFzEBq4Z4FWzknicg=; b=e5+2t8vhOJ7MSe1ShCq3AVowCCxSBiGGt8k+YfQNX177jigBwpNpaantoV+vdmlIYX lowkaX2V20ZTldKAxZrHLgjUEdl4zlmL2L3CFb73eyWBD4ZURVjLeVxa9i31O9m+4BlH GOBIf667jHwCTaY5gS5v0ZKbbeTLR+vRooPeLqtvaqgcv/ghZ6WHAJt+CxadBLQqwaf6 OB4TGRVisJiG2tj7D1PkLZAIS7gQj1pMPGC5j2q0KhnJz/fK7UrIPwCrXchFyU2bWLlJ /AmEgNgBM42KOvi2NHOdiGg+CbXh6OLCHnPwzFiWHXmUMSNROWvB0rc/3hiLwBizStG6 UREA== X-Gm-Message-State: AOJu0YwJLnfSvl3PSmEuTrKQBKHCdYulWCNElj7SPByQO2QlZ5HLCZDU 1BUUzdiyzRRRH34MDvbv0SF9NF/7UKoeqmARSc3B5fFIxe4eMSZ1bUmp+xZcrmi+NBBf+OBxkiY muaEJx69ia31WrVRrPg5PhibJx7nwWsVmFuoxjgzR X-Gm-Gg: ASbGncu/zmzyE9HKqsW5v9wzm0AAP31pcY7QfurAT/jtCSjoaDq1DUH2pUtrS5XTx7L AhToLPSv/4j5FS1EYIuNAXgUFfnyfmp6cZVct57qDhCyb0aQ2u3ubUg2ivXujunnCsfZl2HjwFk iEXyJaZcNfK4iv64eYfvIFgIGfqCdIlwE7d+OLOkCcxiQ5dU7lWE4uGxxPcaA2FTf9U7Alp5fVU k9SI04+EA3I/yDNzWx4+xIzYx8Bf2GFWs9l/YmS8/83mQ5FCx+5JZVsOzNJo4e2sK0D7/+ur3ng DlOVZ6vLMdIdxaoP6GkfeoS7QGZpKw== X-Google-Smtp-Source: AGHT+IHQ5k8n7pxZn8AhZKyiAOCJvzu3DgrzM/vXlcJ/si9D4php1dVJ7X+m48zJANaMZVb63Suf4obDToY0 X-Received: by 2002:a05:6870:9d83:b0:2b7:fc95:66e1 with SMTP id 586e51a60fabf-2b83eccb879mr1044404fac.19.1738898941588; Thu, 06 Feb 2025 19:29:01 -0800 (PST) Received: from postal.iol.unh.edu (postal.iol.unh.edu. [132.177.123.84]) by smtp-relay.gmail.com with ESMTPS id 586e51a60fabf-2b8261dd0e2sm135127fac.25.2025.02.06.19.29.01 (version=TLS1_2 cipher=ECDHE-ECDSA-AES128-GCM-SHA256 bits=128/128); Thu, 06 Feb 2025 19:29:01 -0800 (PST) X-Relaying-Domain: iol.unh.edu Date: Thu, 06 Feb 2025 19:29:01 -0800 (PST) Message-ID: <67a57dfd.050a0220.2a83f5.735bSMTPIN_ADDED_MISSING@mx.google.com> Received: from [172.21.0.5] (unknown [172.18.0.240]) by postal.iol.unh.edu (Postfix) with ESMTP id 33DC86052471; Thu, 6 Feb 2025 22:29:01 -0500 (EST) Subject: |SUCCESS| pw151072-151073 [PATCH] [v8,2/2] net/af_xdp: Refactor af_x From: dpdklab@iol.unh.edu To: Test Report Cc: dpdk-test-reports@iol.unh.edu In-Reply-To: <20250206204645.1564535-3-ariel.otilibili@6wind.com> References: <20250206204645.1564535-3-ariel.otilibili@6wind.com> Content-Type: text/plain X-BeenThere: test-report@dpdk.org X-Mailman-Version: 2.1.29 Precedence: list List-Id: automatic DPDK test reports List-Unsubscribe: , List-Archive: List-Post: List-Help: List-Subscribe: , Errors-To: test-report-bounces@dpdk.org Test-Label: iol-compile-amd64-testing Test-Status: SUCCESS http://dpdk.org/patch/151073 _Testing PASS_ Submitter: Ariel Otilibili Date: Thursday, February 06 2025 20:46:45 DPDK git baseline: Repo:dpdk Branch: master CommitID:e5ece9ae686535f29ae72c03fec26dc16ff7a925 151072-151073 --> testing pass Upstream job id: Generic-VM-DPDK-Compile-Meson#33114 Test environment and result as below: +---------------------+-------------------+--------------------+ | Environment | dpdk_msvc_compile | dpdk_meson_compile | +=====================+===================+====================+ | Windows Server 2022 | PASS | SKIPPED | +---------------------+-------------------+--------------------+ | FreeBSD 13.4 | SKIPPED | PASS | +---------------------+-------------------+--------------------+ | FreeBSD 14.2 | SKIPPED | PASS | +---------------------+-------------------+--------------------+ Windows Server 2022 Kernel: 10.0.20348.2031 Compiler: clang 15.0.7, gcc 14.1.0 (MinGW), and MSVC VS 19.39.33521 FreeBSD 13.4 Kernel: 13.4-RELEASE-p1 Compiler: clang 18.1.6 FreeBSD 14.2 Kernel: 14.2-RELEASE Compiler: clang 18.1.6 To view detailed results, visit: https://lab.dpdk.org/results/dashboard/patchsets/32515/ UNH-IOL DPDK Community Lab To manage your email subscriptions, visit: https://lab.dpdk.org/results/dashboard/preferences/subscriptions/