From mboxrd@z Thu Jan 1 00:00:00 1970 Return-Path: Received: from mails.dpdk.org (mails.dpdk.org [217.70.189.124]) by inbox.dpdk.org (Postfix) with ESMTP id EE9B2461B5 for ; Fri, 7 Feb 2025 05:27:30 +0100 (CET) Received: from mails.dpdk.org (localhost [127.0.0.1]) by mails.dpdk.org (Postfix) with ESMTP id EBA7642795; Fri, 7 Feb 2025 05:27:30 +0100 (CET) Received: from mail-pl1-f227.google.com (mail-pl1-f227.google.com [209.85.214.227]) by mails.dpdk.org (Postfix) with ESMTP id B2D4A402D5 for ; Fri, 7 Feb 2025 05:27:29 +0100 (CET) Received: by mail-pl1-f227.google.com with SMTP id d9443c01a7336-21f40deb941so25157905ad.2 for ; Thu, 06 Feb 2025 20:27:29 -0800 (PST) DKIM-Signature: v=1; a=rsa-sha256; c=relaxed/relaxed; d=iol.unh.edu; s=unh-iol; t=1738902449; x=1739507249; darn=dpdk.org; h=references:in-reply-to:cc:to:from:subject:message-id:date:from:to :cc:subject:date:message-id:reply-to; bh=Yn1pLDhKeqRSnDUfEX9dsP5ookLDMnGdd2SdoWJ89es=; b=FQ+JJjRYqTlBnN7uyc3cQ0wbxGhs3SSE07N46SlA4AeKtxyCWKCrOAx+P3b3PM63ft URhRNjyDrVi7PA6wJuBsXIjGOwE7mc+9/U9YSUyS8oLmiCTvibl23Fx2oP/+yLhIlZR+ wYYdHEsYx5pTwmHW7y+33U4W2+LH8uzBJrEHM= X-Google-DKIM-Signature: v=1; a=rsa-sha256; c=relaxed/relaxed; d=1e100.net; s=20230601; t=1738902449; x=1739507249; h=references:in-reply-to:cc:to:from:subject:message-id:date :x-gm-message-state:from:to:cc:subject:date:message-id:reply-to; bh=Yn1pLDhKeqRSnDUfEX9dsP5ookLDMnGdd2SdoWJ89es=; b=YmUhJIYI9xNJIIo1N4GmqjHw8UWG2pQtlJMWj3DjcbGSA6l/qBJwdIsB+t0ORphSo5 Ubw3Ttntr7fwHY97+XGGPWdkv257XNMeG+3aptRMtsbljBLIWzF2WR1DUcFzhaAKCm8V bgmfhI7d3xIFpFA45eNHsjrvWAe1bXeTroYWOU0J2/6vqJDJjAvYWKDlCSqPFAgByllD 6XYawXptvLbSt/eBvC5mrIIcR7x2uKKXAutv91CZvHVihC936Dv6UchA3kejatgSOLcD csKC3hG3KYKbB4f+p09q4Bi+gNcCC2EY+x2czYNSKn5ZX8wpprqaOVpBvqJQ5i1W1h9V Hxcw== X-Gm-Message-State: AOJu0YwgBxaf8yC31pO4JSkurIMjnFIsuUue2lRy3DzE9aC5pwh0Nyrh pduAhWSecgirmjW4z/pkC5FOLAbPmTIpvo+VaazVWURa0FGmai/BXYwrrTNQf6i/0QWUKtEzZGh A1h4RmgfWdHpeSDFnSAEiZWVUUi+7Fu31CrIAGkdt X-Gm-Gg: ASbGncuna4JG3ETfKZcKmt6KrLv9dLXMEoKmRQg2QEIWlTw/yK0n8IOE3BBCyZLEGu2 5KMtsuu9+xSsq/QIPebVzElVAuGi4DUmCNZzSBB/Q6eg1gCXikCT2y0UpazYdLvXMXYGhpmMMbk V6TB22iidtFg/hdbdR34cHfrOh6+XGhTvOrmzT933KcbP4QgkyJMxRpJ+fytNrvQg2dqimYlV73 alfktGEnG0lLdkBvSV6XABhn403QsLrfFT3aHuzIyVUfyve+Qk6YDqy41pdH66Q068dx/AFbrsG m1RwWcp5NCk/mXDp4clLCiNVKmJU+A== X-Google-Smtp-Source: AGHT+IF2MJROMmNQKFJ3OgdZNfmgQDYUjs2xO5vZ3y+J3sE8z0D3XgqrpwJjD9uRt8gfU2ZYeUFycIGMG3e8 X-Received: by 2002:a17:902:f806:b0:21f:dc3:8901 with SMTP id d9443c01a7336-21f4e7985c6mr24333065ad.34.1738902448870; Thu, 06 Feb 2025 20:27:28 -0800 (PST) Received: from postal.iol.unh.edu (postal.iol.unh.edu. [132.177.123.84]) by smtp-relay.gmail.com with ESMTPS id d9443c01a7336-21f3658d297sm1303225ad.62.2025.02.06.20.27.28 (version=TLS1_2 cipher=ECDHE-ECDSA-AES128-GCM-SHA256 bits=128/128); Thu, 06 Feb 2025 20:27:28 -0800 (PST) X-Relaying-Domain: iol.unh.edu Date: Thu, 06 Feb 2025 20:27:28 -0800 (PST) Message-ID: <67a58bb0.170a0220.a860a.6e2aSMTPIN_ADDED_MISSING@mx.google.com> Received: from [172.21.0.5] (unknown [172.18.0.240]) by postal.iol.unh.edu (Postfix) with ESMTP id 0FB476052471; Thu, 6 Feb 2025 23:27:28 -0500 (EST) Subject: |SUCCESS| pw151074 [PATCH] [v8] graph: mcore: optimize graph search From: dpdklab@iol.unh.edu To: Test Report Cc: dpdk-test-reports@iol.unh.edu In-Reply-To: <20250207013939.1783-1-chcchc88@163.com> References: <20250207013939.1783-1-chcchc88@163.com> Content-Type: text/plain X-BeenThere: test-report@dpdk.org X-Mailman-Version: 2.1.29 Precedence: list List-Id: automatic DPDK test reports List-Unsubscribe: , List-Archive: List-Post: List-Help: List-Subscribe: , Errors-To: test-report-bounces@dpdk.org Test-Label: iol-unit-amd64-testing Test-Status: SUCCESS http://dpdk.org/patch/151074 _Testing PASS_ Submitter: Huichao Cai Date: Friday, February 07 2025 01:39:39 DPDK git baseline: Repo:dpdk Branch: master CommitID:1bf86800f7daf8d5c71a08a0776ff3b754ee6570 151074 --> testing pass Upstream job id: Generic-Unit-Test-DPDK#312519 Test environment and result as below: +---------------------+----------------+ | Environment | dpdk_unit_test | +=====================+================+ | Fedora 41 | PASS | +---------------------+----------------+ | CentOS Stream 9 | PASS | +---------------------+----------------+ | Debian Bullseye | PASS | +---------------------+----------------+ | Ubuntu 20.04 | PASS | +---------------------+----------------+ | Debian 12 | PASS | +---------------------+----------------+ | Fedora 40 (Clang) | PASS | +---------------------+----------------+ | Fedora 40 | PASS | +---------------------+----------------+ | Ubuntu 24.04 | PASS | +---------------------+----------------+ | RHEL8 | PASS | +---------------------+----------------+ | Ubuntu 22.04 | PASS | +---------------------+----------------+ | Fedora 41 (Clang) | PASS | +---------------------+----------------+ | RHEL9 | PASS | +---------------------+----------------+ | Windows Server 2022 | PASS | +---------------------+----------------+ Fedora 41 Kernel: Depends on container host Compiler: gcc 14.2.1 20240912 (Red Hat 14.2.1-3) CentOS Stream 9 Kernel: Depends on container host Compiler: gcc 11.5.0 20240719 (Red Hat 11.5.0-2) Debian Bullseye Kernel: Depends on container host Compiler: gcc (Debian 10.2.1-6) 10.2.1 20210110 Ubuntu 20.04 Kernel: Depends on container host Compiler: gcc (Ubuntu 9.4.0-1ubuntu1~20.04.2) 9.4.0 Debian 12 Kernel: Depends on container host Compiler: gcc (Debian 12.2.0-14) 12.2.0 Fedora 40 (Clang) Kernel: Depends on container host Compiler: clang 18.1.8 (Fedora 18.1.8-1.fc40) Fedora 40 Kernel: Depends on container host Compiler: gcc 14.2.1 20240912 (Red Hat 14.2.1-3) Ubuntu 24.04 Kernel: Depends on container host Compiler: gcc (Ubuntu 13.3.0-6ubuntu2~24.04) 13.3.0 RHEL8 Kernel: Depends on container host Compiler: gcc 8.5.0 20210514 (Red Hat 8.5.0-22) Ubuntu 22.04 Kernel: Depends on container host Compiler: gcc (Ubuntu 11.4.0-1ubuntu1~22.04) 11.4.0 Fedora 41 (Clang) Kernel: Depends on container host Compiler: clang 19.1.5 (Fedora 19.1.5-1.fc41) RHEL9 Kernel: Depends on container host Compiler: gcc 11.5.0 20240719 (Red Hat 11.5.0-2) Windows Server 2022 Kernel: 10.0.20348.2031 Compiler: clang 15.0.7, gcc 14.1.0 (MinGW), and MSVC VS 19.39.33521 To view detailed results, visit: https://lab.dpdk.org/results/dashboard/patchsets/32516/ UNH-IOL DPDK Community Lab To manage your email subscriptions, visit: https://lab.dpdk.org/results/dashboard/preferences/subscriptions/