From mboxrd@z Thu Jan 1 00:00:00 1970 Return-Path: Received: from mails.dpdk.org (mails.dpdk.org [217.70.189.124]) by inbox.dpdk.org (Postfix) with ESMTP id 2C721461B5 for ; Fri, 7 Feb 2025 05:44:04 +0100 (CET) Received: from mails.dpdk.org (localhost [127.0.0.1]) by mails.dpdk.org (Postfix) with ESMTP id 22B1642795; Fri, 7 Feb 2025 05:44:04 +0100 (CET) Received: from mail-qv1-f99.google.com (mail-qv1-f99.google.com [209.85.219.99]) by mails.dpdk.org (Postfix) with ESMTP id AD395402D5 for ; Fri, 7 Feb 2025 05:44:03 +0100 (CET) Received: by mail-qv1-f99.google.com with SMTP id 6a1803df08f44-6dfbc45355bso18799446d6.2 for ; Thu, 06 Feb 2025 20:44:03 -0800 (PST) DKIM-Signature: v=1; a=rsa-sha256; c=relaxed/relaxed; d=iol.unh.edu; s=unh-iol; t=1738903443; x=1739508243; darn=dpdk.org; h=cc:to:from:subject:message-id:date:from:to:cc:subject:date :message-id:reply-to; bh=8ib3kjQptOVvzmGciRi8Ye+KmNnLS/WO5CeVd/pIum8=; b=BakPD6AqFko/XHGNl+sfyN/YjjN3uGdK+F4Pm4LyrNTmDLO5ml5yeAQ6ZHFbK5Tf52 AlkwH9hwKNiVmxhxBMscBEYgfmN5ylxCiDV92snzRCip/RRMVNRpaJTAxJzHlGO4sVhD yJcwn5WiSiE6CxcI+72tDpSQHdQ36Z/hiAbbI= X-Google-DKIM-Signature: v=1; a=rsa-sha256; c=relaxed/relaxed; d=1e100.net; s=20230601; t=1738903443; x=1739508243; h=cc:to:from:subject:message-id:date:x-gm-message-state:from:to:cc :subject:date:message-id:reply-to; bh=8ib3kjQptOVvzmGciRi8Ye+KmNnLS/WO5CeVd/pIum8=; b=EW5yEwhq9DHZRj8QjrW+I8ncf9KbjYCZz8D8f0a4kVH0yTfBR299za/HdwcozGe45h XcWMvkRb+Pd0ef/NVp3ytjDmksFfPdpu9eIYVIMai3lAh54lD7OYvTy2+O5A1G4t+yME ivXsh+SAc/xCP7h/QY0UOgC7pcIinescd/jiD7GP6feIth7KPo1OxHcSEamUDdsmKOgY LX22XwmmpoNAvyO881wsdrcU7AxTKBc9suNqLqMuxX9LHOAORfy4sHcsS0hwJv5tj/0B 2xfkDLKQq0SxS1eMIn/jxSa8F8lMbSiD6Xu4ENQHLrWMiSkDG09jugyhuf8kRKC1S+XG or+w== X-Gm-Message-State: AOJu0YzfeVBOlTBMxP4sERaV5ORLjWdvmIfNMbTnXnzeWlxi5Xchg8UM l9mXZ0jzK8drbePuLUrcIJiBnvRWTxJzStUlcEk3ZGZRF/BGB+s+/pUcUQJPz8F48nP0UZB58Ns oswcs7SHxhlez9xxNFiF2OzZN4gscjz+lHkR6faXs2T5fFhpSz6tGjsA9 X-Gm-Gg: ASbGncvGGLejSKMFTBA7f4o31lW2WHmwF/tn0k51D89RnEvsEORu0CBawGVogcbtdKJ hznzABvvhQg3Y+2pq78+Jaw9FlwI9w9XJlzfQqqbG2zaOt82YudGJhvqYHib0HAWjTj7YpAth2s OApY/J2uia2RyEn5zrCRzDff09TMconxC8rg/WxuRRp/+u25A+A53qpXvGNQhZoiwLx5+o5K3SB fFxYRmBchoEpkBP4/D/vggMQNXEhb2fxbcl5JOPh9BlzuutBN2KMx3ChkUV6Gnl8h1TYDXn2zGb VMpTHFFqTDMkukc4WJDJX6f/PLC6fgxyeqbDcuB52g== X-Google-Smtp-Source: AGHT+IHp19wPY3uMCfHiSUAlFET8KvU6AdkUqGdibXscEyOyZgqNvEAX4d2kvghgfnL+3uXzN09KNyN6IyI4 X-Received: by 2002:ad4:5f85:0:b0:6e4:3de7:d90b with SMTP id 6a1803df08f44-6e44566e6e4mr26709426d6.25.1738903440107; Thu, 06 Feb 2025 20:44:00 -0800 (PST) Received: from postal.iol.unh.edu (postal.iol.unh.edu. [2606:4100:3880:1234::84]) by smtp-relay.gmail.com with ESMTPS id 6a1803df08f44-6e44327f4b9sm777306d6.30.2025.02.06.20.43.58 (version=TLS1_2 cipher=ECDHE-ECDSA-AES128-GCM-SHA256 bits=128/128); Thu, 06 Feb 2025 20:44:00 -0800 (PST) X-Relaying-Domain: iol.unh.edu Date: Thu, 06 Feb 2025 20:44:00 -0800 (PST) Message-ID: <67a58f90.050a0220.32f74.3c6eSMTPIN_ADDED_MISSING@mx.google.com> Received: from [172.21.0.5] (unknown [172.18.0.240]) by postal.iol.unh.edu (Postfix) with ESMTP id 73D8A6052471; Thu, 6 Feb 2025 23:43:58 -0500 (EST) Subject: |SUCCESS| [GIT MASTER] 6d7e741be18ab1e6ecce46edb2516318305c3c73 From: dpdklab@iol.unh.edu To: Test Report Cc: dpdk-test-reports@iol.unh.edu Content-Type: text/plain X-BeenThere: test-report@dpdk.org X-Mailman-Version: 2.1.29 Precedence: list List-Id: automatic DPDK test reports List-Unsubscribe: , List-Archive: List-Post: List-Help: List-Subscribe: , Errors-To: test-report-bounces@dpdk.org _Testing PASS_ Branch: dpdk 6d7e741be18ab1e6ecce46edb2516318305c3c73 --> testing pass Upstream job id: ACVP-FIPS-testing#8802 Test environment and result as below: +--------------------+----------------------+----------------------+ | Environment | compressdev_zlib_pmd | dpdk_fips_validation | +====================+======================+======================+ | Ubuntu 22.04 (ARM) | PASS | SKIPPED | +--------------------+----------------------+----------------------+ | Ubuntu 22.04 | PASS | SKIPPED | +--------------------+----------------------+----------------------+ | Ubuntu 20.04 | SKIPPED | PASS | +--------------------+----------------------+----------------------+ Ubuntu 22.04 (ARM) Kernel: 5.15.0-97-generic Compiler: gcc gcc (Ubuntu 11.4.0-1ubuntu1~22.04) 11.4.0 Ubuntu 22.04 Kernel: 5.15.0-100-generic Compiler: gcc gcc (Ubuntu 11.4.0-1ubuntu1~22.04) 11.4.0 Ubuntu 20.04 Kernel: Depends on container host Compiler: gcc (Ubuntu 9.4.0-1ubuntu1~20.04.2) 9.4.0 To view detailed results, visit: https://lab.dpdk.org/results/dashboard/tarballs/32463/ UNH-IOL DPDK Community Lab To manage your email subscriptions, visit: https://lab.dpdk.org/results/dashboard/preferences/subscriptions/