From mboxrd@z Thu Jan 1 00:00:00 1970 Return-Path: Received: from mails.dpdk.org (mails.dpdk.org [217.70.189.124]) by inbox.dpdk.org (Postfix) with ESMTP id 4A1DA461B6 for ; Fri, 7 Feb 2025 06:32:28 +0100 (CET) Received: from mails.dpdk.org (localhost [127.0.0.1]) by mails.dpdk.org (Postfix) with ESMTP id 245DB42797; Fri, 7 Feb 2025 06:32:28 +0100 (CET) Received: from mail-pj1-f99.google.com (mail-pj1-f99.google.com [209.85.216.99]) by mails.dpdk.org (Postfix) with ESMTP id CADEC42795 for ; Fri, 7 Feb 2025 06:32:26 +0100 (CET) Received: by mail-pj1-f99.google.com with SMTP id 98e67ed59e1d1-2f9d627b5fbso2993996a91.2 for ; Thu, 06 Feb 2025 21:32:26 -0800 (PST) DKIM-Signature: v=1; a=rsa-sha256; c=relaxed/relaxed; d=iol.unh.edu; s=unh-iol; t=1738906346; x=1739511146; darn=dpdk.org; h=references:in-reply-to:cc:to:from:subject:message-id:date:from:to :cc:subject:date:message-id:reply-to; bh=RPMF+atiTFMCkFrrMdz082UUGGtBW7Z76QLYtdwRsSc=; b=jjEjjq+UclYanc9L5kr/0hCuh2KIerF2G67ilJ8Ux8W5lsaKP469fX7ZexNOLs1AaG 2350ULXzWg/9YR3ul4mJtfYz5v1EWV6P2CFNuq92hbtlw6jXnFop0KDfpp0y6lLupR6t 9nThk1DstEoSjWIHDMNqC5RCrGktyDf7mYPbw= X-Google-DKIM-Signature: v=1; a=rsa-sha256; c=relaxed/relaxed; d=1e100.net; s=20230601; t=1738906346; x=1739511146; h=references:in-reply-to:cc:to:from:subject:message-id:date :x-gm-message-state:from:to:cc:subject:date:message-id:reply-to; bh=RPMF+atiTFMCkFrrMdz082UUGGtBW7Z76QLYtdwRsSc=; b=KXH8d9UjO1LMCD9V7JDCoWnSCWU9VuWMcCMZcTz6eQ0a/iE8Ic3TxhDsdz0EOuX0x6 9RD+KNlpR5NAj8bgT0iFPQzzOb6ZaiLD8ssFFkgKdVv9wHZXjjyRjektg2/R0j+rGwfK 6UHvyF1tAn1eux+IlJqI5V6ZIavVXp29Sg/IcUyuBevYlGL4PH2oh51v+c7G4LpAYmer f9Q6Qa+yeENPgTzmYqEMMUjT7CreCuJ0v7s5SZW6NHeuFLBxepqLTm7E2wwOz7gkbWPh 4vhMvR7xr/qpjH122Rfs6XaLSJpFe02ovhVUCCx5BHLi8Y1s/mpZg8pYL+BkMfJRypLX /wvg== X-Gm-Message-State: AOJu0YzpfhvQJJTTFXqMEe89X2Z6jAbEjXZ+R/DWb9NsEoBiwhH60Fyh hNoj80Oo+2FXTRmPKmH345lWnvHg1iiC3Vsi6cfFqEuaXxBy4CR0b3hXA4yx6JQHSGHI3/pazYd j9yyhyNQTlnDi3lpP3ll6KxYqs0/SDA9NDbTMqGkA X-Gm-Gg: ASbGncvEhG5LCjJMeoOrmIke5jaON8tdkck4+yXnnOT+AVpK4t3tc/nukHnvNTYEp1h dE/3GMIs1sKKPHC5puyq5LlDcAvOTZd8gZpfy6wJ28C8fzTgNdoO6b1eMBfX9N/JV/5LrNN8Sxm 4ykufWKIaCG+GHNK/hZzofjz3yySn3gUmieYCrrBy5BWPjER/WfaELKDKRvUhWs2usiM9a5E1jJ yfsdT+5dAnhndtwt2mM5XjFlA7nQx5j8qbMbavbbGC6lO76/GTb3HVBLVV1M75e1G/JqMWEGSnL 2aoknl3jZCIS1rVauDodY9Im42WLeQ== X-Google-Smtp-Source: AGHT+IGNRwBVQZt2P4uTCxB//ysue6b5NcbkPnDkBiRMpXKker3y8+C1mj1oOcrIBIAuoF8uaZa5kO7FfbgA X-Received: by 2002:a17:90a:da87:b0:2ee:b8ac:73b0 with SMTP id 98e67ed59e1d1-2fa23f53c77mr3079350a91.2.1738906345800; Thu, 06 Feb 2025 21:32:25 -0800 (PST) Received: from postal.iol.unh.edu (postal.iol.unh.edu. [132.177.123.84]) by smtp-relay.gmail.com with ESMTPS id 98e67ed59e1d1-2fa13d63e95sm148579a91.4.2025.02.06.21.32.25 (version=TLS1_2 cipher=ECDHE-ECDSA-AES128-GCM-SHA256 bits=128/128); Thu, 06 Feb 2025 21:32:25 -0800 (PST) X-Relaying-Domain: iol.unh.edu Date: Thu, 06 Feb 2025 21:32:25 -0800 (PST) Message-ID: <67a59ae9.170a0220.1be132.7d44SMTPIN_ADDED_MISSING@mx.google.com> Received: from [172.21.0.5] (unknown [172.18.0.240]) by postal.iol.unh.edu (Postfix) with ESMTP id ED8D86052471; Fri, 7 Feb 2025 00:32:24 -0500 (EST) Subject: |SUCCESS| pw151072-151073 [PATCH] [v8,2/2] net/af_xdp: Refactor af_x From: dpdklab@iol.unh.edu To: Test Report Cc: dpdk-test-reports@iol.unh.edu In-Reply-To: <20250206204645.1564535-3-ariel.otilibili@6wind.com> References: <20250206204645.1564535-3-ariel.otilibili@6wind.com> Content-Type: text/plain X-BeenThere: test-report@dpdk.org X-Mailman-Version: 2.1.29 Precedence: list List-Id: automatic DPDK test reports List-Unsubscribe: , List-Archive: List-Post: List-Help: List-Subscribe: , Errors-To: test-report-bounces@dpdk.org Test-Label: iol-unit-amd64-testing Test-Status: SUCCESS http://dpdk.org/patch/151073 _Testing PASS_ Submitter: Ariel Otilibili Date: Thursday, February 06 2025 20:46:45 DPDK git baseline: Repo:dpdk Branch: master CommitID:e5ece9ae686535f29ae72c03fec26dc16ff7a925 151072-151073 --> testing pass Upstream job id: Generic-Unit-Test-DPDK#312546 Test environment and result as below: +---------------------+----------------+ | Environment | dpdk_unit_test | +=====================+================+ | Debian Bullseye | PASS | +---------------------+----------------+ | CentOS Stream 9 | PASS | +---------------------+----------------+ | Fedora 40 (Clang) | PASS | +---------------------+----------------+ | RHEL8 | PASS | +---------------------+----------------+ | Debian 12 | PASS | +---------------------+----------------+ | Fedora 40 | PASS | +---------------------+----------------+ | Ubuntu 22.04 | PASS | +---------------------+----------------+ | RHEL9 | PASS | +---------------------+----------------+ | Fedora 41 (Clang) | PASS | +---------------------+----------------+ | Fedora 41 | PASS | +---------------------+----------------+ | Ubuntu 20.04 | PASS | +---------------------+----------------+ | Ubuntu 24.04 | PASS | +---------------------+----------------+ | Windows Server 2022 | PASS | +---------------------+----------------+ Debian Bullseye Kernel: Depends on container host Compiler: gcc (Debian 10.2.1-6) 10.2.1 20210110 CentOS Stream 9 Kernel: Depends on container host Compiler: gcc 11.5.0 20240719 (Red Hat 11.5.0-2) Fedora 40 (Clang) Kernel: Depends on container host Compiler: clang 18.1.8 (Fedora 18.1.8-1.fc40) RHEL8 Kernel: Depends on container host Compiler: gcc 8.5.0 20210514 (Red Hat 8.5.0-22) Debian 12 Kernel: Depends on container host Compiler: gcc (Debian 12.2.0-14) 12.2.0 Fedora 40 Kernel: Depends on container host Compiler: gcc 14.2.1 20240912 (Red Hat 14.2.1-3) Ubuntu 22.04 Kernel: Depends on container host Compiler: gcc (Ubuntu 11.4.0-1ubuntu1~22.04) 11.4.0 RHEL9 Kernel: Depends on container host Compiler: gcc 11.5.0 20240719 (Red Hat 11.5.0-2) Fedora 41 (Clang) Kernel: Depends on container host Compiler: clang 19.1.5 (Fedora 19.1.5-1.fc41) Fedora 41 Kernel: Depends on container host Compiler: gcc 14.2.1 20240912 (Red Hat 14.2.1-3) Ubuntu 20.04 Kernel: Depends on container host Compiler: gcc (Ubuntu 9.4.0-1ubuntu1~20.04.2) 9.4.0 Ubuntu 24.04 Kernel: Depends on container host Compiler: gcc (Ubuntu 13.3.0-6ubuntu2~24.04) 13.3.0 Windows Server 2022 Kernel: 10.0.20348.2031 Compiler: clang 15.0.7, gcc 14.1.0 (MinGW), and MSVC VS 19.39.33521 To view detailed results, visit: https://lab.dpdk.org/results/dashboard/patchsets/32515/ UNH-IOL DPDK Community Lab To manage your email subscriptions, visit: https://lab.dpdk.org/results/dashboard/preferences/subscriptions/