From mboxrd@z Thu Jan 1 00:00:00 1970 Return-Path: Received: from mails.dpdk.org (mails.dpdk.org [217.70.189.124]) by inbox.dpdk.org (Postfix) with ESMTP id 86A87461B6 for ; Fri, 7 Feb 2025 06:34:43 +0100 (CET) Received: from mails.dpdk.org (localhost [127.0.0.1]) by mails.dpdk.org (Postfix) with ESMTP id 64F6942797; Fri, 7 Feb 2025 06:34:43 +0100 (CET) Received: from mail-pl1-f227.google.com (mail-pl1-f227.google.com [209.85.214.227]) by mails.dpdk.org (Postfix) with ESMTP id 50B8042795 for ; Fri, 7 Feb 2025 06:34:42 +0100 (CET) Received: by mail-pl1-f227.google.com with SMTP id d9443c01a7336-21f40deb941so26044945ad.2 for ; Thu, 06 Feb 2025 21:34:42 -0800 (PST) DKIM-Signature: v=1; a=rsa-sha256; c=relaxed/relaxed; d=iol.unh.edu; s=unh-iol; t=1738906481; x=1739511281; darn=dpdk.org; h=references:in-reply-to:cc:to:from:subject:message-id:date:from:to :cc:subject:date:message-id:reply-to; bh=/dSXt4sNR7o90u4d4ukfLaGBuqtFlH0deVGhYd1fBvw=; b=RRcIGCMb04ITRbQx+tpsZQgUPsz3HwFMM0/76/P3ZpoHNx+gYV6vJfGWQnISG10vTE uN3moM+Y/ylHhygacYb0BjEG+KTvhXxSGqsdXCVudEwPPBrfZw/3eAgOWFpHWW8+UpZX XbdGYxEnmmXO1a8Ir1zhSBi6BhubPqtkUHwd0= X-Google-DKIM-Signature: v=1; a=rsa-sha256; c=relaxed/relaxed; d=1e100.net; s=20230601; t=1738906481; x=1739511281; h=references:in-reply-to:cc:to:from:subject:message-id:date :x-gm-message-state:from:to:cc:subject:date:message-id:reply-to; bh=/dSXt4sNR7o90u4d4ukfLaGBuqtFlH0deVGhYd1fBvw=; b=C+kKrxm7oozQ5/gv4d3DUWctApCq12a+pDhhfKInIPm3k5gn4jHnA6kZWT3j/TzZxN 0ldsuKd1FuW8pZYCqq6hc5Z25TdlVPt2dDZygeCXhVWEvIfUEc/2fGM6bjF3CGEdnzVI f56/K11A+rDxyTyq2hqFs/cR2xmJ7+kDcN4IqN0W8GgDDuqlKDH1sH9SC3KxXEzpBm/K 3yXYi8/h0NB5PaNkphU4PaHnAo7HGRw8S9U9e3vKLyXYjtDLBMX+t7PEpPbHb8F5c1N6 jumGx5pRvYJejCMqZrv1vEYikw116iYjvMi4lpYs1sPMvf7AaPs59caWukyjFZx4TD2C UosA== X-Gm-Message-State: AOJu0YzkdcxNagRN0gqoVZERvg9qE/EUpwNsOB2dQpmjUq/CDRtycSna uSKp85C2cNljSvPlW88Ys7N3Q26TjLU2ajTK2grDpZlrimLsc+tbldXCsH7GdHk7XdZ55B3e/eL G+hNxiSdYZBFXnUt97aybYpDbr/Ykc4aL X-Gm-Gg: ASbGncveghMsEgQSf+Xr+rBbV74LKZjyJ9B5arM7ENh8Z2KZ8VaCIo4lD3BEgWswXHR lyAOFehuFoEYZz6/Kfag0ob8nNvMAkV4OWKaiU+211cqZpuWR0hcyOtedgGjxuPgAUNNQfQTGtT g+xKQ18XBi3pwy1FQoYlRGltdIhOprJm7Qh0WINKhAEwH1nV6jKUPtqQ6CvoUuYqSja07zmAEQJ +mRHXWDKOvn0fULE+/60vh0pbN6LTEmqfdO9nfSWhMJsZwYRTO/BHk0DMrRU9DrUMvrwJKtz/vL h9K5ZaGKJoNwTsQNUMmiOwRbmAZ9mg== X-Google-Smtp-Source: AGHT+IEW4xqqdJ9zaA1vDWFL8o7NggSYihCCbPMg5RZDI4x0MWti6Tq/4l6rb5iT4Gs99HUGhOBPfTZRruzL X-Received: by 2002:a05:6a21:1087:b0:1e1:faa:d8cf with SMTP id adf61e73a8af0-1ee03b70cfbmr4740675637.40.1738906481444; Thu, 06 Feb 2025 21:34:41 -0800 (PST) Received: from postal.iol.unh.edu (postal.iol.unh.edu. [132.177.123.84]) by smtp-relay.gmail.com with ESMTPS id 41be03b00d2f7-ad51af6d35dsm158647a12.31.2025.02.06.21.34.41 (version=TLS1_2 cipher=ECDHE-ECDSA-AES128-GCM-SHA256 bits=128/128); Thu, 06 Feb 2025 21:34:41 -0800 (PST) X-Relaying-Domain: iol.unh.edu Date: Thu, 06 Feb 2025 21:34:41 -0800 (PST) Message-ID: <67a59b71.630a0220.16df5b.941eSMTPIN_ADDED_MISSING@mx.google.com> Received: from [172.21.0.6] (unknown [172.18.0.240]) by postal.iol.unh.edu (Postfix) with ESMTP id 97E466052471; Fri, 7 Feb 2025 00:34:40 -0500 (EST) Subject: |SUCCESS| pw151072-151073 [PATCH] [v8,2/2] net/af_xdp: Refactor af_x From: dpdklab@iol.unh.edu To: Test Report Cc: Ariel Otilibili In-Reply-To: <20250206204645.1564535-3-ariel.otilibili@6wind.com> References: <20250206204645.1564535-3-ariel.otilibili@6wind.com> Content-Type: text/plain X-BeenThere: test-report@dpdk.org X-Mailman-Version: 2.1.29 Precedence: list List-Id: automatic DPDK test reports List-Unsubscribe: , List-Archive: List-Post: List-Help: List-Subscribe: , Errors-To: test-report-bounces@dpdk.org Test-Label: iol-abi-testing Test-Status: SUCCESS http://dpdk.org/patch/151073 _Testing PASS_ Submitter: Ariel Otilibili Date: Thursday, February 06 2025 20:46:45 DPDK git baseline: Repo:dpdk Branch: master CommitID:e5ece9ae686535f29ae72c03fec26dc16ff7a925 151072-151073 --> testing pass Upstream job id: Generic-DPDK-Compile-ABI#115170 Test environment and result as below: +-------------------+----------+ | Environment | abi_test | +===================+==========+ | Debian 12 | PASS | +-------------------+----------+ | CentOS Stream 9 | PASS | +-------------------+----------+ | RHEL8 | PASS | +-------------------+----------+ | Fedora 41 (Clang) | PASS | +-------------------+----------+ | RHEL9 | PASS | +-------------------+----------+ | Fedora 40 | PASS | +-------------------+----------+ | openSUSE Leap 15 | PASS | +-------------------+----------+ | Fedora 40 (Clang) | PASS | +-------------------+----------+ | Fedora 41 | PASS | +-------------------+----------+ | Ubuntu 22.04 | PASS | +-------------------+----------+ | Ubuntu 24.04 | PASS | +-------------------+----------+ | Debian Bullseye | PASS | +-------------------+----------+ Debian 12 Kernel: Depends on container host Compiler: gcc (Debian 12.2.0-14) 12.2.0 CentOS Stream 9 Kernel: Depends on container host Compiler: gcc 11.5.0 20240719 (Red Hat 11.5.0-2) RHEL8 Kernel: Depends on container host Compiler: gcc 8.5.0 20210514 (Red Hat 8.5.0-22) Fedora 41 (Clang) Kernel: Depends on container host Compiler: clang 19.1.5 (Fedora 19.1.5-1.fc41) RHEL9 Kernel: Depends on container host Compiler: gcc 11.5.0 20240719 (Red Hat 11.5.0-2) Fedora 40 Kernel: Depends on container host Compiler: gcc 14.2.1 20240912 (Red Hat 14.2.1-3) openSUSE Leap 15 Kernel: Depends on container host Compiler: gcc (SUSE Linux) 7.5.0 Fedora 40 (Clang) Kernel: Depends on container host Compiler: clang 18.1.8 (Fedora 18.1.8-1.fc40) Fedora 41 Kernel: Depends on container host Compiler: gcc 14.2.1 20240912 (Red Hat 14.2.1-3) Ubuntu 22.04 Kernel: Depends on container host Compiler: gcc (Ubuntu 11.4.0-1ubuntu1~22.04) 11.4.0 Ubuntu 24.04 Kernel: Depends on container host Compiler: gcc (Ubuntu 13.3.0-6ubuntu2~24.04) 13.3.0 Debian Bullseye Kernel: Depends on container host Compiler: gcc (Debian 10.2.1-6) 10.2.1 20210110 To view detailed results, visit: https://lab.dpdk.org/results/dashboard/patchsets/32515/ UNH-IOL DPDK Community Lab To manage your email subscriptions, visit: https://lab.dpdk.org/results/dashboard/preferences/subscriptions/