From mboxrd@z Thu Jan 1 00:00:00 1970 Return-Path: Received: from mails.dpdk.org (mails.dpdk.org [217.70.189.124]) by inbox.dpdk.org (Postfix) with ESMTP id 5FBBD461B6 for ; Fri, 7 Feb 2025 06:35:22 +0100 (CET) Received: from mails.dpdk.org (localhost [127.0.0.1]) by mails.dpdk.org (Postfix) with ESMTP id 8A57142797; Fri, 7 Feb 2025 06:35:21 +0100 (CET) Received: from mail-il1-f227.google.com (mail-il1-f227.google.com [209.85.166.227]) by mails.dpdk.org (Postfix) with ESMTP id CCFC842795 for ; Fri, 7 Feb 2025 06:35:19 +0100 (CET) Received: by mail-il1-f227.google.com with SMTP id e9e14a558f8ab-3cf8e017abcso5094715ab.1 for ; Thu, 06 Feb 2025 21:35:19 -0800 (PST) DKIM-Signature: v=1; a=rsa-sha256; c=relaxed/relaxed; d=iol.unh.edu; s=unh-iol; t=1738906519; x=1739511319; darn=dpdk.org; h=references:in-reply-to:cc:to:from:subject:message-id:date:from:to :cc:subject:date:message-id:reply-to; bh=SbqwGgA3xRlem9CawKt5nHlyM1vanyieyfOtDPSv9CY=; b=KrKQMt6I2NhvZ90nZUL5J+wGKpgtFmZHTpyEpd5eAXQ5StPQCEsMX0oaUN2UfK9QC8 +mCBcFlxal874A/xQsFWxX00ZDGIPqHPzcCUzJc431ul6R33KCNGQQ+Bt3MAz26qIujk h6TPt5H3H4DX3d1vbEJ/+Ow2PP5k8/UvxiHu0= X-Google-DKIM-Signature: v=1; a=rsa-sha256; c=relaxed/relaxed; d=1e100.net; s=20230601; t=1738906519; x=1739511319; h=references:in-reply-to:cc:to:from:subject:message-id:date :x-gm-message-state:from:to:cc:subject:date:message-id:reply-to; bh=SbqwGgA3xRlem9CawKt5nHlyM1vanyieyfOtDPSv9CY=; b=izlnWduBQc04B06vFsjFUu5PzAJhUcmq9Z1md5eLqbxD5MNoxzKxrpV4HylZvD75ut OTSY78b8mk7RHewkGA4bCUgviOsUddwgQV5Co3TqgxeIPffKnQEnax0c7bEPU9g7Mt7G sxWNz5+m0FRABZHwcxPJChKC8dJYFkZuWWbS94MqgaD4bQyezpRneRjMRQnFQ8NoOoX9 N64QPNHMtUMT1Z/ZUXGb8AwOu3Z7FMVB+BKsEB+nEsw4i++0vAlqWC1AEQ60JYHu0Skj /xgc2r7NRKjNN+pyShEzjV4UGl71UefmhqwetCSxvhcSWlzQ7SBWzBWUZc+aCaiGiGZQ s3jQ== X-Gm-Message-State: AOJu0YwmAcCtUvausD3CRsAYMrRDVjHed3db14WkWEgw6KQ9xm/fdNMe u4lcpdE41tWW8UhAaNosMUPgpgioj6+uFx3ps0/aKiqfr3MPETkfsPA74kJjQkMw92xkr/DbmWc VhzZv/yCfpDgOF2E/Y3q6+hyBsisc+H/dnLHlvs+AN8eE40Am8UqKDbck X-Gm-Gg: ASbGncv+b485nMgKG/Hu3VN01vb6D6U+Pz8uaFlgeB3bf/aPtIy6xGLqtzb8lL4scPn pKVM+oHmR43G4bX4xQiuz3M2IWXI1RcjikF49m2yu35DQx3Z1JXdAw9Aig9j+m4cUTrWaXoX5Sg fS21YNe/ODsCQ7PTkGbLA9nI93iKJ5dL6pZFB93vdpO8pXCFiRfNr5KW+mgTtJfVAN1XjgnUtcB hUE7CWacpi5Blpq1/NQ1hp5jTti+aefPAMhO7Fu7W4tk10yOdNFBL4hABT4HhDRdIBZKtoaxuEi NTsYeZMM9vR02DWySm+h4MhrGF0d2ZyIMJcAhnhv6g== X-Google-Smtp-Source: AGHT+IER7vR6krOhZ4cbTHl7mBO40mzc/SRd06vm6XI8v2lTGYsQOg1IzgoyDfRKujJ+z+axorvAa9qG5mVj X-Received: by 2002:a05:6e02:198a:b0:3d0:258e:484f with SMTP id e9e14a558f8ab-3d13df003dcmr13750315ab.16.1738906519152; Thu, 06 Feb 2025 21:35:19 -0800 (PST) Received: from postal.iol.unh.edu (postal.iol.unh.edu. [2606:4100:3880:1234::84]) by smtp-relay.gmail.com with ESMTPS id 8926c6da1cb9f-4ecd9b0d63fsm74783173.36.2025.02.06.21.35.19 (version=TLS1_2 cipher=ECDHE-ECDSA-AES128-GCM-SHA256 bits=128/128); Thu, 06 Feb 2025 21:35:19 -0800 (PST) X-Relaying-Domain: iol.unh.edu Date: Thu, 06 Feb 2025 21:35:19 -0800 (PST) Message-ID: <67a59b97.050a0220.1d268a.45fbSMTPIN_ADDED_MISSING@mx.google.com> Received: from [172.21.0.6] (unknown [172.18.0.240]) by postal.iol.unh.edu (Postfix) with ESMTP id AC9466052471; Fri, 7 Feb 2025 00:35:18 -0500 (EST) Subject: |SUCCESS| pw151075 [PATCH] [v2] app/procinfo: add xstats parameter t From: dpdklab@iol.unh.edu To: Test Report Cc: dpdk-test-reports@iol.unh.edu In-Reply-To: <20250207031333.1782995-1-huangdengdui@huawei.com> References: <20250207031333.1782995-1-huangdengdui@huawei.com> Content-Type: text/plain X-BeenThere: test-report@dpdk.org X-Mailman-Version: 2.1.29 Precedence: list List-Id: automatic DPDK test reports List-Unsubscribe: , List-Archive: List-Post: List-Help: List-Subscribe: , Errors-To: test-report-bounces@dpdk.org Test-Label: iol-compile-amd64-testing Test-Status: SUCCESS http://dpdk.org/patch/151075 _Testing PASS_ Submitter: Dengdui Huang Date: Friday, February 07 2025 03:13:33 DPDK git baseline: Repo:dpdk Branch: master CommitID:1bf86800f7daf8d5c71a08a0776ff3b754ee6570 151075 --> testing pass Upstream job id: Generic-VM-DPDK-Compile-Meson#33118 Test environment and result as below: +---------------------+--------------------+-------------------------+-------------------+ | Environment | dpdk_meson_compile | dpdk_llvm_clang_compile | dpdk_msvc_compile | +=====================+====================+=========================+===================+ | FreeBSD 13.4 | PASS | SKIPPED | SKIPPED | +---------------------+--------------------+-------------------------+-------------------+ | FreeBSD 14.2 | PASS | SKIPPED | SKIPPED | +---------------------+--------------------+-------------------------+-------------------+ | Windows Server 2022 | SKIPPED | PASS | PASS | +---------------------+--------------------+-------------------------+-------------------+ FreeBSD 13.4 Kernel: 13.4-RELEASE-p1 Compiler: clang 18.1.6 FreeBSD 14.2 Kernel: 14.2-RELEASE Compiler: clang 18.1.6 Windows Server 2022 Kernel: 10.0.20348.2031 Compiler: clang 15.0.7, gcc 14.1.0 (MinGW), and MSVC VS 19.39.33521 To view detailed results, visit: https://lab.dpdk.org/results/dashboard/patchsets/32517/ UNH-IOL DPDK Community Lab To manage your email subscriptions, visit: https://lab.dpdk.org/results/dashboard/preferences/subscriptions/