From mboxrd@z Thu Jan 1 00:00:00 1970 Return-Path: Received: from mails.dpdk.org (mails.dpdk.org [217.70.189.124]) by inbox.dpdk.org (Postfix) with ESMTP id 1DDB3461B2 for ; Fri, 7 Feb 2025 06:37:55 +0100 (CET) Received: from mails.dpdk.org (localhost [127.0.0.1]) by mails.dpdk.org (Postfix) with ESMTP id F32AB42797; Fri, 7 Feb 2025 06:37:54 +0100 (CET) Received: from mail-io1-f98.google.com (mail-io1-f98.google.com [209.85.166.98]) by mails.dpdk.org (Postfix) with ESMTP id 1E6A442795 for ; Fri, 7 Feb 2025 06:37:53 +0100 (CET) Received: by mail-io1-f98.google.com with SMTP id ca18e2360f4ac-844d7f81dd1so53151139f.2 for ; Thu, 06 Feb 2025 21:37:53 -0800 (PST) DKIM-Signature: v=1; a=rsa-sha256; c=relaxed/relaxed; d=iol.unh.edu; s=unh-iol; t=1738906672; x=1739511472; darn=dpdk.org; h=cc:to:from:subject:message-id:date:from:to:cc:subject:date :message-id:reply-to; bh=F94X/5+tgHpG1fqIJPXHpKkRB8BC+M6vJL/eI1dnnzM=; b=S6eYHpqflpxWwAfnB1WZVGj1OWXTB/qDEA1EzwyUxs+grSmyY6cdBpDbfE5xt+Am8/ b8S48eGD2QgCynCvjqCl2S6FcvudVJWKRHenuGltWhREQf2uZ0CP2coOhnu+OB39Rgfm i5uIvZCyeIYf++vfpA7f4zjCFGRtdMmjNhMN4= X-Google-DKIM-Signature: v=1; a=rsa-sha256; c=relaxed/relaxed; d=1e100.net; s=20230601; t=1738906672; x=1739511472; h=cc:to:from:subject:message-id:date:x-gm-message-state:from:to:cc :subject:date:message-id:reply-to; bh=F94X/5+tgHpG1fqIJPXHpKkRB8BC+M6vJL/eI1dnnzM=; b=bVSHkWrIbP15ZJltl1E6e8vHxf23bdNCHD8X0HJysOdL2aOWL1cZUdzUCp5AtsTm8c myL/U51dPtbJv1AcEEFC7GBidYAQ9ocHbkkA2mkAcTpJuDAx7cZeH/zrEW/0fwKVsmKr E5C1fxpzfY+/lOyCLh6Ef7KB9MAtCgFHo0UTyIlQudsPLslRTkoSxzy06pThYlrVY1jV wcNL6FXYJF6UPMnBzVWB3OzchZvgWQ1JVHMPvw4L7W34PcKsbBUj2T/5duT3GzzEH16S mXR/wbWx/Rp6il5q3kqDLUGwHThIyXS4fD0/t46/GdsHkPnzQoxD0yXzn1J4M2PZ8/dk l4Dw== X-Gm-Message-State: AOJu0YwPJl3se6Rsb5CEr4lUS530RE7C7XeArR3zh97XYjHaR9X19+Dd HF3ikQQudiWwYJBXyyFecOO4L1KxynMx7tVDRYWbzG3DjtnEhKIShHbD5s7HcvUnzHqWW3mXixN mlr4BqoXVCAmdY7UhA53s412WSqq3HZ8uhE2tjZek X-Gm-Gg: ASbGncubpqb4MnLsmFkEn72eXz54KIX8kj9XA5+v308R2Da+4aMxEQWGH8xXVCw2WoY KlHh5DpxltgkzXxUoVmrvfCd/v4NIxRfj9zsdi8Glk/AaNCxp6HBE3/QIo5xoNxqeQPH4dm+8qK suu/6AMUq2DR2plL7JiYEqpcgzGfSLNoYDEa6khJdA4E+E9pJM9unLsrFUaga1EDz+iE4bej3J0 Z72dCkfCMkV6W9HydAl0I8D1cwWWSLgUn0QayBad4GJD4OMljGGnkTM/Ek+DPOLQwn7EZRYvw7S JfuU6mh1hJqVKhtOjYRv3YPc1PjGXQ== X-Google-Smtp-Source: AGHT+IEJBOu2jIrOrMc2pM6XS1u+Xch3YTeug6Ba2+hp0X6y9LqrTx02H1ZAzO43dUM/mLSIuL1Y3yIDA7Ui X-Received: by 2002:a05:6602:6a46:b0:844:cbd0:66ca with SMTP id ca18e2360f4ac-854fd8801e8mr238001239f.1.1738906672372; Thu, 06 Feb 2025 21:37:52 -0800 (PST) Received: from postal.iol.unh.edu (postal.iol.unh.edu. [132.177.123.84]) by smtp-relay.gmail.com with ESMTPS id 8926c6da1cb9f-4eccf9d56e2sm176359173.21.2025.02.06.21.37.52 (version=TLS1_2 cipher=ECDHE-ECDSA-AES128-GCM-SHA256 bits=128/128); Thu, 06 Feb 2025 21:37:52 -0800 (PST) X-Relaying-Domain: iol.unh.edu Date: Thu, 06 Feb 2025 21:37:52 -0800 (PST) Message-ID: <67a59c30.050a0220.273c5b.9baaSMTPIN_ADDED_MISSING@mx.google.com> Received: from [172.21.0.5] (unknown [172.18.0.240]) by postal.iol.unh.edu (Postfix) with ESMTP id D53EF6052471; Fri, 7 Feb 2025 00:37:51 -0500 (EST) Subject: |SUCCESS| [GIT MASTER] 7125636162d67b1c40ba6802a3ff4466d125d243 From: dpdklab@iol.unh.edu To: Test Report Cc: dpdk-test-reports@iol.unh.edu, Akhil Goyal Content-Type: text/plain X-BeenThere: test-report@dpdk.org X-Mailman-Version: 2.1.29 Precedence: list List-Id: automatic DPDK test reports List-Unsubscribe: , List-Archive: List-Post: List-Help: List-Subscribe: , Errors-To: test-report-bounces@dpdk.org _Testing PASS_ Branch: dpdk-next-crypto 7125636162d67b1c40ba6802a3ff4466d125d243 --> testing pass Upstream job id: Generic-Unit-Test-DPDK#312462 Test environment and result as below: +-----------------------------+--------------+---------------------------+------------------------------+----------------+ | Environment | lpm_autotest | cryptodev_sw_zuc_autotest | cryptodev_sw_snow3g_autotest | dpdk_unit_test | +=============================+==============+===========================+==============================+================+ | Ubuntu 20.04 ARM SVE | PASS | SKIPPED | SKIPPED | SKIPPED | +-----------------------------+--------------+---------------------------+------------------------------+----------------+ | Debian 12 (arm) | SKIPPED | PASS | PASS | PASS | +-----------------------------+--------------+---------------------------+------------------------------+----------------+ | RHEL9 (ARM) | SKIPPED | SKIPPED | SKIPPED | PASS | +-----------------------------+--------------+---------------------------+------------------------------+----------------+ | Debian 11 (Buster) (ARM) | SKIPPED | SKIPPED | SKIPPED | PASS | +-----------------------------+--------------+---------------------------+------------------------------+----------------+ | CentOS Stream 9 (ARM) | SKIPPED | SKIPPED | SKIPPED | PASS | +-----------------------------+--------------+---------------------------+------------------------------+----------------+ | Fedora 41 (ARM Clang) | SKIPPED | SKIPPED | SKIPPED | PASS | +-----------------------------+--------------+---------------------------+------------------------------+----------------+ | Ubuntu 20.04 (ARM) | SKIPPED | SKIPPED | SKIPPED | PASS | +-----------------------------+--------------+---------------------------+------------------------------+----------------+ | Ubuntu 22.04 (ARM) | SKIPPED | SKIPPED | SKIPPED | PASS | +-----------------------------+--------------+---------------------------+------------------------------+----------------+ | Fedora 40 (ARM Clang) | SKIPPED | SKIPPED | SKIPPED | PASS | +-----------------------------+--------------+---------------------------+------------------------------+----------------+ | Ubuntu 24.04 (ARM) | SKIPPED | SKIPPED | SKIPPED | PASS | +-----------------------------+--------------+---------------------------+------------------------------+----------------+ | Fedora 40 (ARM) | SKIPPED | SKIPPED | SKIPPED | PASS | +-----------------------------+--------------+---------------------------+------------------------------+----------------+ | Fedora 41 (ARM) | SKIPPED | SKIPPED | SKIPPED | PASS | +-----------------------------+--------------+---------------------------+------------------------------+----------------+ | 32-bit Ubuntu 22.04.4 (ARM) | SKIPPED | SKIPPED | SKIPPED | PASS | +-----------------------------+--------------+---------------------------+------------------------------+----------------+ Ubuntu 20.04 ARM SVE Kernel: Depends on container host Compiler: gcc (Ubuntu 10.5.0-1ubuntu1~20.04) 10.5.0 Debian 12 (arm) Kernel: Depends on container host Compiler: gcc (Debian 12.2.0-14) 12.2.0 RHEL9 (ARM) Kernel: Depends on container host Compiler: gcc 11.5.0 20240719 (Red Hat 11.5.0-2) Debian 11 (Buster) (ARM) Kernel: Depends on container host Compiler: gcc (Debian 10.2.1-6) 10.2.1 20210110 CentOS Stream 9 (ARM) Kernel: Depends on container host Compiler: gcc 11.5.0 20240719 (Red Hat 11.5.0-2) Fedora 41 (ARM Clang) Kernel: Depends on container host Compiler: clang 19.1.5 (Fedora 19.1.5-1.fc41) Ubuntu 20.04 (ARM) Kernel: Depends on container host Compiler: gcc (Ubuntu 9.4.0-1ubuntu1~20.04.2) 9.4.0 Ubuntu 22.04 (ARM) Kernel: Depends on container host Compiler: gcc (Ubuntu 11.4.0-1ubuntu1~22.04) 11.4.0 Fedora 40 (ARM Clang) Kernel: Depends on container host Compiler: clang 18.1.8 (Fedora 18.1.8-1.fc40) Ubuntu 24.04 (ARM) Kernel: Depends on container host Compiler: gcc (Ubuntu 13.3.0-6ubuntu2~24.04) 13.3.0 Fedora 40 (ARM) Kernel: Depends on container host Compiler: gcc 14.2.1 20240912 (Red Hat 14.2.1-3) Fedora 41 (ARM) Kernel: Depends on container host Compiler: gcc 14.2.1 20240912 (Red Hat 14.2.1-3) 32-bit Ubuntu 22.04.4 (ARM) Kernel: 5.15.83+ aarch64 Compiler: gcc (Ubuntu 11.4.0-1ubuntu1~22.04) 11.4.0 To view detailed results, visit: https://lab.dpdk.org/results/dashboard/tarballs/32476/ UNH-IOL DPDK Community Lab To manage your email subscriptions, visit: https://lab.dpdk.org/results/dashboard/preferences/subscriptions/