From mboxrd@z Thu Jan 1 00:00:00 1970 Return-Path: Received: from mails.dpdk.org (mails.dpdk.org [217.70.189.124]) by inbox.dpdk.org (Postfix) with ESMTP id 21C70461B2 for ; Fri, 7 Feb 2025 06:38:11 +0100 (CET) Received: from mails.dpdk.org (localhost [127.0.0.1]) by mails.dpdk.org (Postfix) with ESMTP id 1871C42797; Fri, 7 Feb 2025 06:38:11 +0100 (CET) Received: from mail-pl1-f225.google.com (mail-pl1-f225.google.com [209.85.214.225]) by mails.dpdk.org (Postfix) with ESMTP id E867542795 for ; Fri, 7 Feb 2025 06:38:09 +0100 (CET) Received: by mail-pl1-f225.google.com with SMTP id d9443c01a7336-21f48ab13d5so19661205ad.0 for ; Thu, 06 Feb 2025 21:38:09 -0800 (PST) DKIM-Signature: v=1; a=rsa-sha256; c=relaxed/relaxed; d=iol.unh.edu; s=unh-iol; t=1738906689; x=1739511489; darn=dpdk.org; h=cc:to:from:subject:message-id:date:from:to:cc:subject:date :message-id:reply-to; bh=v8+BIdZiFiQk2JZOPZh8yIZMV0UBKDBl9V4pSj3QPEs=; b=i1+y5b5p5+fXqHifrURlPzEvXyi5Ngv/2Pb1542kKFowvxNQ9vXYK+3FMzAF/0Kqif AVklf3zxwMtCg95Oa1odCl6JT1APViW0ong1gUdRLZeCfRUyyTQ7xEZcOLkcjA6FgR8i BQjgX+iPRAt9TSrN3l3aAn+cHN4ZybQNxghzY= X-Google-DKIM-Signature: v=1; a=rsa-sha256; c=relaxed/relaxed; d=1e100.net; s=20230601; t=1738906689; x=1739511489; h=cc:to:from:subject:message-id:date:x-gm-message-state:from:to:cc :subject:date:message-id:reply-to; bh=v8+BIdZiFiQk2JZOPZh8yIZMV0UBKDBl9V4pSj3QPEs=; b=iOske8mXQaYYccKMcXTI2ahgNxLJXvPC2njzDquRY9rra5M5+jSGgJ+1gDmWqB3804 xpZpfaMnSm4R3+JDlmyMu1T3NmaZ2mfqnSk0u1xXaEbKltgYbmSWY2K2362tXQP1Ah7B 2cfNmd8dj2HKNc3dWO4ovxtfyQOWbzN8/mWfQLiofXjqpjkehzOsTJDJMTFPwYWXeZ2g +zh4JawBkJN3fSl+p87Az0uUBL+t0w/RYw+Dq0gzLxTmuWu/Dzh1GDhfB8Gh2uY02fZs 97dV/pPSLtR4kUtvu3g8Zg3++P199/0RGEVibGOguQVXgJRnHVl3nPp0hJp4n/EXpUFb w2HQ== X-Gm-Message-State: AOJu0YzBCtQ/2V865ZByjj+Culnlr7Wd/Kjt58/nB0se+xKqpW3pqTOP AbMVICQpiOWpv8C7db1PhE7hWJug6F+O1UlQ/c04ArkhSfORdk2P2D+4iBMvnzPm1rOvaP4GLSc RkD6bemnp7LOeSkGHBjFkankg3V6qjk5zVhjheQNiciBQWbkfqDiRJocZ X-Gm-Gg: ASbGncv62IKwAD44IAldsEAO9uzV1h1TLZZl8m4kKEUiDOz+JghmK5xujbsXvoS9zXi D6njXzct/pPAeSqEJx/YyBiyHRIM/rx4eKtzUQQIB6YzdL5uAyGKeyE8Gbmu8qmaU65+8KOkJra Oj1srstCTq1fRHPwECcNn8l9zcy0ZRleKJVDVEO7BAOffS+ASxYfuaWrWv1g5Nz+2KaVHpAlaBp ynFNgYrl5/IIUPqcs4hQAcnNs76a1yNGiITUIX8Wdq8br5d5dlqndsKNuYmsS4JooeZCkfe8V7m R0Zc8BIyGlzwG1y5zIMhuXUIYtXaSj7L4Ds+kJPCig== X-Google-Smtp-Source: AGHT+IF3Z6SBnynPpNZb2bdXo7PSBUmmI5pe/4FdU9AdR5+0zmT0Co2B7nwkhpALFMXy3y7d9LJ3uhxS/LKd X-Received: by 2002:a17:902:cf0f:b0:21f:2ded:76ea with SMTP id d9443c01a7336-21f4e759d7fmr27402005ad.36.1738906689063; Thu, 06 Feb 2025 21:38:09 -0800 (PST) Received: from postal.iol.unh.edu (postal.iol.unh.edu. [2606:4100:3880:1234::84]) by smtp-relay.gmail.com with ESMTPS id d9443c01a7336-21f3688ffe6sm1279045ad.116.2025.02.06.21.38.08 (version=TLS1_2 cipher=ECDHE-ECDSA-AES128-GCM-SHA256 bits=128/128); Thu, 06 Feb 2025 21:38:09 -0800 (PST) X-Relaying-Domain: iol.unh.edu Date: Thu, 06 Feb 2025 21:38:09 -0800 (PST) Message-ID: <67a59c41.170a0220.382480.6b0bSMTPIN_ADDED_MISSING@mx.google.com> Received: from [172.21.0.5] (unknown [172.18.0.240]) by postal.iol.unh.edu (Postfix) with ESMTP id 802F96052471; Fri, 7 Feb 2025 00:38:08 -0500 (EST) Subject: |SUCCESS| [GIT MASTER] 7125636162d67b1c40ba6802a3ff4466d125d243 From: dpdklab@iol.unh.edu To: Test Report Cc: dpdk-test-reports@iol.unh.edu, Akhil Goyal Content-Type: text/plain X-BeenThere: test-report@dpdk.org X-Mailman-Version: 2.1.29 Precedence: list List-Id: automatic DPDK test reports List-Unsubscribe: , List-Archive: List-Post: List-Help: List-Subscribe: , Errors-To: test-report-bounces@dpdk.org _Testing PASS_ Branch: dpdk-next-crypto 7125636162d67b1c40ba6802a3ff4466d125d243 --> testing pass Upstream job id: Generic-Unit-Test-DPDK#312465 Test environment and result as below: +-----------------------------+--------------+---------------------------+------------------------------+----------------+ | Environment | lpm_autotest | cryptodev_sw_zuc_autotest | cryptodev_sw_snow3g_autotest | dpdk_unit_test | +=============================+==============+===========================+==============================+================+ | Ubuntu 20.04 ARM SVE | PASS | SKIPPED | SKIPPED | SKIPPED | +-----------------------------+--------------+---------------------------+------------------------------+----------------+ | Debian 12 (arm) | SKIPPED | PASS | PASS | PASS | +-----------------------------+--------------+---------------------------+------------------------------+----------------+ | RHEL9 (ARM) | SKIPPED | SKIPPED | SKIPPED | PASS | +-----------------------------+--------------+---------------------------+------------------------------+----------------+ | Debian 11 (Buster) (ARM) | SKIPPED | SKIPPED | SKIPPED | PASS | +-----------------------------+--------------+---------------------------+------------------------------+----------------+ | CentOS Stream 9 (ARM) | SKIPPED | SKIPPED | SKIPPED | PASS | +-----------------------------+--------------+---------------------------+------------------------------+----------------+ | Fedora 41 (ARM Clang) | SKIPPED | SKIPPED | SKIPPED | PASS | +-----------------------------+--------------+---------------------------+------------------------------+----------------+ | Ubuntu 20.04 (ARM) | SKIPPED | SKIPPED | SKIPPED | PASS | +-----------------------------+--------------+---------------------------+------------------------------+----------------+ | Ubuntu 22.04 (ARM) | SKIPPED | SKIPPED | SKIPPED | PASS | +-----------------------------+--------------+---------------------------+------------------------------+----------------+ | Fedora 40 (ARM Clang) | SKIPPED | SKIPPED | SKIPPED | PASS | +-----------------------------+--------------+---------------------------+------------------------------+----------------+ | Ubuntu 24.04 (ARM) | SKIPPED | SKIPPED | SKIPPED | PASS | +-----------------------------+--------------+---------------------------+------------------------------+----------------+ | Fedora 40 (ARM) | SKIPPED | SKIPPED | SKIPPED | PASS | +-----------------------------+--------------+---------------------------+------------------------------+----------------+ | Fedora 41 (ARM) | SKIPPED | SKIPPED | SKIPPED | PASS | +-----------------------------+--------------+---------------------------+------------------------------+----------------+ | 32-bit Ubuntu 22.04.4 (ARM) | SKIPPED | SKIPPED | SKIPPED | PASS | +-----------------------------+--------------+---------------------------+------------------------------+----------------+ Ubuntu 20.04 ARM SVE Kernel: Depends on container host Compiler: gcc (Ubuntu 10.5.0-1ubuntu1~20.04) 10.5.0 Debian 12 (arm) Kernel: Depends on container host Compiler: gcc (Debian 12.2.0-14) 12.2.0 RHEL9 (ARM) Kernel: Depends on container host Compiler: gcc 11.5.0 20240719 (Red Hat 11.5.0-2) Debian 11 (Buster) (ARM) Kernel: Depends on container host Compiler: gcc (Debian 10.2.1-6) 10.2.1 20210110 CentOS Stream 9 (ARM) Kernel: Depends on container host Compiler: gcc 11.5.0 20240719 (Red Hat 11.5.0-2) Fedora 41 (ARM Clang) Kernel: Depends on container host Compiler: clang 19.1.5 (Fedora 19.1.5-1.fc41) Ubuntu 20.04 (ARM) Kernel: Depends on container host Compiler: gcc (Ubuntu 9.4.0-1ubuntu1~20.04.2) 9.4.0 Ubuntu 22.04 (ARM) Kernel: Depends on container host Compiler: gcc (Ubuntu 11.4.0-1ubuntu1~22.04) 11.4.0 Fedora 40 (ARM Clang) Kernel: Depends on container host Compiler: clang 18.1.8 (Fedora 18.1.8-1.fc40) Ubuntu 24.04 (ARM) Kernel: Depends on container host Compiler: gcc (Ubuntu 13.3.0-6ubuntu2~24.04) 13.3.0 Fedora 40 (ARM) Kernel: Depends on container host Compiler: gcc 14.2.1 20240912 (Red Hat 14.2.1-3) Fedora 41 (ARM) Kernel: Depends on container host Compiler: gcc 14.2.1 20240912 (Red Hat 14.2.1-3) 32-bit Ubuntu 22.04.4 (ARM) Kernel: 5.15.83+ aarch64 Compiler: gcc (Ubuntu 11.4.0-1ubuntu1~22.04) 11.4.0 To view detailed results, visit: https://lab.dpdk.org/results/dashboard/tarballs/32476/ UNH-IOL DPDK Community Lab To manage your email subscriptions, visit: https://lab.dpdk.org/results/dashboard/preferences/subscriptions/