From mboxrd@z Thu Jan 1 00:00:00 1970 Return-Path: Received: from mails.dpdk.org (mails.dpdk.org [217.70.189.124]) by inbox.dpdk.org (Postfix) with ESMTP id 46680461B6 for ; Fri, 7 Feb 2025 06:39:08 +0100 (CET) Received: from mails.dpdk.org (localhost [127.0.0.1]) by mails.dpdk.org (Postfix) with ESMTP id 4202342798; Fri, 7 Feb 2025 06:39:08 +0100 (CET) Received: from mail-io1-f97.google.com (mail-io1-f97.google.com [209.85.166.97]) by mails.dpdk.org (Postfix) with ESMTP id F072C42797 for ; Fri, 7 Feb 2025 06:39:06 +0100 (CET) Received: by mail-io1-f97.google.com with SMTP id ca18e2360f4ac-844e10ef3cfso131048139f.2 for ; Thu, 06 Feb 2025 21:39:06 -0800 (PST) DKIM-Signature: v=1; a=rsa-sha256; c=relaxed/relaxed; d=iol.unh.edu; s=unh-iol; t=1738906746; x=1739511546; darn=dpdk.org; h=references:in-reply-to:cc:to:from:subject:message-id:date:from:to :cc:subject:date:message-id:reply-to; bh=hhEaQOXXhiFTPjXYguYuFzfVILe+r2Woq33PtbalpAk=; b=JpElPN7NwRiaR5pWQRho/b+m9xdDZuUgVo83Fsoa2SEM/AH5WakOStyIwLFezmMb4c rR/kG7oORTJoJN0zipobLIwqMC4dPE6CaISSzTfsxUUPfnyDKm5FFEoH3yb7CCIrPKFm rMQ9iwt/wAdkEuR2W/GZoXQXF+pBFJMpCDOjw= X-Google-DKIM-Signature: v=1; a=rsa-sha256; c=relaxed/relaxed; d=1e100.net; s=20230601; t=1738906746; x=1739511546; h=references:in-reply-to:cc:to:from:subject:message-id:date :x-gm-message-state:from:to:cc:subject:date:message-id:reply-to; bh=hhEaQOXXhiFTPjXYguYuFzfVILe+r2Woq33PtbalpAk=; b=thWP8q+JyYKs8VQ9Zijp5FcFtPRz9ohQTPSsWCGHNx/JRiDTC0opQs84jMYo79LP6u j+l8SH5QQtuZQ5DirfGeu7/T1wFVemYmyWPE4G9ynHx2Q2voqEu6zSr+ZZT/gFhnIqT8 FIMVuZyd++hIrf1xI+roE6mALJfWVeFmE5HokLxZdVbPpVrnpoGKKMUIxKXS2uVNt476 9Yc/gAyWNe9HKoW7BfsO19huKOYpEi73KhqRF0S5U6AlglnPKfk26k3gRwwUZGg0QZGu e10zco19h4kXPutWwpBKabEegF17Z0sfij/P7+pEVofS2tzZujh1QfrjO/xXQg4g7Ra1 pszA== X-Gm-Message-State: AOJu0YztGnQMyp6xxBOtgBh7gwcJuhRI+yzJ5Jl2ngCp035nT9f68EVe 0bK2mLAnzzU1NKJRKh9LSQJpncBwHHiRL1ChsURT6SX2Kbhwr57466hGXtqwcGirZ/e1VfkXxLd QRIGfFM3WGw6Vbw8MbeIVj2ePE2HJd+f5zYhut4tCTyVdPa9k1XtwsOr3 X-Gm-Gg: ASbGncte3buLYYFtpEhej2+19wNP7wo60o6mvrYnoeZ6uFrzXTwmAmfEurPeJfyx0FJ 3rGSH7F1mB2YUqFUHvfUrQxsYiJc3uPkryeI1TV9NIxusNg6sHOKIS6QovxchlDOGBhAxdaExmL 4pbZmE264hnkRNh8fjF7uISqUWP+vX324Pt3bfyMjisaOPSEIgQBgG16OyXTIgLZA9A6mWH/0fg AHMzHIvOdTT8icDdwmZ/t3nzf/zOVir+bCMLR1MhCGWl00W1eUUohfkgloQzfi+x5x57iMSAq3k BHDbTzdrvX9S5BnB8Qrbv9SKBReMg3QGF9umKzE78g== X-Google-Smtp-Source: AGHT+IGEY/pkihN6F9WOajNdl05aCh2rcTJhbuohbj1Kjp7Xey48zSAZMlcgWL+gHI3tAGpdpBDCAysJ7eW/ X-Received: by 2002:a05:6602:7289:b0:84a:5133:9cdd with SMTP id ca18e2360f4ac-854fd8f81e4mr243083339f.11.1738906746340; Thu, 06 Feb 2025 21:39:06 -0800 (PST) Received: from postal.iol.unh.edu (postal.iol.unh.edu. [2606:4100:3880:1234::84]) by smtp-relay.gmail.com with ESMTPS id 8926c6da1cb9f-4eccfaa1c89sm168793173.55.2025.02.06.21.39.06 (version=TLS1_2 cipher=ECDHE-ECDSA-AES128-GCM-SHA256 bits=128/128); Thu, 06 Feb 2025 21:39:06 -0800 (PST) X-Relaying-Domain: iol.unh.edu Date: Thu, 06 Feb 2025 21:39:06 -0800 (PST) Message-ID: <67a59c7a.050a0220.324955.946aSMTPIN_ADDED_MISSING@mx.google.com> Received: from [172.21.0.5] (unknown [172.18.0.240]) by postal.iol.unh.edu (Postfix) with ESMTP id 03EA66052471; Fri, 7 Feb 2025 00:39:06 -0500 (EST) Subject: |SUCCESS| pw149642-149643 [PATCH] [v3,2/2] config/arm: sort SOCs alp From: dpdklab@iol.unh.edu To: Test Report Cc: dpdk-test-reports@iol.unh.edu In-Reply-To: <20250106183146.540161-2-wathsala.vithanage@arm.com> References: <20250106183146.540161-2-wathsala.vithanage@arm.com> Content-Type: text/plain X-BeenThere: test-report@dpdk.org X-Mailman-Version: 2.1.29 Precedence: list List-Id: automatic DPDK test reports List-Unsubscribe: , List-Archive: List-Post: List-Help: List-Subscribe: , Errors-To: test-report-bounces@dpdk.org Test-Label: iol-unit-arm64-testing Test-Status: SUCCESS http://dpdk.org/patch/149643 _Testing PASS RETEST #1_ Submitter: Wathsala Vithanage Date: Monday, January 06 2025 18:31:46 DPDK git baseline: Repo:dpdk Branch: master CommitID:fd51012de5369679e807be1d6a81d63ef15015ce 149642-149643 --> testing pass Upstream job id: Generic-Unit-Test-DPDK#312440 Test environment and result as below: +-----------------------------+------------------------------+--------------+---------------------------+----------------+ | Environment | cryptodev_sw_snow3g_autotest | lpm_autotest | cryptodev_sw_zuc_autotest | dpdk_unit_test | +=============================+==============================+==============+===========================+================+ | Debian 12 (arm) | PASS | SKIPPED | PASS | PASS | +-----------------------------+------------------------------+--------------+---------------------------+----------------+ | Ubuntu 20.04 ARM SVE | SKIPPED | PASS | SKIPPED | SKIPPED | +-----------------------------+------------------------------+--------------+---------------------------+----------------+ | Debian 11 (Buster) (ARM) | SKIPPED | SKIPPED | SKIPPED | PASS | +-----------------------------+------------------------------+--------------+---------------------------+----------------+ | CentOS Stream 9 (ARM) | SKIPPED | SKIPPED | SKIPPED | PASS | +-----------------------------+------------------------------+--------------+---------------------------+----------------+ | Fedora 40 (ARM Clang) | SKIPPED | SKIPPED | SKIPPED | PASS | +-----------------------------+------------------------------+--------------+---------------------------+----------------+ | Fedora 40 (ARM) | SKIPPED | SKIPPED | SKIPPED | PASS | +-----------------------------+------------------------------+--------------+---------------------------+----------------+ | Fedora 41 (ARM) | SKIPPED | SKIPPED | SKIPPED | PASS | +-----------------------------+------------------------------+--------------+---------------------------+----------------+ | RHEL9 (ARM) | SKIPPED | SKIPPED | SKIPPED | PASS | +-----------------------------+------------------------------+--------------+---------------------------+----------------+ | Fedora 41 (ARM Clang) | SKIPPED | SKIPPED | SKIPPED | PASS | +-----------------------------+------------------------------+--------------+---------------------------+----------------+ | Ubuntu 20.04 (ARM) | SKIPPED | SKIPPED | SKIPPED | PASS | +-----------------------------+------------------------------+--------------+---------------------------+----------------+ | Ubuntu 22.04 (ARM) | SKIPPED | SKIPPED | SKIPPED | PASS | +-----------------------------+------------------------------+--------------+---------------------------+----------------+ | Ubuntu 24.04 (ARM) | SKIPPED | SKIPPED | SKIPPED | PASS | +-----------------------------+------------------------------+--------------+---------------------------+----------------+ | 32-bit Ubuntu 22.04.4 (ARM) | SKIPPED | SKIPPED | SKIPPED | PASS | +-----------------------------+------------------------------+--------------+---------------------------+----------------+ Debian 12 (arm) Kernel: Depends on container host Compiler: gcc (Debian 12.2.0-14) 12.2.0 Ubuntu 20.04 ARM SVE Kernel: Depends on container host Compiler: gcc (Ubuntu 10.5.0-1ubuntu1~20.04) 10.5.0 Debian 11 (Buster) (ARM) Kernel: Depends on container host Compiler: gcc (Debian 10.2.1-6) 10.2.1 20210110 CentOS Stream 9 (ARM) Kernel: Depends on container host Compiler: gcc 11.5.0 20240719 (Red Hat 11.5.0-2) Fedora 40 (ARM Clang) Kernel: Depends on container host Compiler: clang 18.1.8 (Fedora 18.1.8-1.fc40) Fedora 40 (ARM) Kernel: Depends on container host Compiler: gcc 14.2.1 20240912 (Red Hat 14.2.1-3) Fedora 41 (ARM) Kernel: Depends on container host Compiler: gcc 14.2.1 20240912 (Red Hat 14.2.1-3) RHEL9 (ARM) Kernel: Depends on container host Compiler: gcc 11.5.0 20240719 (Red Hat 11.5.0-2) Fedora 41 (ARM Clang) Kernel: Depends on container host Compiler: clang 19.1.5 (Fedora 19.1.5-1.fc41) Ubuntu 20.04 (ARM) Kernel: Depends on container host Compiler: gcc (Ubuntu 9.4.0-1ubuntu1~20.04.2) 9.4.0 Ubuntu 22.04 (ARM) Kernel: Depends on container host Compiler: gcc (Ubuntu 11.4.0-1ubuntu1~22.04) 11.4.0 Ubuntu 24.04 (ARM) Kernel: Depends on container host Compiler: gcc (Ubuntu 13.3.0-6ubuntu2~24.04) 13.3.0 32-bit Ubuntu 22.04.4 (ARM) Kernel: 5.15.83+ aarch64 Compiler: gcc (Ubuntu 11.4.0-1ubuntu1~22.04) 11.4.0 To view detailed results, visit: https://lab.dpdk.org/results/dashboard/patchsets/32260/ UNH-IOL DPDK Community Lab To manage your email subscriptions, visit: https://lab.dpdk.org/results/dashboard/preferences/subscriptions/