From mboxrd@z Thu Jan 1 00:00:00 1970 Return-Path: Received: from mails.dpdk.org (mails.dpdk.org [217.70.189.124]) by inbox.dpdk.org (Postfix) with ESMTP id 3B89C461B6 for ; Fri, 7 Feb 2025 07:09:37 +0100 (CET) Received: from mails.dpdk.org (localhost [127.0.0.1]) by mails.dpdk.org (Postfix) with ESMTP id 3826C42797; Fri, 7 Feb 2025 07:09:37 +0100 (CET) Received: from mail-pl1-f228.google.com (mail-pl1-f228.google.com [209.85.214.228]) by mails.dpdk.org (Postfix) with ESMTP id 6942542795 for ; Fri, 7 Feb 2025 07:09:36 +0100 (CET) Received: by mail-pl1-f228.google.com with SMTP id d9443c01a7336-21670dce0a7so40657935ad.1 for ; Thu, 06 Feb 2025 22:09:36 -0800 (PST) DKIM-Signature: v=1; a=rsa-sha256; c=relaxed/relaxed; d=iol.unh.edu; s=unh-iol; t=1738908575; x=1739513375; darn=dpdk.org; h=cc:to:from:subject:message-id:date:from:to:cc:subject:date :message-id:reply-to; bh=56YQWyDS3izLmmdvNeFa8ycKhOLowPmUDtsXV+PEv1U=; b=jLngWlXxh+HV0ZPJGFtavjJ6RRH9wTByR2UgYn3LwDU/pCLMFJBXrOXPHSiMv7Lh3F FdAhAtG0DfjyvKEK1M8vtpvXUgLCFjJKcRJ2DgAvT154Lro/MZWcuSceFjU9xHgWIniS nQ9rhu0pMo+JiHtj46WmOvr/zMVl8iZs0+Li8= X-Google-DKIM-Signature: v=1; a=rsa-sha256; c=relaxed/relaxed; d=1e100.net; s=20230601; t=1738908575; x=1739513375; h=cc:to:from:subject:message-id:date:x-gm-message-state:from:to:cc :subject:date:message-id:reply-to; bh=56YQWyDS3izLmmdvNeFa8ycKhOLowPmUDtsXV+PEv1U=; b=hMRVh9SlmnkT++hd1FRGranKRbZ+K//R+tKrGpRJI8dGLPCDFv3rtvdRylK1/cV17n AUxTq161fAN3hCW7RPfPWRKEHJPpqIt8zwWJzb3Qxb5J9TFCg9LSFWbxdCVn5ShkCua3 1kY2SlqfjrnFlZrwmUFK38U+3X5g7S0eufdc0t1rieLWUT6X9PFrTkc3OIeOezXTACHN MNtJucYuO/BTOq5XsmodlSpfeMt5RJPNzZ/HMgQpzUMSozlqhlpcJsbVNPryvcRl8y3Z vNqBQJUaolFj99+0eibn3uRVHFr4IsgXhKtURATVnqi3+Kchxa1kVN1UVzYbviW1VLg9 Bgcg== X-Gm-Message-State: AOJu0YzDy5JE6iWZUzHq748Ev6itKfprKoJPNp3csHvJPaQvYpkENRr2 rJq2BweoQw1fypocLOZo4vfpbuisBDXcCi5JdpR9+eAdXeO6VpfPopxxQRf2XSjWeaht08Hn86N OKY1vqK18kMDON61F6m77SMU5OWebwIISZFM39jrRbAvJ0+VVWcm0yHnD X-Gm-Gg: ASbGncu2Ui15AC6vP7+Zpm5IfjlYQADeSYzy9LUWbfiYkPJjkFmj9f0paDuR1WBPoJo 3qz86EIDjCTZNrxr8Mixb2pqtpUlg0kJAOprTv4QiXyMZ+mSd/D41yDPNjN4aE7l9Q6qJuzVT/q m3CBGIlHvnyq1gkKTx96/E3UUJ5Hlw352Bn7+HPtZpgOl8MVZwT7EsSCapW6mWY3GZVDSwsHnId lcLl1zqCkbXE1ybV34eWI0ugMx39Ib4H5Tu9DbADgs57q/49qsB8180O95X5J2chQQ8uNNTGLDv dszc4T3I3bXbdSU/ZkbgDe/vKeIfPVVWFr0itkzNZQ== X-Google-Smtp-Source: AGHT+IF1mjDthaKJ4GOq3+VvdlwJm3QgwLBLi9Jh4y9uz7cepSO5loonPmbEj8F1nBujr7wjqFaPjX5oH7xp X-Received: by 2002:a17:902:d50f:b0:21f:78f:c178 with SMTP id d9443c01a7336-21f4e6cea22mr37045435ad.3.1738908575572; Thu, 06 Feb 2025 22:09:35 -0800 (PST) Received: from postal.iol.unh.edu (postal.iol.unh.edu. [2606:4100:3880:1234::84]) by smtp-relay.gmail.com with ESMTPS id d9443c01a7336-21f3689056asm1279065ad.119.2025.02.06.22.09.35 (version=TLS1_2 cipher=ECDHE-ECDSA-AES128-GCM-SHA256 bits=128/128); Thu, 06 Feb 2025 22:09:35 -0800 (PST) X-Relaying-Domain: iol.unh.edu Date: Thu, 06 Feb 2025 22:09:35 -0800 (PST) Message-ID: <67a5a39f.170a0220.3c32b3.6a39SMTPIN_ADDED_MISSING@mx.google.com> Received: from [172.21.0.6] (unknown [172.18.0.240]) by postal.iol.unh.edu (Postfix) with ESMTP id AA7C16052471; Fri, 7 Feb 2025 01:09:34 -0500 (EST) Subject: |SUCCESS| [GIT MASTER] 7125636162d67b1c40ba6802a3ff4466d125d243 From: dpdklab@iol.unh.edu To: Test Report Cc: dpdk-test-reports@iol.unh.edu, Akhil Goyal Content-Type: text/plain X-BeenThere: test-report@dpdk.org X-Mailman-Version: 2.1.29 Precedence: list List-Id: automatic DPDK test reports List-Unsubscribe: , List-Archive: List-Post: List-Help: List-Subscribe: , Errors-To: test-report-bounces@dpdk.org _Testing PASS_ Branch: dpdk-next-crypto 7125636162d67b1c40ba6802a3ff4466d125d243 --> testing pass Upstream job id: Generic-DPDK-Compile-Meson#358800 Test environment and result as below: +----------------------------------------+--------------------+ | Environment | dpdk_meson_compile | +========================================+====================+ | RHEL9 (ARM) | PASS | +----------------------------------------+--------------------+ | Ubuntu 20.04 ARM GCC Cross Compile | PASS | +----------------------------------------+--------------------+ | Ubuntu 20.04 ARM SVE | PASS | +----------------------------------------+--------------------+ | Debian 12 with MUSDK | PASS | +----------------------------------------+--------------------+ | Fedora 40 (ARM) | PASS | +----------------------------------------+--------------------+ | Fedora 40 (ARM Clang) | PASS | +----------------------------------------+--------------------+ | Fedora 41 (ARM) | PASS | +----------------------------------------+--------------------+ | Fedora 41 (ARM Clang) | PASS | +----------------------------------------+--------------------+ | Ubuntu 20.04 (ARM) | PASS | +----------------------------------------+--------------------+ | Ubuntu 24.04 (ARM) | PASS | +----------------------------------------+--------------------+ | CentOS Stream 9 (ARM) | PASS | +----------------------------------------+--------------------+ | Debian 11 (Buster) (ARM) | PASS | +----------------------------------------+--------------------+ | Debian 12 (arm) | PASS | +----------------------------------------+--------------------+ | Ubuntu 20.04 ARM Clang Cross Compile | PASS | +----------------------------------------+--------------------+ | Ubuntu 20.04 aarch32 GCC Cross Compile | PASS | +----------------------------------------+--------------------+ | Ubuntu 22.04 (ARM) | PASS | +----------------------------------------+--------------------+ RHEL9 (ARM) Kernel: Depends on container host Compiler: gcc 11.5.0 20240719 (Red Hat 11.5.0-2) Ubuntu 20.04 ARM GCC Cross Compile Kernel: Depends on container host Compiler: aarch64-linux-gnu-gcc (Ubuntu 9.4.0-1ubuntu1~20.04.2) 9.4.0 Ubuntu 20.04 ARM SVE Kernel: Depends on container host Compiler: gcc (Ubuntu 10.5.0-1ubuntu1~20.04) 10.5.0 Debian 12 with MUSDK Kernel: Depends on container host Compiler: gcc (Debian 12.2.0-14) 12.2.0 Fedora 40 (ARM) Kernel: Depends on container host Compiler: gcc 14.2.1 20240912 (Red Hat 14.2.1-3) Fedora 40 (ARM Clang) Kernel: Depends on container host Compiler: clang 18.1.8 (Fedora 18.1.8-1.fc40) Fedora 41 (ARM) Kernel: Depends on container host Compiler: gcc 14.2.1 20240912 (Red Hat 14.2.1-3) Fedora 41 (ARM Clang) Kernel: Depends on container host Compiler: clang 19.1.5 (Fedora 19.1.5-1.fc41) Ubuntu 20.04 (ARM) Kernel: Depends on container host Compiler: gcc (Ubuntu 9.4.0-1ubuntu1~20.04.2) 9.4.0 Ubuntu 24.04 (ARM) Kernel: Depends on container host Compiler: gcc (Ubuntu 13.3.0-6ubuntu2~24.04) 13.3.0 CentOS Stream 9 (ARM) Kernel: Depends on container host Compiler: gcc 11.5.0 20240719 (Red Hat 11.5.0-2) Debian 11 (Buster) (ARM) Kernel: Depends on container host Compiler: gcc (Debian 10.2.1-6) 10.2.1 20210110 Debian 12 (arm) Kernel: Depends on container host Compiler: gcc (Debian 12.2.0-14) 12.2.0 Ubuntu 20.04 ARM Clang Cross Compile Kernel: Depends on container host Compiler: clang 10.0.0-4ubuntu1 Ubuntu 20.04 aarch32 GCC Cross Compile Kernel: Depends on container host Compiler: gcc 9.4.0 Ubuntu 22.04 (ARM) Kernel: Depends on container host Compiler: gcc (Ubuntu 11.4.0-1ubuntu1~22.04) 11.4.0 To view detailed results, visit: https://lab.dpdk.org/results/dashboard/tarballs/32476/ UNH-IOL DPDK Community Lab To manage your email subscriptions, visit: https://lab.dpdk.org/results/dashboard/preferences/subscriptions/