From mboxrd@z Thu Jan 1 00:00:00 1970 Return-Path: Received: from mails.dpdk.org (mails.dpdk.org [217.70.189.124]) by inbox.dpdk.org (Postfix) with ESMTP id DDCD2461B6 for ; Fri, 7 Feb 2025 07:19:30 +0100 (CET) Received: from mails.dpdk.org (localhost [127.0.0.1]) by mails.dpdk.org (Postfix) with ESMTP id D76CF42797; Fri, 7 Feb 2025 07:19:30 +0100 (CET) Received: from mail-pj1-f98.google.com (mail-pj1-f98.google.com [209.85.216.98]) by mails.dpdk.org (Postfix) with ESMTP id CB82F42795 for ; Fri, 7 Feb 2025 07:19:28 +0100 (CET) Received: by mail-pj1-f98.google.com with SMTP id 98e67ed59e1d1-2f9d627b5fbso3049764a91.2 for ; Thu, 06 Feb 2025 22:19:28 -0800 (PST) DKIM-Signature: v=1; a=rsa-sha256; c=relaxed/relaxed; d=iol.unh.edu; s=unh-iol; t=1738909168; x=1739513968; darn=dpdk.org; h=references:in-reply-to:cc:to:from:subject:message-id:date:from:to :cc:subject:date:message-id:reply-to; bh=h5jiPthIMOGLHlFHAwC/oYd+QmxR4DkdjuLuR7TBPKg=; b=EZPfLp6pzPGehMjdaIj0vAexRUR3PbRHbgWQO6fsNqewOLUnSpdK1tdQIglmAa5iiI PtmVLFuf6E1df6vcKGxAmuPgS7H9JbN4h6n/aDfV4IrPTmOwyFw9MFh4hh18LllaeAcK YF1cLaye5+GG8wpYcP+Ss29gkhqKuJGsLDwUM= X-Google-DKIM-Signature: v=1; a=rsa-sha256; c=relaxed/relaxed; d=1e100.net; s=20230601; t=1738909168; x=1739513968; h=references:in-reply-to:cc:to:from:subject:message-id:date :x-gm-message-state:from:to:cc:subject:date:message-id:reply-to; bh=h5jiPthIMOGLHlFHAwC/oYd+QmxR4DkdjuLuR7TBPKg=; b=imWYbOMtj/rvorqS/DRrtUsiVkD4UFEwCcwot7MLwNnl4IQi5ablsXEYgHSRinqwIC L1mbgyWzBuakd30as5a6KQBRZnqrk0uIoaClzFJoLNtsF8BOfwuIX6kfuagHOgf4cx2D X81WuVk9yBGWDXdbuk5JsrOaAc0q7ych6W3QeEcyuq5k0ZNqM9gK8Ope4W+WyNCAzGY6 ttH4HSmjC7ec/C3lMT2GKim6qWtr7qJTwR2rgQm5XG/d8ZwTTkeJrRzteeQ/He7aR6KG zj1roepacmbBoIgWi7vuf63aTyZjcYr23exOv3QDB27TzQ65+wmiHFsP4lsU8WvmV1Gf dhJg== X-Gm-Message-State: AOJu0YxTnnHss2U21X2r1MRuq+vRL5wjeTKuxznxSC7Gophu8BOVfMZG v4T6r5XlIGjuY++NYIXcwgzcZI2AUGGaTfnMZ1iF4TNFg9agxlXnppmECj/h05nFq7ycvgMKVlg NE0GBLNBruEsKouM0jHMuz8aJD36eiaP2DocBs5iUUMgio/NVmOSxR4+T X-Gm-Gg: ASbGncvcx181fJPfkwXQl7pOLpvcsD7b1nmEg5hyQ1nBy36IMRThdTJWYrae1Lsaxui NB6mE7vqYkWpJo+/8MwDXOFUyyEQ9Wpzu8bDPI4IwhTfQ7WMgFSrOU1K67vLaPOBvfK3ho0pqg6 Llk2+YVjTIRkn1cnKc57ZO35ylt7X4Zlz38QMbb+FMEkI9zSAW4xcVC627OUPbTevCLQ9cUoDHx rFSS0ZRZLT4xdObVtw4I0sA+bSUbaPuL9k6mw8udIOVlX0sDAZspWaiZFr4PMPsbmEDaYz5p5F1 TzUQpPMPgwpQnrf843ljAuni3xdDj6S45grOTI5zVw== X-Google-Smtp-Source: AGHT+IH79a/nSTgJByecz3TDRvC+daRB8yC6tLlHE5tbTkkx0GDVpLsJPauuTxnbbw0d/KWOepMZ0akXXz4U X-Received: by 2002:a17:90b:3d03:b0:2f9:cf97:56a6 with SMTP id 98e67ed59e1d1-2fa24064218mr3656887a91.14.1738909167853; Thu, 06 Feb 2025 22:19:27 -0800 (PST) Received: from postal.iol.unh.edu (postal.iol.unh.edu. [2606:4100:3880:1234::84]) by smtp-relay.gmail.com with ESMTPS id d9443c01a7336-21f3653ad84sm1443505ad.31.2025.02.06.22.19.27 (version=TLS1_2 cipher=ECDHE-ECDSA-AES128-GCM-SHA256 bits=128/128); Thu, 06 Feb 2025 22:19:27 -0800 (PST) X-Relaying-Domain: iol.unh.edu Date: Thu, 06 Feb 2025 22:19:27 -0800 (PST) Message-ID: <67a5a5ef.170a0220.39f0c7.7d25SMTPIN_ADDED_MISSING@mx.google.com> Received: from [172.21.0.5] (unknown [172.18.0.240]) by postal.iol.unh.edu (Postfix) with ESMTP id 5605E6052471; Fri, 7 Feb 2025 01:19:27 -0500 (EST) Subject: |SUCCESS| pw151071 [PATCH] [v3] net: add thread-safe crc api From: dpdklab@iol.unh.edu To: Test Report Cc: dpdk-test-reports@iol.unh.edu In-Reply-To: <20250206203844.3874038-1-arkadiuszx.kusztal@intel.com> References: <20250206203844.3874038-1-arkadiuszx.kusztal@intel.com> Content-Type: text/plain X-BeenThere: test-report@dpdk.org X-Mailman-Version: 2.1.29 Precedence: list List-Id: automatic DPDK test reports List-Unsubscribe: , List-Archive: List-Post: List-Help: List-Subscribe: , Errors-To: test-report-bounces@dpdk.org Test-Label: iol-unit-arm64-testing Test-Status: SUCCESS http://dpdk.org/patch/151071 _Testing PASS_ Submitter: Kusztal, ArkadiuszX Date: Thursday, February 06 2025 20:38:44 DPDK git baseline: Repo:dpdk Branch: master CommitID:7125636162d67b1c40ba6802a3ff4466d125d243 151071 --> testing pass Upstream job id: Generic-Unit-Test-DPDK#312501 Test environment and result as below: +-----------------------------+----------------+------------------------------+--------------+---------------------------+ | Environment | dpdk_unit_test | cryptodev_sw_snow3g_autotest | lpm_autotest | cryptodev_sw_zuc_autotest | +=============================+================+==============================+==============+===========================+ | Debian 11 (Buster) (ARM) | PASS | SKIPPED | SKIPPED | SKIPPED | +-----------------------------+----------------+------------------------------+--------------+---------------------------+ | Fedora 40 (ARM) | PASS | SKIPPED | SKIPPED | SKIPPED | +-----------------------------+----------------+------------------------------+--------------+---------------------------+ | Fedora 41 (ARM) | PASS | SKIPPED | SKIPPED | SKIPPED | +-----------------------------+----------------+------------------------------+--------------+---------------------------+ | Ubuntu 20.04 (ARM) | PASS | SKIPPED | SKIPPED | SKIPPED | +-----------------------------+----------------+------------------------------+--------------+---------------------------+ | CentOS Stream 9 (ARM) | PASS | SKIPPED | SKIPPED | SKIPPED | +-----------------------------+----------------+------------------------------+--------------+---------------------------+ | RHEL9 (ARM) | PASS | SKIPPED | SKIPPED | SKIPPED | +-----------------------------+----------------+------------------------------+--------------+---------------------------+ | Debian 12 (arm) | PASS | PASS | SKIPPED | PASS | +-----------------------------+----------------+------------------------------+--------------+---------------------------+ | Ubuntu 22.04 (ARM) | PASS | SKIPPED | SKIPPED | SKIPPED | +-----------------------------+----------------+------------------------------+--------------+---------------------------+ | Fedora 40 (ARM Clang) | PASS | SKIPPED | SKIPPED | SKIPPED | +-----------------------------+----------------+------------------------------+--------------+---------------------------+ | Fedora 41 (ARM Clang) | PASS | SKIPPED | SKIPPED | SKIPPED | +-----------------------------+----------------+------------------------------+--------------+---------------------------+ | Ubuntu 24.04 (ARM) | PASS | SKIPPED | SKIPPED | SKIPPED | +-----------------------------+----------------+------------------------------+--------------+---------------------------+ | 32-bit Ubuntu 22.04.4 (ARM) | PASS | SKIPPED | SKIPPED | SKIPPED | +-----------------------------+----------------+------------------------------+--------------+---------------------------+ | Ubuntu 20.04 ARM SVE | SKIPPED | SKIPPED | PASS | SKIPPED | +-----------------------------+----------------+------------------------------+--------------+---------------------------+ Debian 11 (Buster) (ARM) Kernel: Depends on container host Compiler: gcc (Debian 10.2.1-6) 10.2.1 20210110 Fedora 40 (ARM) Kernel: Depends on container host Compiler: gcc 14.2.1 20240912 (Red Hat 14.2.1-3) Fedora 41 (ARM) Kernel: Depends on container host Compiler: gcc 14.2.1 20240912 (Red Hat 14.2.1-3) Ubuntu 20.04 (ARM) Kernel: Depends on container host Compiler: gcc (Ubuntu 9.4.0-1ubuntu1~20.04.2) 9.4.0 CentOS Stream 9 (ARM) Kernel: Depends on container host Compiler: gcc 11.5.0 20240719 (Red Hat 11.5.0-2) RHEL9 (ARM) Kernel: Depends on container host Compiler: gcc 11.5.0 20240719 (Red Hat 11.5.0-2) Debian 12 (arm) Kernel: Depends on container host Compiler: gcc (Debian 12.2.0-14) 12.2.0 Ubuntu 22.04 (ARM) Kernel: Depends on container host Compiler: gcc (Ubuntu 11.4.0-1ubuntu1~22.04) 11.4.0 Fedora 40 (ARM Clang) Kernel: Depends on container host Compiler: clang 18.1.8 (Fedora 18.1.8-1.fc40) Fedora 41 (ARM Clang) Kernel: Depends on container host Compiler: clang 19.1.5 (Fedora 19.1.5-1.fc41) Ubuntu 24.04 (ARM) Kernel: Depends on container host Compiler: gcc (Ubuntu 13.3.0-6ubuntu2~24.04) 13.3.0 32-bit Ubuntu 22.04.4 (ARM) Kernel: 5.15.83+ aarch64 Compiler: gcc (Ubuntu 11.4.0-1ubuntu1~22.04) 11.4.0 Ubuntu 20.04 ARM SVE Kernel: Depends on container host Compiler: gcc (Ubuntu 10.5.0-1ubuntu1~20.04) 10.5.0 To view detailed results, visit: https://lab.dpdk.org/results/dashboard/patchsets/32514/ UNH-IOL DPDK Community Lab To manage your email subscriptions, visit: https://lab.dpdk.org/results/dashboard/preferences/subscriptions/