From: dpdklab@iol.unh.edu
To: Test Report <test-report@dpdk.org>
Cc: dpdk-test-reports@iol.unh.edu
Subject: |SUCCESS| pw151076-151077 [PATCH] [v1,2/2] net/r8169: add support fo
Date: Thu, 06 Feb 2025 22:45:37 -0800 (PST) [thread overview]
Message-ID: <67a5ac11.050a0220.1fecdc.126bSMTPIN_ADDED_MISSING@mx.google.com> (raw)
In-Reply-To: <20250207031845.22168-3-howard_wang@realsil.com.cn>
Test-Label: iol-sample-apps-testing
Test-Status: SUCCESS
http://dpdk.org/patch/151077
_Testing PASS_
Submitter: Howard Wang <howard_wang@realsil.com.cn>
Date: Friday, February 07 2025 03:18:45
DPDK git baseline: Repo:dpdk
Branch: master
CommitID:e5ece9ae686535f29ae72c03fec26dc16ff7a925
151076-151077 --> testing pass
Upstream job id: ACVP-FIPS-testing#8803
Test environment and result as below:
+--------------------+----------------------+----------------------+
| Environment | compressdev_zlib_pmd | dpdk_fips_validation |
+====================+======================+======================+
| Ubuntu 22.04 (ARM) | PASS | SKIPPED |
+--------------------+----------------------+----------------------+
| Ubuntu 22.04 | PASS | SKIPPED |
+--------------------+----------------------+----------------------+
| Ubuntu 20.04 | SKIPPED | PASS |
+--------------------+----------------------+----------------------+
Ubuntu 22.04 (ARM)
Kernel: 5.15.0-97-generic
Compiler: gcc gcc (Ubuntu 11.4.0-1ubuntu1~22.04) 11.4.0
Ubuntu 22.04
Kernel: 5.15.0-100-generic
Compiler: gcc gcc (Ubuntu 11.4.0-1ubuntu1~22.04) 11.4.0
Ubuntu 20.04
Kernel: Depends on container host
Compiler: gcc (Ubuntu 9.4.0-1ubuntu1~20.04.2) 9.4.0
To view detailed results, visit:
https://lab.dpdk.org/results/dashboard/patchsets/32518/
UNH-IOL DPDK Community Lab
To manage your email subscriptions, visit:
https://lab.dpdk.org/results/dashboard/preferences/subscriptions/
next prev parent reply other threads:[~2025-02-07 6:45 UTC|newest]
Thread overview: 17+ messages / expand[flat|nested] mbox.gz Atom feed top
[not found] <20250207031845.22168-3-howard_wang@realsil.com.cn>
2025-02-07 2:45 ` |SUCCESS| pw151076-151077 [PATCH v1 2/2] net/r8169: add support for RTL8168KB qemudev
2025-02-07 2:49 ` qemudev
2025-02-07 3:19 ` |WARNING| pw151077 " checkpatch
2025-02-07 4:24 ` |SUCCESS| pw151076-151077 [PATCH] [v1,2/2] net/r8169: add support fo dpdklab
2025-02-07 4:24 ` |SUCCESS| pw151077 [PATCH v1 2/2] net/r8169: add support for RTL8168KB 0-day Robot
2025-02-07 4:31 ` |SUCCESS| pw151076-151077 [PATCH] [v1,2/2] net/r8169: add support fo dpdklab
2025-02-07 4:38 ` dpdklab
2025-02-07 4:40 ` dpdklab
2025-02-07 4:44 ` dpdklab
2025-02-07 4:46 ` |PENDING| " dpdklab
2025-02-07 4:50 ` dpdklab
2025-02-07 4:57 ` |SUCCESS| " dpdklab
2025-02-07 6:45 ` dpdklab [this message]
2025-02-07 6:45 ` dpdklab
2025-02-07 6:48 ` dpdklab
2025-02-07 8:05 ` |PENDING| " dpdklab
2025-02-07 8:57 ` |SUCCESS| " dpdklab
Reply instructions:
You may reply publicly to this message via plain-text email
using any one of the following methods:
* Save the following mbox file, import it into your mail client,
and reply-to-all from there: mbox
Avoid top-posting and favor interleaved quoting:
https://en.wikipedia.org/wiki/Posting_style#Interleaved_style
* Reply using the --to, --cc, and --in-reply-to
switches of git-send-email(1):
git send-email \
--in-reply-to=67a5ac11.050a0220.1fecdc.126bSMTPIN_ADDED_MISSING@mx.google.com \
--to=dpdklab@iol.unh.edu \
--cc=dpdk-test-reports@iol.unh.edu \
--cc=test-report@dpdk.org \
/path/to/YOUR_REPLY
https://kernel.org/pub/software/scm/git/docs/git-send-email.html
* If your mail client supports setting the In-Reply-To header
via mailto: links, try the mailto: link
Be sure your reply has a Subject: header at the top and a blank line
before the message body.
This is a public inbox, see mirroring instructions
for how to clone and mirror all data and code used for this inbox;
as well as URLs for NNTP newsgroup(s).