From mboxrd@z Thu Jan 1 00:00:00 1970 Return-Path: Received: from mails.dpdk.org (mails.dpdk.org [217.70.189.124]) by inbox.dpdk.org (Postfix) with ESMTP id 8C86F461B6 for ; Fri, 7 Feb 2025 07:45:54 +0100 (CET) Received: from mails.dpdk.org (localhost [127.0.0.1]) by mails.dpdk.org (Postfix) with ESMTP id 87B42402BC; Fri, 7 Feb 2025 07:45:54 +0100 (CET) Received: from mail-qt1-f226.google.com (mail-qt1-f226.google.com [209.85.160.226]) by mails.dpdk.org (Postfix) with ESMTP id 8944B40263 for ; Fri, 7 Feb 2025 07:45:53 +0100 (CET) Received: by mail-qt1-f226.google.com with SMTP id d75a77b69052e-46b1d40ac6bso14358121cf.0 for ; Thu, 06 Feb 2025 22:45:53 -0800 (PST) DKIM-Signature: v=1; a=rsa-sha256; c=relaxed/relaxed; d=iol.unh.edu; s=unh-iol; t=1738910753; x=1739515553; darn=dpdk.org; h=references:in-reply-to:cc:to:from:subject:message-id:date:from:to :cc:subject:date:message-id:reply-to; bh=w3ETB+U2G3YLRbpS7P1xQgv3ORpexGfyC3YHX8LrhOE=; b=MHCGg4WWWUBZR6ieTIcw2bU+7ca5sOmqJM7EmLOKjvLTqvc2+fqfedOblzt6mRha2V cvXoB2a97JEmkSKFsysHpCbvamxPo2gSDG2cLD4ubqc40O+4pJwHQMZO1uVXz+MnlrKB lE1M2ePumiWrD9+VwAvh0zBbMrpi3KLqoPQ1E= X-Google-DKIM-Signature: v=1; a=rsa-sha256; c=relaxed/relaxed; d=1e100.net; s=20230601; t=1738910753; x=1739515553; h=references:in-reply-to:cc:to:from:subject:message-id:date :x-gm-message-state:from:to:cc:subject:date:message-id:reply-to; bh=w3ETB+U2G3YLRbpS7P1xQgv3ORpexGfyC3YHX8LrhOE=; b=Bi/CaBbHInQTmNxHepecapnk5al0egrD3kwYRWH4FP51hC5tR0H+qDU0jSSzgVMHI8 t1pq2os/lmOTLx5cbgmb5ENWbGG6m8H6oKYkjCnSS9tbVP7XDASuMgavu99sGRb6m7Hk xERHScihdno3ycEbJDiCcBZJcJ3wxgEgoMN8b/TsQuuak00xzDQHf9thsd8qgIo/J0/k 39V0+HVQabKRAYaUvwAWST0+JHww3RMQYJOoTxGUdE2yxgStqb9yeXMHpOSJ52uljkWM VDFXZeQh6qYQnS9X8SNDLlDs0fOa9uXkAvVbzXQsezcOlOHAzqp55wuLVbQmmvB+b+MD Blhw== X-Gm-Message-State: AOJu0YzeKK/qZBSQ/nQeqQ7Qzy7b8s4vXKwrzMZQJON2e47I7WSZDoOf CQFXxAUHFmsiTsY6X1v60pY7ffn+MoBR6/o7wyvkAx1RtNAtVI0bimqM/QaQiOe7DhNVkPDRatL FutrL+j35RogIro2yNwvNdyr0+UNUbZec1Jpc6dikJiLJl5+uBQI4RStu X-Gm-Gg: ASbGnctYOd7AT2C1rC1fm4YNQ8k6bCfqFV/50Gkzqzfxizd+Gq11SZcFswDULcjlo/A 9bdAeJlnA/lfjDneBj7mbw52zEXvnuxcU9NLylsVZERdnWRVkNpSir3O2GD1Rk6Sje/LHJ8LV9B fCQImiWdtZPWSQO6iM0Cm4rfhDrRKRUk5Gsx+URncoY9OBoQZuWVwqJXj0bR4f6lGEpkNTE4Gj4 FhykqZXcwAoOo75KizLmEu5f2pVbQDaccDBpOCwHRLfyTLEdn8RAlwD4S0OHULCy2J8L7jzfgIG oSMe45ONirN5apNxXPPpKTtHqslsQ/2k4S19gIfb/w== X-Google-Smtp-Source: AGHT+IGpoRITRVhRog/ynllHKC6z4aHjS/QGTmrdpgwsi2Dry5AaiHw7F47qrOnZLAVPMW3ZkYiSVAfnt/1g X-Received: by 2002:ac8:7f49:0:b0:461:7558:892f with SMTP id d75a77b69052e-470336325famr81524661cf.15.1738910752930; Thu, 06 Feb 2025 22:45:52 -0800 (PST) Received: from postal.iol.unh.edu (postal.iol.unh.edu. [2606:4100:3880:1234::84]) by smtp-relay.gmail.com with ESMTPS id 6a1803df08f44-6e43baee2afsm1665206d6.53.2025.02.06.22.45.52 (version=TLS1_2 cipher=ECDHE-ECDSA-AES128-GCM-SHA256 bits=128/128); Thu, 06 Feb 2025 22:45:52 -0800 (PST) X-Relaying-Domain: iol.unh.edu Date: Thu, 06 Feb 2025 22:45:52 -0800 (PST) Message-ID: <67a5ac20.050a0220.2f1524.93fbSMTPIN_ADDED_MISSING@mx.google.com> Received: from [172.21.0.5] (unknown [172.18.0.240]) by postal.iol.unh.edu (Postfix) with ESMTP id A29276052471; Fri, 7 Feb 2025 01:45:52 -0500 (EST) Subject: |SUCCESS| pw151076-151077 [PATCH] [v1,2/2] net/r8169: add support fo From: dpdklab@iol.unh.edu To: Test Report Cc: dpdk-test-reports@iol.unh.edu In-Reply-To: <20250207031845.22168-3-howard_wang@realsil.com.cn> References: <20250207031845.22168-3-howard_wang@realsil.com.cn> Content-Type: text/plain X-BeenThere: test-report@dpdk.org X-Mailman-Version: 2.1.29 Precedence: list List-Id: automatic DPDK test reports List-Unsubscribe: , List-Archive: List-Post: List-Help: List-Subscribe: , Errors-To: test-report-bounces@dpdk.org Test-Label: iol-abi-testing Test-Status: SUCCESS http://dpdk.org/patch/151077 _Testing PASS_ Submitter: Howard Wang Date: Friday, February 07 2025 03:18:45 DPDK git baseline: Repo:dpdk Branch: master CommitID:e5ece9ae686535f29ae72c03fec26dc16ff7a925 151076-151077 --> testing pass Upstream job id: Generic-DPDK-Compile-ABI#115181 Test environment and result as below: +-------------------+----------+ | Environment | abi_test | +===================+==========+ | CentOS Stream 9 | PASS | +-------------------+----------+ | Debian 12 | PASS | +-------------------+----------+ | Fedora 40 | PASS | +-------------------+----------+ | Debian Bullseye | PASS | +-------------------+----------+ | Fedora 40 (Clang) | PASS | +-------------------+----------+ | Fedora 41 (Clang) | PASS | +-------------------+----------+ | Ubuntu 24.04 | PASS | +-------------------+----------+ | Fedora 41 | PASS | +-------------------+----------+ | RHEL9 | PASS | +-------------------+----------+ | openSUSE Leap 15 | PASS | +-------------------+----------+ | RHEL8 | PASS | +-------------------+----------+ | Ubuntu 22.04 | PASS | +-------------------+----------+ CentOS Stream 9 Kernel: Depends on container host Compiler: gcc 11.5.0 20240719 (Red Hat 11.5.0-2) Debian 12 Kernel: Depends on container host Compiler: gcc (Debian 12.2.0-14) 12.2.0 Fedora 40 Kernel: Depends on container host Compiler: gcc 14.2.1 20240912 (Red Hat 14.2.1-3) Debian Bullseye Kernel: Depends on container host Compiler: gcc (Debian 10.2.1-6) 10.2.1 20210110 Fedora 40 (Clang) Kernel: Depends on container host Compiler: clang 18.1.8 (Fedora 18.1.8-1.fc40) Fedora 41 (Clang) Kernel: Depends on container host Compiler: clang 19.1.5 (Fedora 19.1.5-1.fc41) Ubuntu 24.04 Kernel: Depends on container host Compiler: gcc (Ubuntu 13.3.0-6ubuntu2~24.04) 13.3.0 Fedora 41 Kernel: Depends on container host Compiler: gcc 14.2.1 20240912 (Red Hat 14.2.1-3) RHEL9 Kernel: Depends on container host Compiler: gcc 11.5.0 20240719 (Red Hat 11.5.0-2) openSUSE Leap 15 Kernel: Depends on container host Compiler: gcc (SUSE Linux) 7.5.0 RHEL8 Kernel: Depends on container host Compiler: gcc 8.5.0 20210514 (Red Hat 8.5.0-22) Ubuntu 22.04 Kernel: Depends on container host Compiler: gcc (Ubuntu 11.4.0-1ubuntu1~22.04) 11.4.0 To view detailed results, visit: https://lab.dpdk.org/results/dashboard/patchsets/32518/ UNH-IOL DPDK Community Lab To manage your email subscriptions, visit: https://lab.dpdk.org/results/dashboard/preferences/subscriptions/