From mboxrd@z Thu Jan 1 00:00:00 1970 Return-Path: Received: from mails.dpdk.org (mails.dpdk.org [217.70.189.124]) by inbox.dpdk.org (Postfix) with ESMTP id DB0E2461B2 for ; Fri, 7 Feb 2025 07:48:04 +0100 (CET) Received: from mails.dpdk.org (localhost [127.0.0.1]) by mails.dpdk.org (Postfix) with ESMTP id D5CCB402BC; Fri, 7 Feb 2025 07:48:04 +0100 (CET) Received: from mail-pl1-f228.google.com (mail-pl1-f228.google.com [209.85.214.228]) by mails.dpdk.org (Postfix) with ESMTP id 33B5640263 for ; Fri, 7 Feb 2025 07:48:03 +0100 (CET) Received: by mail-pl1-f228.google.com with SMTP id d9443c01a7336-21f44e7eae4so19246925ad.2 for ; Thu, 06 Feb 2025 22:48:03 -0800 (PST) DKIM-Signature: v=1; a=rsa-sha256; c=relaxed/relaxed; d=iol.unh.edu; s=unh-iol; t=1738910882; x=1739515682; darn=dpdk.org; h=references:in-reply-to:cc:to:from:subject:message-id:date:from:to :cc:subject:date:message-id:reply-to; bh=hF+FYTWr9FG80qKz6h9XFbXPl9mlY69xpcnjHN3Xdaw=; b=O2knIhGCWRVnNNAn1ACeDlQroF2o78ddgMjvx62KcZS9Z8vLZSeY7Y24Z/G+oNXK6J pGO2YPt+/C5uVqWEeRJq2xUBI/i47EfV+U2U5BafK/es4c2JZuIuiTICI+k/G4y2Jlss tvkPLZobSi5BMEHI8fTJ029nJxJXeccC0a+kU= X-Google-DKIM-Signature: v=1; a=rsa-sha256; c=relaxed/relaxed; d=1e100.net; s=20230601; t=1738910882; x=1739515682; h=references:in-reply-to:cc:to:from:subject:message-id:date :x-gm-message-state:from:to:cc:subject:date:message-id:reply-to; bh=hF+FYTWr9FG80qKz6h9XFbXPl9mlY69xpcnjHN3Xdaw=; b=u/hxuREdArJMwmCbF7CoBeFVlHBTa+e/Y1jpieOSlk4tbgsIFfgIdmERXFyWva4Su8 IsTbtdhhflq7R3ZCZsRaO/4ffICWFR2XoF9IUcu/O6ZwLRuwXm3T82HGjZnob1jvAwe9 d7sl8LE1iEgcv0XgFTmt5iI3bnfeCdaRJMK+3+3nOGzxKxFrw424uA4nVFb1QVIeRs2Q dJ2rSjFOwav1fflsV2os877muXqN4TKhma2LPR7kDpeVcPvuMBDlxeb6gDDMs+2jlYoO 0fawpDGA6vIxZtAkfuMrhKfQ0CdQ/wwWEOdBH7+WwZ89hT0tREqdH62JOnoHhC2D9w7B Ulcw== X-Gm-Message-State: AOJu0YxSBnxWpfG6g1BZDQxE7mx6XN5xWbiYOttCa7vgvQO0lhNS2ra8 24ObTne1ftF1nYIjyj0LNYEODStpJEdumR5AGfDe1m9pPCmTo7rzVNgJVeqvn3NZMdSl5azuiXS T09/RMvsBD5W3zUhkgrskBwo8PUZo8JPXBDZw5QWVNHFS93XdAwdrsh3S X-Gm-Gg: ASbGncsz0hEJjXqKvPHjtArGtcxr22SmMCiifZwyS34thUhhSHDM0VTh6udxNBk2cx3 Au5Qx0eYQliEuyuaOrmDIbmF5aAn3QWQNOH3+KEwvDHDCgj0gXQUyqsbtgqEtM/9tppwVVcvp8u PlLpDs7E/3eaGXTLb1sF3gvL5hNitOX73+eg3jsAmqqX6rpABxXXW5TM5LvBtf4iUsZ+aZhQsNK cmqqNy+okreaQuEjUhkIVpVl6WbPzO9L8sAsD64yv1MhkPDEmOmtA9sT4PsI+ZVKQ0P9JQtqDwj xZz6ZTKnDuGWG8QsKYqJlvH96DY5qxTUPTZ2uWaKJw== X-Google-Smtp-Source: AGHT+IFrgz8SZueHMdT7r7ASsB634rIj9w3xtbgcy05F/fJEWBcc/O5Z7km7Z6jeNvOeswXxJIEh0QPIiG9J X-Received: by 2002:a17:903:41c9:b0:215:6fcd:6cd1 with SMTP id d9443c01a7336-21f4e6a5809mr25123515ad.7.1738910882442; Thu, 06 Feb 2025 22:48:02 -0800 (PST) Received: from postal.iol.unh.edu (postal.iol.unh.edu. [2606:4100:3880:1234::84]) by smtp-relay.gmail.com with ESMTPS id d9443c01a7336-21f4f699912sm702875ad.29.2025.02.06.22.48.02 (version=TLS1_2 cipher=ECDHE-ECDSA-AES128-GCM-SHA256 bits=128/128); Thu, 06 Feb 2025 22:48:02 -0800 (PST) X-Relaying-Domain: iol.unh.edu Date: Thu, 06 Feb 2025 22:48:02 -0800 (PST) Message-ID: <67a5aca2.170a0220.172ebe.3b5dSMTPIN_ADDED_MISSING@mx.google.com> Received: from [172.21.0.6] (unknown [172.18.0.240]) by postal.iol.unh.edu (Postfix) with ESMTP id 9159D6052471; Fri, 7 Feb 2025 01:48:01 -0500 (EST) Subject: |SUCCESS| pw151076-151077 [PATCH] [v1,2/2] net/r8169: add support fo From: dpdklab@iol.unh.edu To: Test Report Cc: dpdk-test-reports@iol.unh.edu In-Reply-To: <20250207031845.22168-3-howard_wang@realsil.com.cn> References: <20250207031845.22168-3-howard_wang@realsil.com.cn> Content-Type: text/plain X-BeenThere: test-report@dpdk.org X-Mailman-Version: 2.1.29 Precedence: list List-Id: automatic DPDK test reports List-Unsubscribe: , List-Archive: List-Post: List-Help: List-Subscribe: , Errors-To: test-report-bounces@dpdk.org Test-Label: iol-unit-amd64-testing Test-Status: SUCCESS http://dpdk.org/patch/151077 _Testing PASS_ Submitter: Howard Wang Date: Friday, February 07 2025 03:18:45 DPDK git baseline: Repo:dpdk Branch: master CommitID:e5ece9ae686535f29ae72c03fec26dc16ff7a925 151076-151077 --> testing pass Upstream job id: Generic-Unit-Test-DPDK#312574 Test environment and result as below: +---------------------+----------------+ | Environment | dpdk_unit_test | +=====================+================+ | Debian Bullseye | PASS | +---------------------+----------------+ | Debian 12 | PASS | +---------------------+----------------+ | Fedora 40 (Clang) | PASS | +---------------------+----------------+ | RHEL8 | PASS | +---------------------+----------------+ | Fedora 40 | PASS | +---------------------+----------------+ | CentOS Stream 9 | PASS | +---------------------+----------------+ | Fedora 41 | PASS | +---------------------+----------------+ | Fedora 41 (Clang) | PASS | +---------------------+----------------+ | Ubuntu 20.04 | PASS | +---------------------+----------------+ | RHEL9 | PASS | +---------------------+----------------+ | Ubuntu 22.04 | PASS | +---------------------+----------------+ | Ubuntu 24.04 | PASS | +---------------------+----------------+ | Windows Server 2022 | PASS | +---------------------+----------------+ Debian Bullseye Kernel: Depends on container host Compiler: gcc (Debian 10.2.1-6) 10.2.1 20210110 Debian 12 Kernel: Depends on container host Compiler: gcc (Debian 12.2.0-14) 12.2.0 Fedora 40 (Clang) Kernel: Depends on container host Compiler: clang 18.1.8 (Fedora 18.1.8-1.fc40) RHEL8 Kernel: Depends on container host Compiler: gcc 8.5.0 20210514 (Red Hat 8.5.0-22) Fedora 40 Kernel: Depends on container host Compiler: gcc 14.2.1 20240912 (Red Hat 14.2.1-3) CentOS Stream 9 Kernel: Depends on container host Compiler: gcc 11.5.0 20240719 (Red Hat 11.5.0-2) Fedora 41 Kernel: Depends on container host Compiler: gcc 14.2.1 20240912 (Red Hat 14.2.1-3) Fedora 41 (Clang) Kernel: Depends on container host Compiler: clang 19.1.5 (Fedora 19.1.5-1.fc41) Ubuntu 20.04 Kernel: Depends on container host Compiler: gcc (Ubuntu 9.4.0-1ubuntu1~20.04.2) 9.4.0 RHEL9 Kernel: Depends on container host Compiler: gcc 11.5.0 20240719 (Red Hat 11.5.0-2) Ubuntu 22.04 Kernel: Depends on container host Compiler: gcc (Ubuntu 11.4.0-1ubuntu1~22.04) 11.4.0 Ubuntu 24.04 Kernel: Depends on container host Compiler: gcc (Ubuntu 13.3.0-6ubuntu2~24.04) 13.3.0 Windows Server 2022 Kernel: 10.0.20348.2031 Compiler: clang 15.0.7, gcc 14.1.0 (MinGW), and MSVC VS 19.39.33521 To view detailed results, visit: https://lab.dpdk.org/results/dashboard/patchsets/32518/ UNH-IOL DPDK Community Lab To manage your email subscriptions, visit: https://lab.dpdk.org/results/dashboard/preferences/subscriptions/