From mboxrd@z Thu Jan 1 00:00:00 1970 Return-Path: Received: from mails.dpdk.org (mails.dpdk.org [217.70.189.124]) by inbox.dpdk.org (Postfix) with ESMTP id 36D6B461B8 for ; Fri, 7 Feb 2025 08:30:10 +0100 (CET) Received: from mails.dpdk.org (localhost [127.0.0.1]) by mails.dpdk.org (Postfix) with ESMTP id 2C2F2427A7; Fri, 7 Feb 2025 08:30:10 +0100 (CET) Received: from mail-pl1-f227.google.com (mail-pl1-f227.google.com [209.85.214.227]) by mails.dpdk.org (Postfix) with ESMTP id AB489402C9 for ; Fri, 7 Feb 2025 08:30:09 +0100 (CET) Received: by mail-pl1-f227.google.com with SMTP id d9443c01a7336-21f5268cf50so5472665ad.1 for ; Thu, 06 Feb 2025 23:30:09 -0800 (PST) DKIM-Signature: v=1; a=rsa-sha256; c=relaxed/relaxed; d=iol.unh.edu; s=unh-iol; t=1738913409; x=1739518209; darn=dpdk.org; h=references:in-reply-to:cc:to:from:subject:message-id:date:from:to :cc:subject:date:message-id:reply-to; bh=Atb1KzJkth1RAKocIvruyjH4oBFh18D2QhCYzI/TU60=; b=e3tGi5WrdhX5k5D4u76RS3PlFj3hS+ntliTtSUaA2HUg8iSxhPis/8RbbkCnwjIwRe EQGVgypbG1qyKxvJW+nn5ghwZB2cxnMjufDeJ3imOKHY11332YaM84NUGwwYRxmIL2eO 8zn4vCEFi9yiwHLCT+bWU/1TqobUeJypI/NQM= X-Google-DKIM-Signature: v=1; a=rsa-sha256; c=relaxed/relaxed; d=1e100.net; s=20230601; t=1738913409; x=1739518209; h=references:in-reply-to:cc:to:from:subject:message-id:date :x-gm-message-state:from:to:cc:subject:date:message-id:reply-to; bh=Atb1KzJkth1RAKocIvruyjH4oBFh18D2QhCYzI/TU60=; b=IVyfI3kKSCP1Lhnk8m4fmuB71wGkEuQtB25Im6Jj3BpTJIF8QLiMWMlInV/BxeJcwN SvKlvEmO8hH18lU3UNV82uNCICX9UtMq/AsGRDDwL3iN4hzt1CQCIqTmN2cvKYcjkqLz ARChV5ccWvzIVKx44gudek2SBauxNhv++JvzT1hgcKmqMOtdFsx140FRr7HvEKl/yL0G IPz7GPnMW2ja3uGdpy96Vady5IuMjV2xVTLcHip880o5In6sAtqhWl2PIzp1f9HWsf+s bfHzyQMBwlf9kbYRTETC4+CCru8aRZdgL2JIwF0q3LgH57JpbhiA5XxOHDv6sD0HBKFQ mgqw== X-Gm-Message-State: AOJu0Yy35dGY3+kcB8CKFkPjsX7vliVwVF83XnBc82Jf1ILbq5AuizWm iUYh6wQVIlEsM/hi5tJuWK5QDbpT2X6akyN+9IZkAPz5CIkpo7XtH/Qzjq7HHmkPcLn9OCWIciV ZNDprdPAMpmMMQPXRDFv+jpUQ9rQ+2kbRqXmm6SE7QTaQhQg/38nDYGyF X-Gm-Gg: ASbGncsb/kWrlKbkm/WBqYWPwn+4lv/IZdCtyBxdxqgmsb1tsYgPLUyMgTUuz52LA4p 8gZM8le4agBgk5dr/kHcqEbZ6DcspdE90tPJA3VhT4m7Sse4bpmxm8QzfjBuC87UuaoWIwJUOZL 3xZiCT7pot3Yiacy0398WCdF38GHOIqY9n8WUNkLXj6e9bioq/c/2FAhs8mkM50sCINw9dfujHJ 7PuYkFExbwM1o5IYmWslOkag9YyQ+uTp/1a20HdDiPPsogkReE/LsBscIFjjYSfMWpY7E6PzQH8 2XUAvhRcpnwoBr3imhUIcS9AJmABaPL5kcK53SJU6g== X-Google-Smtp-Source: AGHT+IEynMN19YNFzYiyVNZBgQRrs5WY4oGl+5mMEdufHAi4269YFoh9NC6Fwof+Cv+/XWGwKmmpwfha7iu5 X-Received: by 2002:a17:903:166c:b0:215:6cb2:7877 with SMTP id d9443c01a7336-21f4e1cbdaemr38507795ad.4.1738913408750; Thu, 06 Feb 2025 23:30:08 -0800 (PST) Received: from postal.iol.unh.edu (postal.iol.unh.edu. [2606:4100:3880:1234::84]) by smtp-relay.gmail.com with ESMTPS id d9443c01a7336-21f368399d6sm1458715ad.95.2025.02.06.23.30.08 (version=TLS1_2 cipher=ECDHE-ECDSA-AES128-GCM-SHA256 bits=128/128); Thu, 06 Feb 2025 23:30:08 -0800 (PST) X-Relaying-Domain: iol.unh.edu Date: Thu, 06 Feb 2025 23:30:08 -0800 (PST) Message-ID: <67a5b680.170a0220.1f11db.7939SMTPIN_ADDED_MISSING@mx.google.com> Received: from [172.21.0.5] (unknown [172.18.0.240]) by postal.iol.unh.edu (Postfix) with ESMTP id 3E4AB6052471; Fri, 7 Feb 2025 02:30:08 -0500 (EST) Subject: |SUCCESS| pw151075 [PATCH] [v2] app/procinfo: add xstats parameter t From: dpdklab@iol.unh.edu To: Test Report Cc: dpdk-test-reports@iol.unh.edu In-Reply-To: <20250207031333.1782995-1-huangdengdui@huawei.com> References: <20250207031333.1782995-1-huangdengdui@huawei.com> Content-Type: text/plain X-BeenThere: test-report@dpdk.org X-Mailman-Version: 2.1.29 Precedence: list List-Id: automatic DPDK test reports List-Unsubscribe: , List-Archive: List-Post: List-Help: List-Subscribe: , Errors-To: test-report-bounces@dpdk.org Test-Label: iol-abi-testing Test-Status: SUCCESS http://dpdk.org/patch/151075 _Testing PASS_ Submitter: huangdengdui Date: Friday, February 07 2025 03:13:33 DPDK git baseline: Repo:dpdk Branch: master CommitID:1bf86800f7daf8d5c71a08a0776ff3b754ee6570 151075 --> testing pass Upstream job id: Generic-DPDK-Compile-ABI#115199 Test environment and result as below: +-------------------+----------+ | Environment | abi_test | +===================+==========+ | Debian 12 | PASS | +-------------------+----------+ | Debian Bullseye | PASS | +-------------------+----------+ | Fedora 40 (Clang) | PASS | +-------------------+----------+ | Fedora 41 (Clang) | PASS | +-------------------+----------+ | Fedora 40 | PASS | +-------------------+----------+ | Fedora 41 | PASS | +-------------------+----------+ | openSUSE Leap 15 | PASS | +-------------------+----------+ | RHEL8 | PASS | +-------------------+----------+ | Ubuntu 22.04 | PASS | +-------------------+----------+ | Ubuntu 24.04 | PASS | +-------------------+----------+ | CentOS Stream 9 | PASS | +-------------------+----------+ | RHEL9 | PASS | +-------------------+----------+ Debian 12 Kernel: Depends on container host Compiler: gcc (Debian 12.2.0-14) 12.2.0 Debian Bullseye Kernel: Depends on container host Compiler: gcc (Debian 10.2.1-6) 10.2.1 20210110 Fedora 40 (Clang) Kernel: Depends on container host Compiler: clang 18.1.8 (Fedora 18.1.8-1.fc40) Fedora 41 (Clang) Kernel: Depends on container host Compiler: clang 19.1.5 (Fedora 19.1.5-1.fc41) Fedora 40 Kernel: Depends on container host Compiler: gcc 14.2.1 20240912 (Red Hat 14.2.1-3) Fedora 41 Kernel: Depends on container host Compiler: gcc 14.2.1 20240912 (Red Hat 14.2.1-3) openSUSE Leap 15 Kernel: Depends on container host Compiler: gcc (SUSE Linux) 7.5.0 RHEL8 Kernel: Depends on container host Compiler: gcc 8.5.0 20210514 (Red Hat 8.5.0-22) Ubuntu 22.04 Kernel: Depends on container host Compiler: gcc (Ubuntu 11.4.0-1ubuntu1~22.04) 11.4.0 Ubuntu 24.04 Kernel: Depends on container host Compiler: gcc (Ubuntu 13.3.0-6ubuntu2~24.04) 13.3.0 CentOS Stream 9 Kernel: Depends on container host Compiler: gcc 11.5.0 20240719 (Red Hat 11.5.0-2) RHEL9 Kernel: Depends on container host Compiler: gcc 11.5.0 20240719 (Red Hat 11.5.0-2) To view detailed results, visit: https://lab.dpdk.org/results/dashboard/patchsets/32517/ UNH-IOL DPDK Community Lab To manage your email subscriptions, visit: https://lab.dpdk.org/results/dashboard/preferences/subscriptions/