From mboxrd@z Thu Jan 1 00:00:00 1970 Return-Path: Received: from mails.dpdk.org (mails.dpdk.org [217.70.189.124]) by inbox.dpdk.org (Postfix) with ESMTP id 88BD4461B8 for ; Fri, 7 Feb 2025 08:31:30 +0100 (CET) Received: from mails.dpdk.org (localhost [127.0.0.1]) by mails.dpdk.org (Postfix) with ESMTP id 83993427A7; Fri, 7 Feb 2025 08:31:30 +0100 (CET) Received: from mail-io1-f98.google.com (mail-io1-f98.google.com [209.85.166.98]) by mails.dpdk.org (Postfix) with ESMTP id 57BD9402C9 for ; Fri, 7 Feb 2025 08:31:26 +0100 (CET) Received: by mail-io1-f98.google.com with SMTP id ca18e2360f4ac-844eb33827eso59403539f.2 for ; Thu, 06 Feb 2025 23:31:26 -0800 (PST) DKIM-Signature: v=1; a=rsa-sha256; c=relaxed/relaxed; d=iol.unh.edu; s=unh-iol; t=1738913485; x=1739518285; darn=dpdk.org; h=cc:to:from:subject:message-id:date:from:to:cc:subject:date :message-id:reply-to; bh=B8w/mQTKS0F5fnTw7m+2wEz+cx6u98VWQi1zhFjN6Mc=; b=jTBd6+HfpjHdNVgNpPoeIaVyT1FtFXerOFmhoenNL5fLhLsoGgodWbdEK7w+JeyySz Be26rQcXvB6RMLNMFfNYerH4UF0jL6BE0BsbaIZJjY3nr8bjm/wGyLQ627CTobl3aC/I TanIIuV+tqZ9w/65WutpJhJmC70iva0f/1FeI= X-Google-DKIM-Signature: v=1; a=rsa-sha256; c=relaxed/relaxed; d=1e100.net; s=20230601; t=1738913485; x=1739518285; h=cc:to:from:subject:message-id:date:x-gm-message-state:from:to:cc :subject:date:message-id:reply-to; bh=B8w/mQTKS0F5fnTw7m+2wEz+cx6u98VWQi1zhFjN6Mc=; b=UhlmNv1xJcAPl4UbC7CJ7BbBGNze7wVWIONPtsGqJ9MN+AeaZMNwoPupgLkdMNpYlB 66rPSpssjAeO4dw4s4qEpVPfnqWtRbNpaPRN+OOk/Vm4ixFTxLTwNmESVXkeMJWXBMGX R86tBbWsDOA3fWQ5F1KG08I+gluus2IhMSQe7C9X9BR2BPDDPE3SmQLuo3xizgINVQ3Y OoiOzFrWmOGx4y9/VDRAGVaqB94XDpyRKcsKAQrw2+MNsH94nWEEhIKIGdIpnL/VbiFV ePZGpG8dVsgcvnbl6dAHZSoilJwhYOoQRHG0zo2Sz6qtGxbxBDjQ6iJiYZGYbEfldthE cpvA== X-Gm-Message-State: AOJu0Yzbvn+4c39v/R9bFnBXHfQAaCdO8EgiYrrPbBohAf8FNe2X2tyn sGepNed7K8O4oRWsL7UNLUST0F7RI1Ou9OxOkO4pyynCIVcdO9OI3Y6OTTXA3MUuSuwnFY3umLT uM1ZD2OoU8BTsq7Wh4F9yIjuNy5Dzl4h+ X-Gm-Gg: ASbGnctfNJwTJVxqQtJrFEx3RtBhCaol2H/sED4U7xPDd+TTHTNkGGTfB1D9WZtvPaC xnUsSIyFy5CzGQoEDgUh4EdKz10NyW9LXOLyAKZtEjfQPq42E/mR/ibl+DGK3rwFlosredF09Bx 7xxjCjhOUOsLaODtR39RDaGt3JwyYfvHHMHqDBtjw3Hz0NS2ZhiHG48OfNejJNpWDRkVeXqj161 aZdWSyXHLBNzDXJH2rqB6O8U24nrSKF+53+eeBCy/cbhSM3KlpYQbZGOeR8olyd0f1g5O746LlT 1Ombi1GRiRqpsJVvzfydVDsdhGpuMw== X-Google-Smtp-Source: AGHT+IEwrolweSyoq7KddVllJCkYadhtw3z71ldSnrVWc/rjF3xlHacfwA/Tm/L0+uW8kyUBfVEe1v8bPEup X-Received: by 2002:a05:6e02:1a0d:b0:3d0:137a:8c9d with SMTP id e9e14a558f8ab-3d13dd13f7emr16808595ab.8.1738913485726; Thu, 06 Feb 2025 23:31:25 -0800 (PST) Received: from postal.iol.unh.edu (postal.iol.unh.edu. [132.177.123.84]) by smtp-relay.gmail.com with ESMTPS id e9e14a558f8ab-3d05ea20535sm1924945ab.69.2025.02.06.23.31.25 (version=TLS1_2 cipher=ECDHE-ECDSA-AES128-GCM-SHA256 bits=128/128); Thu, 06 Feb 2025 23:31:25 -0800 (PST) X-Relaying-Domain: iol.unh.edu Date: Thu, 06 Feb 2025 23:31:25 -0800 (PST) Message-ID: <67a5b6cd.050a0220.30b395.acc5SMTPIN_ADDED_MISSING@mx.google.com> Received: from [172.21.0.8] (unknown [172.18.0.240]) by postal.iol.unh.edu (Postfix) with ESMTP id 3DDCB6052471; Fri, 7 Feb 2025 02:31:25 -0500 (EST) Subject: |SUCCESS| [GIT MASTER] f2eea2f37a82bb73fb01d56350708f7d70e21379 From: dpdklab@iol.unh.edu To: Test Report Cc: dpdk-test-reports@iol.unh.edu, Xueming Li , Christian Ehrhardt , Kevin Traynor , Luca Boccassi Content-Type: text/plain X-BeenThere: test-report@dpdk.org X-Mailman-Version: 2.1.29 Precedence: list List-Id: automatic DPDK test reports List-Unsubscribe: , List-Archive: List-Post: List-Help: List-Subscribe: , Errors-To: test-report-bounces@dpdk.org _Testing PASS_ Branch: tags/v24.11 f2eea2f37a82bb73fb01d56350708f7d70e21379 --> testing pass Upstream job id: Generic-VM-DPDK-Compile-Meson#33122 Test environment and result as below: +---------------------+-------------------+--------------------+ | Environment | dpdk_msvc_compile | dpdk_meson_compile | +=====================+===================+====================+ | Windows Server 2022 | PASS | SKIPPED | +---------------------+-------------------+--------------------+ | FreeBSD 13.4 | SKIPPED | PASS | +---------------------+-------------------+--------------------+ | FreeBSD 14.2 | SKIPPED | PASS | +---------------------+-------------------+--------------------+ Windows Server 2022 Kernel: 10.0.20348.2031 Compiler: clang 15.0.7, gcc 14.1.0 (MinGW), and MSVC VS 19.39.33521 FreeBSD 13.4 Kernel: 13.4-RELEASE-p1 Compiler: clang 18.1.6 FreeBSD 14.2 Kernel: 14.2-RELEASE Compiler: clang 18.1.6 To view detailed results, visit: https://lab.dpdk.org/results/dashboard/tarballs/32483/ UNH-IOL DPDK Community Lab To manage your email subscriptions, visit: https://lab.dpdk.org/results/dashboard/preferences/subscriptions/