From mboxrd@z Thu Jan 1 00:00:00 1970 Return-Path: Received: from mails.dpdk.org (mails.dpdk.org [217.70.189.124]) by inbox.dpdk.org (Postfix) with ESMTP id BA0B2461B8 for ; Fri, 7 Feb 2025 08:39:15 +0100 (CET) Received: from mails.dpdk.org (localhost [127.0.0.1]) by mails.dpdk.org (Postfix) with ESMTP id B400B427A7; Fri, 7 Feb 2025 08:39:15 +0100 (CET) Received: from mail-qt1-f226.google.com (mail-qt1-f226.google.com [209.85.160.226]) by mails.dpdk.org (Postfix) with ESMTP id 084A5402C9 for ; Fri, 7 Feb 2025 08:39:14 +0100 (CET) Received: by mail-qt1-f226.google.com with SMTP id d75a77b69052e-467a1d43821so25426241cf.1 for ; Thu, 06 Feb 2025 23:39:13 -0800 (PST) DKIM-Signature: v=1; a=rsa-sha256; c=relaxed/relaxed; d=iol.unh.edu; s=unh-iol; t=1738913953; x=1739518753; darn=dpdk.org; h=references:in-reply-to:cc:to:from:subject:message-id:date:from:to :cc:subject:date:message-id:reply-to; bh=tyUSIPG2zt6x7fBOEeYdqoQRu8D1/QIePtjzj65n/3w=; b=PlvC9+bTNbG3fRWgBYYsDb8vqbiwhXnJvgbvdmELVGjLFmhQUNaH290F5lMAb9tr7f /25tzxLexjX9oc9/c7UDja5jAaV+eCTSUq8XrkXci0Wfkgf4vqI/Otb2C/sKLT8GMBgt JaL+E2JX8dSFJf0AbDyxf+Xmz8SaqxjSqGq8o= X-Google-DKIM-Signature: v=1; a=rsa-sha256; c=relaxed/relaxed; d=1e100.net; s=20230601; t=1738913953; x=1739518753; h=references:in-reply-to:cc:to:from:subject:message-id:date :x-gm-message-state:from:to:cc:subject:date:message-id:reply-to; bh=tyUSIPG2zt6x7fBOEeYdqoQRu8D1/QIePtjzj65n/3w=; b=uYMS1FeRNisxFTakk+dbuncQPL4SR5y4I1t8zV8DTHdUA6g2busS6sghqs+QJtUV20 jcCGyqNQLkLWevt04bkLcMCKPX6jpTBJ9X5TuESDpnzcGUmrbkK8665KOiE1HiYVHOzC vNCwSLwUxacPEwyyxjg5CmpjNFK/KvG4O9t0mFhAKHyqM/HIuqRmbsK7fhOVbFcFyI34 tyNiKtA4zyKhyoeJgkAe5Ykb1pqyTsU/bCakYyRLzXVFwW79RSUc/2G5N4EDzu3VvUVR ru+a8enjgEX1axTTvMpyQWUmRqXosKU+ur4fR7iB3TyHi7ytIoWqUhdvYfXMNzhO2eXE uvvg== X-Gm-Message-State: AOJu0YxF6HMwujxQnrcPhR7BboRezaYuOG3xkBf61aFGRHLzXcabbIgW mkcCpmnacq2j9kSIQ10hcWLerGNeOKx4RXU6F2Q1OMTMKOaJ7C/HZ7pTvm1S+NYTj9GzO9+nQ0X 5R67vJ+LHvAXcqmko6HjbBqOZCdHhZnJ7pHsKeGDZhk6GC1qIQHLXkRrA X-Gm-Gg: ASbGncvFJKusTROepC89pz3hZ/4Y8NHqI1Y6KYprRfUQ3JXM7HVHu+WZhZXMaUuhIuT eWMzuwL//IoAodd0A3H//RYJ616hkTtoum9RRI99ITXcOxZ5RVL/xnOShkyLYW3qlvZ5J7foYY6 7Yisc4lx7kz3PH/vP6UXsie+z0LpZ/TvXkdaxCfTf0VJCpjERojLVi3u6tVCqDwr2Ant2J4y2AE NRziAB6uIgHfTIAT9I9nmcS1vGE+phT8blwTALDq4T0f6R2bAdF/oM6Wza83pM1bBxVgBhxFl+T H3eNK4PRynCIxSg8XeWCCKkvJC8o36UbhqgRnsC8KQ== X-Google-Smtp-Source: AGHT+IG6RHI4v6/m2z7UJmQPyHuHKS4rmCeJrKUnmGe88hkwPWkB5+3HIW/ZpZIATlmP0S/MPRaLVnFjjyxy X-Received: by 2002:a05:6214:76f:b0:6e4:244b:b6bd with SMTP id 6a1803df08f44-6e4459c2b90mr30135666d6.12.1738913953181; Thu, 06 Feb 2025 23:39:13 -0800 (PST) Received: from postal.iol.unh.edu (postal.iol.unh.edu. [2606:4100:3880:1234::84]) by smtp-relay.gmail.com with ESMTPS id 6a1803df08f44-6e43ba61820sm1778986d6.41.2025.02.06.23.39.13 (version=TLS1_2 cipher=ECDHE-ECDSA-AES128-GCM-SHA256 bits=128/128); Thu, 06 Feb 2025 23:39:13 -0800 (PST) X-Relaying-Domain: iol.unh.edu Date: Thu, 06 Feb 2025 23:39:13 -0800 (PST) Message-ID: <67a5b8a1.050a0220.19f314.9a2bSMTPIN_ADDED_MISSING@mx.google.com> Received: from [172.21.0.5] (unknown [172.18.0.240]) by postal.iol.unh.edu (Postfix) with ESMTP id E23166052471; Fri, 7 Feb 2025 02:39:12 -0500 (EST) Subject: |SUCCESS| pw151075 [PATCH] [v2] app/procinfo: add xstats parameter t From: dpdklab@iol.unh.edu To: Test Report Cc: dpdk-test-reports@iol.unh.edu In-Reply-To: <20250207031333.1782995-1-huangdengdui@huawei.com> References: <20250207031333.1782995-1-huangdengdui@huawei.com> Content-Type: text/plain X-BeenThere: test-report@dpdk.org X-Mailman-Version: 2.1.29 Precedence: list List-Id: automatic DPDK test reports List-Unsubscribe: , List-Archive: List-Post: List-Help: List-Subscribe: , Errors-To: test-report-bounces@dpdk.org Test-Label: iol-unit-amd64-testing Test-Status: SUCCESS http://dpdk.org/patch/151075 _Testing PASS_ Submitter: huangdengdui Date: Friday, February 07 2025 03:13:33 DPDK git baseline: Repo:dpdk Branch: master CommitID:1bf86800f7daf8d5c71a08a0776ff3b754ee6570 151075 --> testing pass Upstream job id: Generic-Unit-Test-DPDK#312601 Test environment and result as below: +---------------------+----------------+ | Environment | dpdk_unit_test | +=====================+================+ | Debian 12 | PASS | +---------------------+----------------+ | CentOS Stream 9 | PASS | +---------------------+----------------+ | Fedora 40 | PASS | +---------------------+----------------+ | Debian Bullseye | PASS | +---------------------+----------------+ | Fedora 40 (Clang) | PASS | +---------------------+----------------+ | RHEL9 | PASS | +---------------------+----------------+ | Fedora 41 | PASS | +---------------------+----------------+ | Ubuntu 20.04 | PASS | +---------------------+----------------+ | Fedora 41 (Clang) | PASS | +---------------------+----------------+ | RHEL8 | PASS | +---------------------+----------------+ | Ubuntu 24.04 | PASS | +---------------------+----------------+ | Ubuntu 22.04 | PASS | +---------------------+----------------+ | Windows Server 2022 | PASS | +---------------------+----------------+ Debian 12 Kernel: Depends on container host Compiler: gcc (Debian 12.2.0-14) 12.2.0 CentOS Stream 9 Kernel: Depends on container host Compiler: gcc 11.5.0 20240719 (Red Hat 11.5.0-2) Fedora 40 Kernel: Depends on container host Compiler: gcc 14.2.1 20240912 (Red Hat 14.2.1-3) Debian Bullseye Kernel: Depends on container host Compiler: gcc (Debian 10.2.1-6) 10.2.1 20210110 Fedora 40 (Clang) Kernel: Depends on container host Compiler: clang 18.1.8 (Fedora 18.1.8-1.fc40) RHEL9 Kernel: Depends on container host Compiler: gcc 11.5.0 20240719 (Red Hat 11.5.0-2) Fedora 41 Kernel: Depends on container host Compiler: gcc 14.2.1 20240912 (Red Hat 14.2.1-3) Ubuntu 20.04 Kernel: Depends on container host Compiler: gcc (Ubuntu 9.4.0-1ubuntu1~20.04.2) 9.4.0 Fedora 41 (Clang) Kernel: Depends on container host Compiler: clang 19.1.5 (Fedora 19.1.5-1.fc41) RHEL8 Kernel: Depends on container host Compiler: gcc 8.5.0 20210514 (Red Hat 8.5.0-22) Ubuntu 24.04 Kernel: Depends on container host Compiler: gcc (Ubuntu 13.3.0-6ubuntu2~24.04) 13.3.0 Ubuntu 22.04 Kernel: Depends on container host Compiler: gcc (Ubuntu 11.4.0-1ubuntu1~22.04) 11.4.0 Windows Server 2022 Kernel: 10.0.20348.2031 Compiler: clang 15.0.7, gcc 14.1.0 (MinGW), and MSVC VS 19.39.33521 To view detailed results, visit: https://lab.dpdk.org/results/dashboard/patchsets/32517/ UNH-IOL DPDK Community Lab To manage your email subscriptions, visit: https://lab.dpdk.org/results/dashboard/preferences/subscriptions/