From mboxrd@z Thu Jan 1 00:00:00 1970 Return-Path: Received: from mails.dpdk.org (mails.dpdk.org [217.70.189.124]) by inbox.dpdk.org (Postfix) with ESMTP id 411AA461AE for ; Fri, 7 Feb 2025 08:43:01 +0100 (CET) Received: from mails.dpdk.org (localhost [127.0.0.1]) by mails.dpdk.org (Postfix) with ESMTP id 1A29B427A7; Fri, 7 Feb 2025 08:43:01 +0100 (CET) Received: from mail-pl1-f225.google.com (mail-pl1-f225.google.com [209.85.214.225]) by mails.dpdk.org (Postfix) with ESMTP id 797D5402C9 for ; Fri, 7 Feb 2025 08:42:59 +0100 (CET) Received: by mail-pl1-f225.google.com with SMTP id d9443c01a7336-21f4a4fbb35so15263345ad.0 for ; Thu, 06 Feb 2025 23:42:59 -0800 (PST) DKIM-Signature: v=1; a=rsa-sha256; c=relaxed/relaxed; d=iol.unh.edu; s=unh-iol; t=1738914178; x=1739518978; darn=dpdk.org; h=cc:to:from:subject:message-id:date:from:to:cc:subject:date :message-id:reply-to; bh=VZJ7dSPk0JuOwd11YFvj5FgWqPA4H3DSMUHi9826jZk=; b=D7PSxd59o/4CPNbBova8wB/gUSaQWwMz7FWg8VLIu5d350pnhXyFpFubjxHSlQlPOW sdjzNb+ov+xtihWQhN4nwNrlBKmq80glhcDBH4NuymVNij15XnBGyqvNIqmBxPl0xxsv +TMIOCEizXFYYk+v18ljqIQYKCoKGV7JdsUKQ= X-Google-DKIM-Signature: v=1; a=rsa-sha256; c=relaxed/relaxed; d=1e100.net; s=20230601; t=1738914178; x=1739518978; h=cc:to:from:subject:message-id:date:x-gm-message-state:from:to:cc :subject:date:message-id:reply-to; bh=VZJ7dSPk0JuOwd11YFvj5FgWqPA4H3DSMUHi9826jZk=; b=vgEXsotWmm7vLWd4ZBe0LKLxERW+tj7YQuwIihMXtHwG/NYrnwHpDGBvrn2CuydJzY MW2LsvbcaazH6CakRQM8XdWhPB7KC6De6pTcNCGrc/GwvCg+XSCqvIWBebIoWWZDqXbb z2XqVcgeMUeLhakB7wu0EJGpZ8DS2tIGXXq620a5AQIXzfoBmnvh6i4yO0NryV50qqpQ g8hrfqPCjFAqaQFo/4hOp/MrMX54LwRjMAiaFOzBxYsO00xJcX6HOnjPYFtItrFg+lTJ bMrzMB9ry3dnGT+r7TaJC7wypuNIdBTSe0bAV6H3M2V3npIXtm9QbKawLFDPutYYvB4S IMNA== X-Gm-Message-State: AOJu0Yw4fsVepzlsbwF6h3lQ+rM/UzNPMRr1w5A85/THnKtJL8FN87is T4A3DS24nhWdfWuNW+fFCMSIDzzDmcKDpY4IsviznFQm8Tjm9lDxxylh+Nee/JQ9+61HtG27lLm VU3weFHLIKX25RrxOftn0XhoMwgx1T/hcFxdUUQmQI2ZBOP3U X-Gm-Gg: ASbGncuo6qWf4F2B8b2KDbFrU0NooItvdHjfxNtCu9LxElPN3OG3i4W/c56U3VB83ab q+7m8RUU/eE72hB37PaYCTiofRhk49pAThxy7F6glafFcS2B2dV25eOKa0trGWkuy2SYBCNfXas hhxPyQGckxezUAEfu6J0oXhQc8oVcVvyKpV61jqzZHcoUWT3BvEKmPWYXG26a84b9qyDgGcJrME v3DIDgrl6xNFySUYW3qmyxHWlovB4LC645ydJKnTkJep24uEMobotTroHylJJeomIAsyz2k03wq 4wsy1aHcZ51cErQWMySyoOw04rFE8nUXg3YArDvDGw== X-Google-Smtp-Source: AGHT+IGxjEu5ZUswXoQxy0iuH+4dpiWSYI+nqgG5XzlT60+P7tEAzZLctIAIDaVXVIwOF5tEDnXrex3rgJgM X-Received: by 2002:a17:903:2f85:b0:215:a56f:1e50 with SMTP id d9443c01a7336-21f4f13a92amr35806435ad.8.1738914178478; Thu, 06 Feb 2025 23:42:58 -0800 (PST) Received: from postal.iol.unh.edu (postal.iol.unh.edu. [2606:4100:3880:1234::84]) by smtp-relay.gmail.com with ESMTPS id d9443c01a7336-21f3658d11esm1440985ad.60.2025.02.06.23.42.58 (version=TLS1_2 cipher=ECDHE-ECDSA-AES128-GCM-SHA256 bits=128/128); Thu, 06 Feb 2025 23:42:58 -0800 (PST) X-Relaying-Domain: iol.unh.edu Date: Thu, 06 Feb 2025 23:42:58 -0800 (PST) Message-ID: <67a5b982.170a0220.2996bd.8110SMTPIN_ADDED_MISSING@mx.google.com> Received: from [172.21.0.6] (unknown [172.18.0.240]) by postal.iol.unh.edu (Postfix) with ESMTP id 9C5416052471; Fri, 7 Feb 2025 02:42:57 -0500 (EST) Subject: |SUCCESS| [GIT MASTER] c66daa12e76d7b4912cfb7109a761856a7a873ab From: dpdklab@iol.unh.edu To: Test Report Cc: dpdk-test-reports@iol.unh.edu, Xueming Li , Christian Ehrhardt , Kevin Traynor , Luca Boccassi Content-Type: text/plain X-BeenThere: test-report@dpdk.org X-Mailman-Version: 2.1.29 Precedence: list List-Id: automatic DPDK test reports List-Unsubscribe: , List-Archive: List-Post: List-Help: List-Subscribe: , Errors-To: test-report-bounces@dpdk.org _Testing PASS_ Branch: tags/v23.11 c66daa12e76d7b4912cfb7109a761856a7a873ab --> testing pass Upstream job id: Windows-Compile-DPDK-VS#4851 Test environment and result as below: +---------------------+--------------------+-------------------+ | Environment | dpdk_meson_compile | dpdk_msvc_compile | +=====================+====================+===================+ | FreeBSD 13.4 | PASS | SKIPPED | +---------------------+--------------------+-------------------+ | FreeBSD 14.2 | PASS | SKIPPED | +---------------------+--------------------+-------------------+ | Windows Server 2022 | SKIPPED | PASS | +---------------------+--------------------+-------------------+ FreeBSD 13.4 Kernel: 13.4-RELEASE-p1 Compiler: clang 18.1.6 FreeBSD 14.2 Kernel: 14.2-RELEASE Compiler: clang 18.1.6 Windows Server 2022 Kernel: 10.0.20348.2031 Compiler: clang 15.0.7, gcc 14.1.0 (MinGW), and MSVC VS 19.39.33521 To view detailed results, visit: https://lab.dpdk.org/results/dashboard/tarballs/32484/ UNH-IOL DPDK Community Lab To manage your email subscriptions, visit: https://lab.dpdk.org/results/dashboard/preferences/subscriptions/