From mboxrd@z Thu Jan 1 00:00:00 1970 Return-Path: Received: from mails.dpdk.org (mails.dpdk.org [217.70.189.124]) by inbox.dpdk.org (Postfix) with ESMTP id 0AC63461B8 for ; Fri, 7 Feb 2025 09:03:25 +0100 (CET) Received: from mails.dpdk.org (localhost [127.0.0.1]) by mails.dpdk.org (Postfix) with ESMTP id 01406427A7; Fri, 7 Feb 2025 09:03:25 +0100 (CET) Received: from mail-pj1-f98.google.com (mail-pj1-f98.google.com [209.85.216.98]) by mails.dpdk.org (Postfix) with ESMTP id 464DE402C9 for ; Fri, 7 Feb 2025 09:03:24 +0100 (CET) Received: by mail-pj1-f98.google.com with SMTP id 98e67ed59e1d1-2f43d17b0e3so3214636a91.0 for ; Fri, 07 Feb 2025 00:03:24 -0800 (PST) DKIM-Signature: v=1; a=rsa-sha256; c=relaxed/relaxed; d=iol.unh.edu; s=unh-iol; t=1738915403; x=1739520203; darn=dpdk.org; h=references:in-reply-to:cc:to:from:subject:message-id:date:from:to :cc:subject:date:message-id:reply-to; bh=HaCIpMZOg1BtTd4/ErN4QknpSosB26/siSI3t7lweeQ=; b=B/QQtYKoFYaUS7fBFRGjFOwGQ5mfOs1P1VG2tq4AGFTMsR4lGX4dKPQEtPhUcQ+bkJ b+bEdBPB2vTL8Vv/sQDENcfIJH7bnn5pzMUhc66YwB4sXA7xhBSOSM2+0iUEDwJql2l/ E02H9YBZEzawpSNovKmlnehLKuoL/OUZGrwN4= X-Google-DKIM-Signature: v=1; a=rsa-sha256; c=relaxed/relaxed; d=1e100.net; s=20230601; t=1738915403; x=1739520203; h=references:in-reply-to:cc:to:from:subject:message-id:date :x-gm-message-state:from:to:cc:subject:date:message-id:reply-to; bh=HaCIpMZOg1BtTd4/ErN4QknpSosB26/siSI3t7lweeQ=; b=ZRAbSppNXoNM8VZcl3patNlyb/2KUw7qPWB+Qfi3B0kF6asiBo8IXgiU095tBvm710 aQLHVoRAeFdVg9SoyIEXymvmr67LAAQephGpOMotXMOwQlk5GusfM466O6PVicySm29S NfVVqb1V5SjK3zazFA4ROoZOmMlylRLOvMNXfkLmySWGXgCivwEx+CfuYQtMd7iEDgv1 nqLu/5F0OzgU8l9ojkT+W9V1Ck0wkvmMuCZ8s8CagPhKABHr4XbfODlneKCnvDz7vT6J 78JgtPp1td7FLYsGMwIw2l02PmZ2IGCvshOSWtNeinih7TmInLIkH2z0U1n7Pahacz/O fA0w== X-Gm-Message-State: AOJu0YyxIlW1+zNMR3vTW4lI+zEpp9bjLGqwTmiLfca4RGA+NeXLHCqg 7Cbt5FeK9J0rF8bHNHiSe6wlP8FkIXOHa0OV8t8zM6BmQYxtt7TGWUIivUCGTuXYW0s7EZNBGQY e5zZbEPLbIZA58J5Iyj1V/3pHcn9G803AxU20ibN5 X-Gm-Gg: ASbGncvFkoYTdYzXTIR5XWlTg7EiaOl+1syap7nqn0Qls9Uu4KvVPjEt3Rff20dOPHk wBlm4QBvBwVdjCKZXAro7woHnYz5mRldE4zIAVv8tqkg+u6SZnRaCb6CnwryCRx4q+y4pV61+mE 1XbHaAhxtZxNh3FymzLo3N13vTnU4i8lsGQ9AkTeUZCjOQv9fMujDwpZt1z4PWlz13+3wLRNpHL 8PXwhKSYXi9TZrAdmO5686mVdUWQVN94kbxA/GLIb6H/d1iMZNy7bkFhlacCUUOLfxuAJVTuXkh TsX7agV9cJOAH2ZcyhSMlFuM3EGQPw== X-Google-Smtp-Source: AGHT+IHaestYwBqxWBdmMw4VGW+h0wcBhLlFYaVdUyXbdyt1Fg44KWM4w0lGiKKUN/4h+F1LWTvGBqEPITKn X-Received: by 2002:a17:90b:33cf:b0:2ee:3cc1:793e with SMTP id 98e67ed59e1d1-2fa243fc6d7mr3265514a91.32.1738915403393; Fri, 07 Feb 2025 00:03:23 -0800 (PST) Received: from postal.iol.unh.edu (postal.iol.unh.edu. [132.177.123.84]) by smtp-relay.gmail.com with ESMTPS id 98e67ed59e1d1-2fa09b60fcdsm215854a91.10.2025.02.07.00.03.23 (version=TLS1_2 cipher=ECDHE-ECDSA-AES128-GCM-SHA256 bits=128/128); Fri, 07 Feb 2025 00:03:23 -0800 (PST) X-Relaying-Domain: iol.unh.edu Date: Fri, 07 Feb 2025 00:03:23 -0800 (PST) Message-ID: <67a5be4b.170a0220.33a10.b899SMTPIN_ADDED_MISSING@mx.google.com> Received: from [172.21.0.5] (unknown [172.18.0.240]) by postal.iol.unh.edu (Postfix) with ESMTP id D01FC6052471; Fri, 7 Feb 2025 03:03:22 -0500 (EST) Subject: |SUCCESS| pw151074 [PATCH] [v8] graph: mcore: optimize graph search From: dpdklab@iol.unh.edu To: Test Report Cc: dpdk-test-reports@iol.unh.edu In-Reply-To: <20250207013939.1783-1-chcchc88@163.com> References: <20250207013939.1783-1-chcchc88@163.com> Content-Type: text/plain X-BeenThere: test-report@dpdk.org X-Mailman-Version: 2.1.29 Precedence: list List-Id: automatic DPDK test reports List-Unsubscribe: , List-Archive: List-Post: List-Help: List-Subscribe: , Errors-To: test-report-bounces@dpdk.org Test-Label: iol-unit-arm64-testing Test-Status: SUCCESS http://dpdk.org/patch/151074 _Testing PASS_ Submitter: Huichao Cai Date: Friday, February 07 2025 01:39:39 DPDK git baseline: Repo:dpdk Branch: master CommitID:1bf86800f7daf8d5c71a08a0776ff3b754ee6570 151074 --> testing pass Upstream job id: Generic-Unit-Test-DPDK#312527 Test environment and result as below: +-----------------------------+----------------+--------------+------------------------------+---------------------------+ | Environment | dpdk_unit_test | lpm_autotest | cryptodev_sw_snow3g_autotest | cryptodev_sw_zuc_autotest | +=============================+================+==============+==============================+===========================+ | CentOS Stream 9 (ARM) | PASS | SKIPPED | SKIPPED | SKIPPED | +-----------------------------+----------------+--------------+------------------------------+---------------------------+ | Fedora 41 (ARM) | PASS | SKIPPED | SKIPPED | SKIPPED | +-----------------------------+----------------+--------------+------------------------------+---------------------------+ | Fedora 40 (ARM) | PASS | SKIPPED | SKIPPED | SKIPPED | +-----------------------------+----------------+--------------+------------------------------+---------------------------+ | Debian 11 (Buster) (ARM) | PASS | SKIPPED | SKIPPED | SKIPPED | +-----------------------------+----------------+--------------+------------------------------+---------------------------+ | Ubuntu 20.04 (ARM) | PASS | SKIPPED | SKIPPED | SKIPPED | +-----------------------------+----------------+--------------+------------------------------+---------------------------+ | RHEL9 (ARM) | PASS | SKIPPED | SKIPPED | SKIPPED | +-----------------------------+----------------+--------------+------------------------------+---------------------------+ | Debian 12 (arm) | PASS | SKIPPED | PASS | PASS | +-----------------------------+----------------+--------------+------------------------------+---------------------------+ | Fedora 41 (ARM Clang) | PASS | SKIPPED | SKIPPED | SKIPPED | +-----------------------------+----------------+--------------+------------------------------+---------------------------+ | Ubuntu 24.04 (ARM) | PASS | SKIPPED | SKIPPED | SKIPPED | +-----------------------------+----------------+--------------+------------------------------+---------------------------+ | Fedora 40 (ARM Clang) | PASS | SKIPPED | SKIPPED | SKIPPED | +-----------------------------+----------------+--------------+------------------------------+---------------------------+ | Ubuntu 22.04 (ARM) | PASS | SKIPPED | SKIPPED | SKIPPED | +-----------------------------+----------------+--------------+------------------------------+---------------------------+ | 32-bit Ubuntu 22.04.4 (ARM) | PASS | SKIPPED | SKIPPED | SKIPPED | +-----------------------------+----------------+--------------+------------------------------+---------------------------+ | Ubuntu 20.04 ARM SVE | SKIPPED | PASS | SKIPPED | SKIPPED | +-----------------------------+----------------+--------------+------------------------------+---------------------------+ CentOS Stream 9 (ARM) Kernel: Depends on container host Compiler: gcc 11.5.0 20240719 (Red Hat 11.5.0-2) Fedora 41 (ARM) Kernel: Depends on container host Compiler: gcc 14.2.1 20240912 (Red Hat 14.2.1-3) Fedora 40 (ARM) Kernel: Depends on container host Compiler: gcc 14.2.1 20240912 (Red Hat 14.2.1-3) Debian 11 (Buster) (ARM) Kernel: Depends on container host Compiler: gcc (Debian 10.2.1-6) 10.2.1 20210110 Ubuntu 20.04 (ARM) Kernel: Depends on container host Compiler: gcc (Ubuntu 9.4.0-1ubuntu1~20.04.2) 9.4.0 RHEL9 (ARM) Kernel: Depends on container host Compiler: gcc 11.5.0 20240719 (Red Hat 11.5.0-2) Debian 12 (arm) Kernel: Depends on container host Compiler: gcc (Debian 12.2.0-14) 12.2.0 Fedora 41 (ARM Clang) Kernel: Depends on container host Compiler: clang 19.1.5 (Fedora 19.1.5-1.fc41) Ubuntu 24.04 (ARM) Kernel: Depends on container host Compiler: gcc (Ubuntu 13.3.0-6ubuntu2~24.04) 13.3.0 Fedora 40 (ARM Clang) Kernel: Depends on container host Compiler: clang 18.1.8 (Fedora 18.1.8-1.fc40) Ubuntu 22.04 (ARM) Kernel: Depends on container host Compiler: gcc (Ubuntu 11.4.0-1ubuntu1~22.04) 11.4.0 32-bit Ubuntu 22.04.4 (ARM) Kernel: 5.15.83+ aarch64 Compiler: gcc (Ubuntu 11.4.0-1ubuntu1~22.04) 11.4.0 Ubuntu 20.04 ARM SVE Kernel: Depends on container host Compiler: gcc (Ubuntu 10.5.0-1ubuntu1~20.04) 10.5.0 To view detailed results, visit: https://lab.dpdk.org/results/dashboard/patchsets/32516/ UNH-IOL DPDK Community Lab To manage your email subscriptions, visit: https://lab.dpdk.org/results/dashboard/preferences/subscriptions/