From mboxrd@z Thu Jan 1 00:00:00 1970 Return-Path: Received: from mails.dpdk.org (mails.dpdk.org [217.70.189.124]) by inbox.dpdk.org (Postfix) with ESMTP id 17D6B461B8 for ; Fri, 7 Feb 2025 09:20:14 +0100 (CET) Received: from mails.dpdk.org (localhost [127.0.0.1]) by mails.dpdk.org (Postfix) with ESMTP id 01032427A7; Fri, 7 Feb 2025 09:20:14 +0100 (CET) Received: from mail-oi1-f225.google.com (mail-oi1-f225.google.com [209.85.167.225]) by mails.dpdk.org (Postfix) with ESMTP id 65587402C9 for ; Fri, 7 Feb 2025 09:20:12 +0100 (CET) Received: by mail-oi1-f225.google.com with SMTP id 5614622812f47-3f1c94936c5so964493b6e.1 for ; Fri, 07 Feb 2025 00:20:12 -0800 (PST) DKIM-Signature: v=1; a=rsa-sha256; c=relaxed/relaxed; d=iol.unh.edu; s=unh-iol; t=1738916411; x=1739521211; darn=dpdk.org; h=cc:to:from:subject:message-id:date:from:to:cc:subject:date :message-id:reply-to; bh=+h2bCQxTUcwR4PGDx/PbbIOMCBA675T40AoDSksbRtE=; b=bTKyxHa5yRH8o2Vi8kCK8WkByCDhduy3XGZYR+T9xnyG60/wiRC5hUQ3xXPz7AXrz3 wtAqOxB5E54PYbDHVjSKYbVEOkCJWsnPbVI03IcURe+F++Ui+4NaX9zTcYDXttQ9PYFX vNgsmh4L8zZNrqHK4teApElT7tOk2rq7AImso= X-Google-DKIM-Signature: v=1; a=rsa-sha256; c=relaxed/relaxed; d=1e100.net; s=20230601; t=1738916411; x=1739521211; h=cc:to:from:subject:message-id:date:x-gm-message-state:from:to:cc :subject:date:message-id:reply-to; bh=+h2bCQxTUcwR4PGDx/PbbIOMCBA675T40AoDSksbRtE=; b=UBRPWTcxl7rYp/gWMQ+f5ZH3W3+Q2r00FBg5lEDT6H0P0eAaHvz2fyvEUfT8qI7ylZ Qx8iP/nNHrbSCbhYx6FM9YaUatUcpVPqpOjzFmBCDpuuGGGRcS9S+uw4R+md2h68dNsN IfzNHCxGn/V58YirJW32JCVgrfRUHKTXHN48qSFOgP2U52Ro3DPTERSemGNrw6Fc3AGp G4ORJLo+O8lOCEKcaGgC/9AeUvxOQLWcP9SqSlxaHJr9l5nEnYleurvNuJlvvoORsca/ anpRzQOcaxDlM7IJ4um6CdXDWfUQczO7hq/qeEPCkmuuNrrEbZ6z31PQ/cEZ/sJvBzT+ JtBg== X-Gm-Message-State: AOJu0YyFPgcB5Ldyb1PpuAICvSOyuzlfs19GyZ9Y6PPRfi5ZOVU0lYk8 olRJUVJP5maZ4fYqEWXveM31evmUfu2cnbHVRoUTK9sUbyfnjaXmACBUFuUS5ChR5JJ1PD15kK0 DZS1mnZ+VBdcyzRG8lh8pRY2lXjaEebdUWdIjsz2AjBSDmk0E X-Gm-Gg: ASbGncu/KAmPLzcWP8z3ZpvZcgrIG0sVeR0JwXOBeYkGVod7ozY5MkQCfZ1AHo2J1iq N7VsJpNUNa0S2sENZaED0+AAbQe7SSXyJzjUngriUz/BY+6eWxpo11xJHnYrspNMXK3878x5awb 4zK7rwrenSgDu+SoiB0yCRgqk6bAzmbb5YPgM6SReN0/SDEJc74UDUyJNCY0JS4Yo6Wbi59M2VB Y/0Q1Tl7f9A/euYAKCsHC6g7V1HJnGkaZq5INQgrfvepxWKExZ9IgMuZqyi9ULLPsizA0N8ogd/ GH93nhdwS8My1uszZmszhc/JAwxqxje5TC3CPAOT4A== X-Google-Smtp-Source: AGHT+IHZCMDB/nMQtRAvre8Wp5dewdMbYAgAyP1lniA0/hTmYybYsEo3sCH2h6Y6uu+Q4GNmZmeCOO+/k0cZ X-Received: by 2002:a05:6808:1b89:b0:3f1:b1af:7206 with SMTP id 5614622812f47-3f3867e3c58mr5055145b6e.10.1738916411591; Fri, 07 Feb 2025 00:20:11 -0800 (PST) Received: from postal.iol.unh.edu (postal.iol.unh.edu. [2606:4100:3880:1234::84]) by smtp-relay.gmail.com with ESMTPS id 006d021491bc7-5fc541f5414sm93669eaf.0.2025.02.07.00.20.11 (version=TLS1_2 cipher=ECDHE-ECDSA-AES128-GCM-SHA256 bits=128/128); Fri, 07 Feb 2025 00:20:11 -0800 (PST) X-Relaying-Domain: iol.unh.edu Date: Fri, 07 Feb 2025 00:20:11 -0800 (PST) Message-ID: <67a5c23b.050a0220.32e907.4e7aSMTPIN_ADDED_MISSING@mx.google.com> Received: from [172.21.0.6] (unknown [172.18.0.240]) by postal.iol.unh.edu (Postfix) with ESMTP id 1959F6052471; Fri, 7 Feb 2025 03:20:11 -0500 (EST) Subject: |SUCCESS| [GIT MASTER] f2eea2f37a82bb73fb01d56350708f7d70e21379 From: dpdklab@iol.unh.edu To: Test Report Cc: dpdk-test-reports@iol.unh.edu, Xueming Li , Christian Ehrhardt , Kevin Traynor , Luca Boccassi Content-Type: text/plain X-BeenThere: test-report@dpdk.org X-Mailman-Version: 2.1.29 Precedence: list List-Id: automatic DPDK test reports List-Unsubscribe: , List-Archive: List-Post: List-Help: List-Subscribe: , Errors-To: test-report-bounces@dpdk.org _Testing PASS_ Branch: tags/v24.11 f2eea2f37a82bb73fb01d56350708f7d70e21379 --> testing pass Upstream job id: Windows-Compile-DPDK-Native#26510 Test environment and result as below: +---------------------+-------------------+--------------------+-------------------------+ | Environment | dpdk_msvc_compile | dpdk_meson_compile | dpdk_llvm_clang_compile | +=====================+===================+====================+=========================+ | Windows Server 2022 | PASS | SKIPPED | PASS | +---------------------+-------------------+--------------------+-------------------------+ | FreeBSD 13.4 | SKIPPED | PASS | SKIPPED | +---------------------+-------------------+--------------------+-------------------------+ | FreeBSD 14.2 | SKIPPED | PASS | SKIPPED | +---------------------+-------------------+--------------------+-------------------------+ Windows Server 2022 Kernel: 10.0.20348.2031 Compiler: clang 15.0.7, gcc 14.1.0 (MinGW), and MSVC VS 19.39.33521 FreeBSD 13.4 Kernel: 13.4-RELEASE-p1 Compiler: clang 18.1.6 FreeBSD 14.2 Kernel: 14.2-RELEASE Compiler: clang 18.1.6 To view detailed results, visit: https://lab.dpdk.org/results/dashboard/tarballs/32483/ UNH-IOL DPDK Community Lab To manage your email subscriptions, visit: https://lab.dpdk.org/results/dashboard/preferences/subscriptions/