From mboxrd@z Thu Jan 1 00:00:00 1970 Return-Path: Received: from mails.dpdk.org (mails.dpdk.org [217.70.189.124]) by inbox.dpdk.org (Postfix) with ESMTP id 33187461B8 for ; Fri, 7 Feb 2025 09:20:31 +0100 (CET) Received: from mails.dpdk.org (localhost [127.0.0.1]) by mails.dpdk.org (Postfix) with ESMTP id 2FA60427A7; Fri, 7 Feb 2025 09:20:31 +0100 (CET) Received: from mail-il1-f225.google.com (mail-il1-f225.google.com [209.85.166.225]) by mails.dpdk.org (Postfix) with ESMTP id F2D0B402C9 for ; Fri, 7 Feb 2025 09:20:25 +0100 (CET) Received: by mail-il1-f225.google.com with SMTP id e9e14a558f8ab-3cda56e1dffso5397555ab.1 for ; Fri, 07 Feb 2025 00:20:25 -0800 (PST) DKIM-Signature: v=1; a=rsa-sha256; c=relaxed/relaxed; d=iol.unh.edu; s=unh-iol; t=1738916425; x=1739521225; darn=dpdk.org; h=references:in-reply-to:cc:to:from:subject:message-id:date:from:to :cc:subject:date:message-id:reply-to; bh=E9L+2sLpuVfGk6i2FHn8aG1DGlCu1rld4EwM7Yn00Xw=; b=d0nJ1lgKvSxESamT5vA4mFRqm8O04JkjyGKIW9gSM8EfxmL7fYE+Vnqk+peZCnvMJa rMMYqe0q1FTdUDie+A32EqO+3meTbqI0wKCvxWwVwpqauU7PJID47ITFsF/Y599P7LPi wbPy70l56ywjhH+NbE08u0Um6r6S4ON7bWOlI= X-Google-DKIM-Signature: v=1; a=rsa-sha256; c=relaxed/relaxed; d=1e100.net; s=20230601; t=1738916425; x=1739521225; h=references:in-reply-to:cc:to:from:subject:message-id:date :x-gm-message-state:from:to:cc:subject:date:message-id:reply-to; bh=E9L+2sLpuVfGk6i2FHn8aG1DGlCu1rld4EwM7Yn00Xw=; b=dlJ0iIS0gvGtpmxKj5E4G+pbJtsJXpT0TKvPHhHzxsKpminldGPQn8+/TgCm86z3eO 02METlkhi7I4GhY81nc3bkbP8gjOFtZqlWEbo+3wtvCYeTBpyMUQkPVB9F1wajcxMil6 Sz2XD7RkCwTMLCuY7y0WJvjMrNuAR6EbBGX3D6vyLG3MZi6xyCfoGGtWEmFxqevq69wr 3BCWOjTOoKForWPkjwuszR4SoatCfRJqPC1JCV4LMPJWqudY8X2GMULYAS8dIuYDWfFg tKafXH2wn05B4+KZwyP8OANOKretecCKGN1xF7yrZqDuK+UIms3x9q1AiqgVprH5t7LE rXCw== X-Gm-Message-State: AOJu0Yyq2htAN7+4cZ7Cng2lBZSmCRLmfqoy9smHxH6BObFpxF2xbLRZ zKSU/J07yjlENcPLoSHUzVzWILvPyjtwE/NCbCpSD+Urqixu1NdFcVzTjY0iWB0j2T6bIeFFMHE FdYbdiuhZcf14oc9GS0bOeSkJ9E+RUUIMiUU8ioc/7c8E45e6xkC2LhhD X-Gm-Gg: ASbGnctYVqMhl7L92eJ2lL8I1F1/p6Bu5ZiSz7+SQj03Pfxo7SRRdUGwAMgJ8mFXSgT 03L5g6ERP27Q5v0zJUrEZdmncN0QX620UH7CJUPQus1c7JxfoQBfrUDBdbLRxbr7tlyHALVLQhL gf9t9CW13XdoqZ7t0Et5amTXKcFdbmpt0r+3loCCdyKNbN5B4MlvgnwaZfx0YcU0Ez3EU3RbLfx jNNe0bCN8aL3Rjt2bCDXRx3G0Okqp3UtCSfbHqr4lhnkTeALsTYoIZhQzlnfloFZjdYefD5ocqY SwPnCXBr5RjCJaGX6WDoIAkJ/Bxrq/uG+LM5aSJNRw== X-Google-Smtp-Source: AGHT+IGiTdLqW9ELsvqU20vpK97DRJ/H4nFzu8Lzw3gDl1JyGBgCaxvdDDUstzukrYTcvTZRdgS2fmMQ4a0r X-Received: by 2002:a05:6e02:1c03:b0:3cf:fd90:946a with SMTP id e9e14a558f8ab-3d13dd38aebmr13267275ab.10.1738916425281; Fri, 07 Feb 2025 00:20:25 -0800 (PST) Received: from postal.iol.unh.edu (postal.iol.unh.edu. [2606:4100:3880:1234::84]) by smtp-relay.gmail.com with ESMTPS id e9e14a558f8ab-3d05e9f0716sm1944785ab.44.2025.02.07.00.20.25 (version=TLS1_2 cipher=ECDHE-ECDSA-AES128-GCM-SHA256 bits=128/128); Fri, 07 Feb 2025 00:20:25 -0800 (PST) X-Relaying-Domain: iol.unh.edu Date: Fri, 07 Feb 2025 00:20:25 -0800 (PST) Message-ID: <67a5c249.050a0220.33b7b7.a8a7SMTPIN_ADDED_MISSING@mx.google.com> Received: from [172.21.0.5] (unknown [172.18.0.240]) by postal.iol.unh.edu (Postfix) with ESMTP id E1C6A6052471; Fri, 7 Feb 2025 03:20:24 -0500 (EST) Subject: |SUCCESS| pw151072-151073 [PATCH] [v8,2/2] net/af_xdp: Refactor af_x From: dpdklab@iol.unh.edu To: Test Report Cc: dpdk-test-reports@iol.unh.edu In-Reply-To: <20250206204645.1564535-3-ariel.otilibili@6wind.com> References: <20250206204645.1564535-3-ariel.otilibili@6wind.com> Content-Type: text/plain X-BeenThere: test-report@dpdk.org X-Mailman-Version: 2.1.29 Precedence: list List-Id: automatic DPDK test reports List-Unsubscribe: , List-Archive: List-Post: List-Help: List-Subscribe: , Errors-To: test-report-bounces@dpdk.org Test-Label: iol-compile-amd64-testing Test-Status: SUCCESS http://dpdk.org/patch/151073 _Testing PASS_ Submitter: Ariel Otilibili Date: Thursday, February 06 2025 20:46:45 DPDK git baseline: Repo:dpdk Branch: master CommitID:e5ece9ae686535f29ae72c03fec26dc16ff7a925 151072-151073 --> testing pass Upstream job id: Generic-DPDK-Compile-Meson#358882 Test environment and result as below: +---------------------+-------------------+--------------------+------------------+-------------------+-------------------------+----------------------+ | Environment | dpdk_msvc_compile | dpdk_meson_compile | dpdk_compile_ovs | dpdk_compile_spdk | dpdk_llvm_clang_compile | dpdk_mingw64_compile | +=====================+===================+====================+==================+===================+=========================+======================+ | Windows Server 2022 | PASS | SKIPPED | SKIPPED | SKIPPED | PASS | PASS | +---------------------+-------------------+--------------------+------------------+-------------------+-------------------------+----------------------+ | FreeBSD 13.4 | SKIPPED | PASS | SKIPPED | SKIPPED | SKIPPED | SKIPPED | +---------------------+-------------------+--------------------+------------------+-------------------+-------------------------+----------------------+ | FreeBSD 14.2 | SKIPPED | PASS | SKIPPED | SKIPPED | SKIPPED | SKIPPED | +---------------------+-------------------+--------------------+------------------+-------------------+-------------------------+----------------------+ | CentOS Stream 9 | SKIPPED | PASS | PASS | PASS | SKIPPED | SKIPPED | +---------------------+-------------------+--------------------+------------------+-------------------+-------------------------+----------------------+ | Debian Bullseye | SKIPPED | PASS | PASS | PASS | SKIPPED | SKIPPED | +---------------------+-------------------+--------------------+------------------+-------------------+-------------------------+----------------------+ | Debian 12 | SKIPPED | PASS | PASS | PASS | SKIPPED | SKIPPED | +---------------------+-------------------+--------------------+------------------+-------------------+-------------------------+----------------------+ | Fedora 40 (Clang) | SKIPPED | PASS | PASS | PASS | SKIPPED | SKIPPED | +---------------------+-------------------+--------------------+------------------+-------------------+-------------------------+----------------------+ | Fedora 40 | SKIPPED | PASS | PASS | PASS | SKIPPED | SKIPPED | +---------------------+-------------------+--------------------+------------------+-------------------+-------------------------+----------------------+ | Fedora 41 (Clang) | SKIPPED | PASS | PASS | PASS | SKIPPED | SKIPPED | +---------------------+-------------------+--------------------+------------------+-------------------+-------------------------+----------------------+ | Fedora 41 | SKIPPED | PASS | PASS | PASS | SKIPPED | SKIPPED | +---------------------+-------------------+--------------------+------------------+-------------------+-------------------------+----------------------+ | openSUSE Leap 15 | SKIPPED | PASS | SKIPPED | SKIPPED | SKIPPED | SKIPPED | +---------------------+-------------------+--------------------+------------------+-------------------+-------------------------+----------------------+ | RHEL8 | SKIPPED | PASS | PASS | SKIPPED | SKIPPED | SKIPPED | +---------------------+-------------------+--------------------+------------------+-------------------+-------------------------+----------------------+ | RHEL9 | SKIPPED | PASS | PASS | SKIPPED | SKIPPED | SKIPPED | +---------------------+-------------------+--------------------+------------------+-------------------+-------------------------+----------------------+ | Ubuntu 20.04 | SKIPPED | PASS | SKIPPED | SKIPPED | SKIPPED | SKIPPED | +---------------------+-------------------+--------------------+------------------+-------------------+-------------------------+----------------------+ | Ubuntu 22.04 | SKIPPED | PASS | PASS | PASS | SKIPPED | SKIPPED | +---------------------+-------------------+--------------------+------------------+-------------------+-------------------------+----------------------+ | Ubuntu 24.04 | SKIPPED | PASS | PASS | PASS | SKIPPED | SKIPPED | +---------------------+-------------------+--------------------+------------------+-------------------+-------------------------+----------------------+ | Alpine | SKIPPED | PASS | PASS | SKIPPED | SKIPPED | SKIPPED | +---------------------+-------------------+--------------------+------------------+-------------------+-------------------------+----------------------+ Windows Server 2022 Kernel: 10.0.20348.2031 Compiler: clang 15.0.7, gcc 14.1.0 (MinGW), and MSVC VS 19.39.33521 FreeBSD 13.4 Kernel: 13.4-RELEASE-p1 Compiler: clang 18.1.6 FreeBSD 14.2 Kernel: 14.2-RELEASE Compiler: clang 18.1.6 CentOS Stream 9 Kernel: Depends on container host Compiler: gcc 11.5.0 20240719 (Red Hat 11.5.0-2) Debian Bullseye Kernel: Depends on container host Compiler: gcc (Debian 10.2.1-6) 10.2.1 20210110 Debian 12 Kernel: Depends on container host Compiler: gcc (Debian 12.2.0-14) 12.2.0 Fedora 40 (Clang) Kernel: Depends on container host Compiler: clang 18.1.8 (Fedora 18.1.8-1.fc40) Fedora 40 Kernel: Depends on container host Compiler: gcc 14.2.1 20240912 (Red Hat 14.2.1-3) Fedora 41 (Clang) Kernel: Depends on container host Compiler: clang 19.1.5 (Fedora 19.1.5-1.fc41) Fedora 41 Kernel: Depends on container host Compiler: gcc 14.2.1 20240912 (Red Hat 14.2.1-3) openSUSE Leap 15 Kernel: Depends on container host Compiler: gcc (SUSE Linux) 7.5.0 RHEL8 Kernel: Depends on container host Compiler: gcc 8.5.0 20210514 (Red Hat 8.5.0-22) RHEL9 Kernel: Depends on container host Compiler: gcc 11.5.0 20240719 (Red Hat 11.5.0-2) Ubuntu 20.04 Kernel: Depends on container host Compiler: gcc (Ubuntu 9.4.0-1ubuntu1~20.04.2) 9.4.0 Ubuntu 22.04 Kernel: Depends on container host Compiler: gcc (Ubuntu 11.4.0-1ubuntu1~22.04) 11.4.0 Ubuntu 24.04 Kernel: Depends on container host Compiler: gcc (Ubuntu 13.3.0-6ubuntu2~24.04) 13.3.0 Alpine Kernel: Depends on container host Compiler: gcc (Alpine 14.2.0) 14.2.0 To view detailed results, visit: https://lab.dpdk.org/results/dashboard/patchsets/32515/ UNH-IOL DPDK Community Lab To manage your email subscriptions, visit: https://lab.dpdk.org/results/dashboard/preferences/subscriptions/