From mboxrd@z Thu Jan 1 00:00:00 1970 Return-Path: Received: from mails.dpdk.org (mails.dpdk.org [217.70.189.124]) by inbox.dpdk.org (Postfix) with ESMTP id 5148A461B8 for ; Fri, 7 Feb 2025 09:21:10 +0100 (CET) Received: from mails.dpdk.org (localhost [127.0.0.1]) by mails.dpdk.org (Postfix) with ESMTP id 4AE25427A7; Fri, 7 Feb 2025 09:21:10 +0100 (CET) Received: from mail-il1-f225.google.com (mail-il1-f225.google.com [209.85.166.225]) by mails.dpdk.org (Postfix) with ESMTP id 53C3D402C9 for ; Fri, 7 Feb 2025 09:21:08 +0100 (CET) Received: by mail-il1-f225.google.com with SMTP id e9e14a558f8ab-3cf8e017abcso5402045ab.1 for ; Fri, 07 Feb 2025 00:21:08 -0800 (PST) DKIM-Signature: v=1; a=rsa-sha256; c=relaxed/relaxed; d=iol.unh.edu; s=unh-iol; t=1738916467; x=1739521267; darn=dpdk.org; h=references:in-reply-to:cc:to:from:subject:message-id:date:from:to :cc:subject:date:message-id:reply-to; bh=xEI9dOHshhFXVNvhjdiCu7L1q10z4XWC0X1tKVyieys=; b=RfD9SSZ0qItrUUuvNoLwzNVfCgh+5/Lr6W+md0sQzNGg0pmENmg1vuqldOd8Znnis7 H6CZo/kePBt0bazwbZborP5rB5nw+OhbIlInKe6zDL3b9ahz5mcFimq7qcBy8yDnPx4m TJXwgakMIJO4T1jcxkxwtSbNoPu0J+nRbK2bw= X-Google-DKIM-Signature: v=1; a=rsa-sha256; c=relaxed/relaxed; d=1e100.net; s=20230601; t=1738916467; x=1739521267; h=references:in-reply-to:cc:to:from:subject:message-id:date :x-gm-message-state:from:to:cc:subject:date:message-id:reply-to; bh=xEI9dOHshhFXVNvhjdiCu7L1q10z4XWC0X1tKVyieys=; b=MuxIXXz4lF7suRlnjqzruL6HPaQWbAvvFk6BcUDOWa9TIGhf+mj9RhWiKNFOrjktPW zmyI6kFDc+23WxPrOUOCiJgjVTEyQeyj6Kk5ZEJNLyFgKpAYsF1mMEcL0utyRHOYifhx 5kzJWNXTH3AbEE9XyYV3R9T6BL7CQNYQu4Wuh0bmAoxqWUM0f6CUORyEgR4MLaCuasyG Wzxt89x0Scmkn9ew0PYshv9PuKBYTBg9EjUWkymbWJ3weQp7hEhsvijSzHOJhwygoatE +zzfK2bSyOAgO5tpKqjh/Ct/l9FxKxKhIvPM0IRiGuxc61QRxgtqCfRHnRtZ34pi7Fij lqAQ== X-Gm-Message-State: AOJu0YzG+JTt1dfAMiNbwFt8Om1nLfInxZfHx7eZ094TAUzdQyohFxWa MTl6QWKKh4yVYz3ycLwiwCTUZIEjY/xkGbfPO/m9MixWIf8wytv3JUvBAdzryyR6bq1MH9h4Ltg nghux1AbYRcfBq5zV1aGZxUQRFce69nmYTVnqneysiKIt6Eb/2AS0+EvB X-Gm-Gg: ASbGnctGzW4P7zGB6kL/y70dJjewcPmR5AeNRB2AUN2GB6UGKWIbg01LvHOipP4sJIR 2M25glAk+eKkfrgczghEWwFbRzRByiAwZ6GwgyqlvxHdEvvsVTbuwOsglha3Ah8HuzzKrf3qhA6 wCGCmBr6fvz6DvU94PIYtEWXvC0u85LKaaSHeDxi1g/ruBorKmNYWA2m13JF9Z24fXAxJyxD0h6 A+VHMeSdo4/2sy3wGWPy9udC8X6GR/K7D6g1/jlno7hK0CGcxexJbI4P4gqFJ+IodBgvZnHkpUd 8lUxnUVoqm7g52cqOqKioSktuli2xBUPt1SdYiFR9A== X-Google-Smtp-Source: AGHT+IEmKgRrmm3p1P4BMu7X3alsvereuGzzuPhyI2TgU4pPeYTD6ZLUzQkkXjPwOwCwfP7T2yoel/yPHf8P X-Received: by 2002:a05:6e02:198a:b0:3d0:258e:484f with SMTP id e9e14a558f8ab-3d13df003dcmr16503705ab.16.1738916467717; Fri, 07 Feb 2025 00:21:07 -0800 (PST) Received: from postal.iol.unh.edu (postal.iol.unh.edu. [2606:4100:3880:1234::84]) by smtp-relay.gmail.com with ESMTPS id e9e14a558f8ab-3d05e9f0700sm1824365ab.55.2025.02.07.00.21.07 (version=TLS1_2 cipher=ECDHE-ECDSA-AES128-GCM-SHA256 bits=128/128); Fri, 07 Feb 2025 00:21:07 -0800 (PST) X-Relaying-Domain: iol.unh.edu Date: Fri, 07 Feb 2025 00:21:07 -0800 (PST) Message-ID: <67a5c273.050a0220.58856.9ab1SMTPIN_ADDED_MISSING@mx.google.com> Received: from [172.21.0.6] (unknown [172.18.0.240]) by postal.iol.unh.edu (Postfix) with ESMTP id 38FD06052471; Fri, 7 Feb 2025 03:21:07 -0500 (EST) Subject: |SUCCESS| pw151078 [PATCH] [v4] net: add thread-safe crc api From: dpdklab@iol.unh.edu To: Test Report Cc: dpdk-test-reports@iol.unh.edu In-Reply-To: <20250207063758.3971992-1-arkadiuszx.kusztal@intel.com> References: <20250207063758.3971992-1-arkadiuszx.kusztal@intel.com> Content-Type: text/plain X-BeenThere: test-report@dpdk.org X-Mailman-Version: 2.1.29 Precedence: list List-Id: automatic DPDK test reports List-Unsubscribe: , List-Archive: List-Post: List-Help: List-Subscribe: , Errors-To: test-report-bounces@dpdk.org Test-Label: iol-compile-amd64-testing Test-Status: SUCCESS http://dpdk.org/patch/151078 _Testing PASS_ Submitter: Arkadiusz Kusztal Date: Friday, February 07 2025 06:37:58 DPDK git baseline: Repo:dpdk Branch: master CommitID:7125636162d67b1c40ba6802a3ff4466d125d243 151078 --> testing pass Upstream job id: Windows-Compile-DPDK-VS#4852 Test environment and result as below: +---------------------+--------------------+-------------------+ | Environment | dpdk_meson_compile | dpdk_msvc_compile | +=====================+====================+===================+ | FreeBSD 13.4 | PASS | SKIPPED | +---------------------+--------------------+-------------------+ | FreeBSD 14.2 | PASS | SKIPPED | +---------------------+--------------------+-------------------+ | Windows Server 2022 | SKIPPED | PASS | +---------------------+--------------------+-------------------+ FreeBSD 13.4 Kernel: 13.4-RELEASE-p1 Compiler: clang 18.1.6 FreeBSD 14.2 Kernel: 14.2-RELEASE Compiler: clang 18.1.6 Windows Server 2022 Kernel: 10.0.20348.2031 Compiler: clang 15.0.7, gcc 14.1.0 (MinGW), and MSVC VS 19.39.33521 To view detailed results, visit: https://lab.dpdk.org/results/dashboard/patchsets/32519/ UNH-IOL DPDK Community Lab To manage your email subscriptions, visit: https://lab.dpdk.org/results/dashboard/preferences/subscriptions/