From mboxrd@z Thu Jan 1 00:00:00 1970 Return-Path: Received: from mails.dpdk.org (mails.dpdk.org [217.70.189.124]) by inbox.dpdk.org (Postfix) with ESMTP id CEC9D461B8 for ; Fri, 7 Feb 2025 09:36:39 +0100 (CET) Received: from mails.dpdk.org (localhost [127.0.0.1]) by mails.dpdk.org (Postfix) with ESMTP id CB85E427B5; Fri, 7 Feb 2025 09:36:39 +0100 (CET) Received: from mail-pj1-f98.google.com (mail-pj1-f98.google.com [209.85.216.98]) by mails.dpdk.org (Postfix) with ESMTP id ED1A3427A7 for ; Fri, 7 Feb 2025 09:36:38 +0100 (CET) Received: by mail-pj1-f98.google.com with SMTP id 98e67ed59e1d1-2ee9a780de4so2860073a91.3 for ; Fri, 07 Feb 2025 00:36:38 -0800 (PST) DKIM-Signature: v=1; a=rsa-sha256; c=relaxed/relaxed; d=iol.unh.edu; s=unh-iol; t=1738917398; x=1739522198; darn=dpdk.org; h=cc:to:from:subject:message-id:date:from:to:cc:subject:date :message-id:reply-to; bh=SCRszMWH6xjaHOs/DAdPOFhaTZtKSzjXx9Jp1XuR8PE=; b=VLI8+Tn+ed5n1qkgvznVk8UlAcJWb3jmIMDZeuQ5uVUc5FTlvJjsR21GjstzcKb0e+ iwOZwG6M9Od28fGYCgvKv3RShcBe+KAbRzxJ8sKyD7IhLut+rMnM2NzK5qYLYH1H7BUs un+1QSuHQ+WsTyRgkn4CYTf45xN5NDnaLagHo= X-Google-DKIM-Signature: v=1; a=rsa-sha256; c=relaxed/relaxed; d=1e100.net; s=20230601; t=1738917398; x=1739522198; h=cc:to:from:subject:message-id:date:x-gm-message-state:from:to:cc :subject:date:message-id:reply-to; bh=SCRszMWH6xjaHOs/DAdPOFhaTZtKSzjXx9Jp1XuR8PE=; b=I0jyPXhbp6GbKyIUsh7OYquktYSmZIkILtw/yixnUoiVlxLQ6SsRUY/NMf4PJ0coXi Dr+hOmFIvQLB4mugoRmLBNUKrWGYwbT3qUNiioLwc4FYjUouJsiVibwNWMwgNPHFPCcP krKsQDD5AYT1QOwX2KJSko1RqaFw+nAaSbT8yIbwOdlDzp1pOx8NrS/xrnrcnMtoIBDF swpUsnC14s4ftsa2xMj1n5qj6hoCH+ZpGBSVgW/c1iv6x32HZByEK7oVraVQh7f+TdvO 2oaNmXtb/fXdQEEn26++sKURvjy7JHa+bV+K58/c23vUi+SZe+2pWuisTuOfSSkNUueF 6oWA== X-Gm-Message-State: AOJu0YwMA051D8LQIebWTI0pAYFrzNj+8Y3a4OLid34A9+GNmD4eoD32 SnhWlkcB1Kv4K0SRnug4LO7/jj9ftB/2vVP24JCj0+5CQuZxNf8p8bvFoZbDHUXrJVUhqGkvJcA BGG8cjxNPR9xkVGWDXU6pLjFPzXv6nPkH X-Gm-Gg: ASbGncsRk/ceXVp+JBK2QBxi8JlmjFobqglMqDrXXn4bjlr1Ulf+7i00uSklc1bHZdH gK1B+qxktQyrSkmlzoCVlW2zQFKidVTC44ocTMTaTbpXUOs5zL/LIqR8EqA6S2EW16gEP4sgCIa ZSq50wJUYncH2fqyQoIRs/YP3O8kY8C86VXlO5dFfpkrEknyKnFbExxEq+GvD52YqZ46GTYiYY2 he+jej33JiFgi2Kw/FRliibkrYTIdvxXsx+Tvajx8/LCLYfXKByBJTT97LSFjAo+QJ5uneWCBH8 kabSvDfA+YMUIjImLluiDosy994dEQ== X-Google-Smtp-Source: AGHT+IFIU4VXKyYJViq6KkO8iICDfpSXh94oQBYM2JBxEtk17tt1hlFFK5kXaXkGtrb5Pu6SwEirZsS84ySm X-Received: by 2002:a17:90b:3c90:b0:2fa:15ab:4dff with SMTP id 98e67ed59e1d1-2fa243ed7e4mr3165156a91.31.1738917398117; Fri, 07 Feb 2025 00:36:38 -0800 (PST) Received: from postal.iol.unh.edu (postal.iol.unh.edu. [132.177.123.84]) by smtp-relay.gmail.com with ESMTPS id d9443c01a7336-21f3689047dsm1534825ad.120.2025.02.07.00.36.37 (version=TLS1_2 cipher=ECDHE-ECDSA-AES128-GCM-SHA256 bits=128/128); Fri, 07 Feb 2025 00:36:38 -0800 (PST) X-Relaying-Domain: iol.unh.edu Date: Fri, 07 Feb 2025 00:36:38 -0800 (PST) Message-ID: <67a5c616.170a0220.2f6cff.81d0SMTPIN_ADDED_MISSING@mx.google.com> Received: from [172.21.0.5] (unknown [172.18.0.240]) by postal.iol.unh.edu (Postfix) with ESMTP id 8BD726052471; Fri, 7 Feb 2025 03:36:37 -0500 (EST) Subject: |SUCCESS| [GIT MASTER] c66daa12e76d7b4912cfb7109a761856a7a873ab From: dpdklab@iol.unh.edu To: Test Report Cc: dpdk-test-reports@iol.unh.edu, Xueming Li , Christian Ehrhardt , Kevin Traynor , Luca Boccassi Content-Type: text/plain X-BeenThere: test-report@dpdk.org X-Mailman-Version: 2.1.29 Precedence: list List-Id: automatic DPDK test reports List-Unsubscribe: , List-Archive: List-Post: List-Help: List-Subscribe: , Errors-To: test-report-bounces@dpdk.org _Testing PASS_ Branch: tags/v23.11 c66daa12e76d7b4912cfb7109a761856a7a873ab --> testing pass Upstream job id: Windows-Compile-DPDK-Native#26512 Test environment and result as below: +---------------------+--------------------+-------------------+-------------------------+ | Environment | dpdk_meson_compile | dpdk_msvc_compile | dpdk_llvm_clang_compile | +=====================+====================+===================+=========================+ | FreeBSD 13.4 | PASS | SKIPPED | SKIPPED | +---------------------+--------------------+-------------------+-------------------------+ | FreeBSD 14.2 | PASS | SKIPPED | SKIPPED | +---------------------+--------------------+-------------------+-------------------------+ | Windows Server 2022 | SKIPPED | PASS | PASS | +---------------------+--------------------+-------------------+-------------------------+ FreeBSD 13.4 Kernel: 13.4-RELEASE-p1 Compiler: clang 18.1.6 FreeBSD 14.2 Kernel: 14.2-RELEASE Compiler: clang 18.1.6 Windows Server 2022 Kernel: 10.0.20348.2031 Compiler: clang 15.0.7, gcc 14.1.0 (MinGW), and MSVC VS 19.39.33521 To view detailed results, visit: https://lab.dpdk.org/results/dashboard/tarballs/32484/ UNH-IOL DPDK Community Lab To manage your email subscriptions, visit: https://lab.dpdk.org/results/dashboard/preferences/subscriptions/