From mboxrd@z Thu Jan 1 00:00:00 1970 Return-Path: Received: from mails.dpdk.org (mails.dpdk.org [217.70.189.124]) by inbox.dpdk.org (Postfix) with ESMTP id 58B83461B8 for ; Fri, 7 Feb 2025 09:49:11 +0100 (CET) Received: from mails.dpdk.org (localhost [127.0.0.1]) by mails.dpdk.org (Postfix) with ESMTP id 4D719427C0; Fri, 7 Feb 2025 09:49:11 +0100 (CET) Received: from mail-pl1-f227.google.com (mail-pl1-f227.google.com [209.85.214.227]) by mails.dpdk.org (Postfix) with ESMTP id 6CEAA427B5 for ; Fri, 7 Feb 2025 09:49:10 +0100 (CET) Received: by mail-pl1-f227.google.com with SMTP id d9443c01a7336-21f573ff39bso4478045ad.1 for ; Fri, 07 Feb 2025 00:49:10 -0800 (PST) DKIM-Signature: v=1; a=rsa-sha256; c=relaxed/relaxed; d=iol.unh.edu; s=unh-iol; t=1738918149; x=1739522949; darn=dpdk.org; h=cc:to:from:subject:message-id:date:from:to:cc:subject:date :message-id:reply-to; bh=CNHIZLfazqC5Q3ObZ3z3S/Rq8XKfD3Ova+l/Ak+zgQY=; b=Mj4cZjoxrpp0F5ncRgxR0M/k1jjJXtPHIOg2Pta80vFup69/kYj//WebXx5Sugzvew yWXARrDGl66IdDSOt2msJX+og4bf7A17BBEwkcNw6fMXpqS06os6sgFL7BL2S6sw1Ov4 a+fyC6DOVkd13E8ZyiJ6DsE/0UYk8toNd8GS0= X-Google-DKIM-Signature: v=1; a=rsa-sha256; c=relaxed/relaxed; d=1e100.net; s=20230601; t=1738918149; x=1739522949; h=cc:to:from:subject:message-id:date:x-gm-message-state:from:to:cc :subject:date:message-id:reply-to; bh=CNHIZLfazqC5Q3ObZ3z3S/Rq8XKfD3Ova+l/Ak+zgQY=; b=L0f8amMEZOz0GiIAHNNfZHzymWz4jBXehpwSxSY7wRsYsJeiizkRGhClDsFAhR8mkU HsQI4XDszAovbjVw/Pq703PUist/qmf7eb60kulF6m1nFUakgEVoVK9A2gltQudUlnz/ vZvp+K9pOcM8iyILJyH5BwAOYHFva+RlWBulSaauKfOvNo8kojZ0T17Pg9VxmEvEd+ay DAZeZIo5ioy+RHRaMumyT5tXbDmtuyObWGsRtacohxcdX22Dgk1R0kxb/td8j5JOLiYG pJvd1U+9Gl1mjkqDEJIo4DE5nqVm56hYQoFC9pFd7ntInfyGzI+Y0Zh1+Bo+o+nsA45c y3sg== X-Gm-Message-State: AOJu0Yw6+h4CsZunSjKMnYbOKyLLBuvF00YzcOPXBaq6xJxAgE1F4QGA cIkqk6QRrz3lEzu/VAk0z2a5Jn4rS/KTxF9GRe3zPiK7sM4zAdfpafxIns8AWqjLyOenSmHi1gE 1VdE3gbfrj6Ze9yZb+oOkUs95cxANaKf1TjlQLv19kwxcQp3x X-Gm-Gg: ASbGncu9KGAwmcuz/Wpe3leN+0oYdrLyr1qraXDNjsDdNn6aQQ4xIMJv6P1pZnks8u3 eUDBqN8b160O3mxkAOiNHxLxzYb3yv2YwKx85X7ZYNmI4MpubRzJ5hPB6Ko1WRqoKV0QmSvQOW+ /f/jgChbEsaRmjZOlM2mR+sBe2royFOS50An7mX9T9LfsjQQdpVt42eqEJYqaLQegErRulW8YgK xklZYCy5twJdAp4uueFScvFx9BR1vb/EYXsFzqxfREveYc5cCJcd538Y9+ptYh4rjiqnElwAgqi Mm2zT1FV70U0oM2BOT99vg9WUUL31uu8sTY2aCmFyw== X-Google-Smtp-Source: AGHT+IH+YxkuayVyi0aUAU9q07Qy4tCqBBp0JEfk+p2Pmnj47pD/lBDmYYmksgE0pBcGJNtorMtPYHBvcM+o X-Received: by 2002:a17:903:94e:b0:21a:87d1:168a with SMTP id d9443c01a7336-21f4e73a992mr38467345ad.41.1738918149552; Fri, 07 Feb 2025 00:49:09 -0800 (PST) Received: from postal.iol.unh.edu (postal.iol.unh.edu. [2606:4100:3880:1234::84]) by smtp-relay.gmail.com with ESMTPS id d9443c01a7336-21f3650cf7bsm1552225ad.5.2025.02.07.00.49.09 (version=TLS1_2 cipher=ECDHE-ECDSA-AES128-GCM-SHA256 bits=128/128); Fri, 07 Feb 2025 00:49:09 -0800 (PST) X-Relaying-Domain: iol.unh.edu Date: Fri, 07 Feb 2025 00:49:09 -0800 (PST) Message-ID: <67a5c905.170a0220.3ca86a.8184SMTPIN_ADDED_MISSING@mx.google.com> Received: from [172.21.0.7] (unknown [172.18.0.240]) by postal.iol.unh.edu (Postfix) with ESMTP id B5FDD6052471; Fri, 7 Feb 2025 03:49:08 -0500 (EST) Subject: |SUCCESS| [GIT MASTER] c66daa12e76d7b4912cfb7109a761856a7a873ab From: dpdklab@iol.unh.edu To: Test Report Cc: dpdk-test-reports@iol.unh.edu, Xueming Li , Christian Ehrhardt , Kevin Traynor , Luca Boccassi Content-Type: text/plain X-BeenThere: test-report@dpdk.org X-Mailman-Version: 2.1.29 Precedence: list List-Id: automatic DPDK test reports List-Unsubscribe: , List-Archive: List-Post: List-Help: List-Subscribe: , Errors-To: test-report-bounces@dpdk.org _Testing PASS_ Branch: tags/v23.11 c66daa12e76d7b4912cfb7109a761856a7a873ab --> testing pass Upstream job id: Windows-Compile-DPDK-Native#26513 Test environment and result as below: +---------------------+--------------------+-------------------+-------------------------+----------------------+ | Environment | dpdk_meson_compile | dpdk_msvc_compile | dpdk_llvm_clang_compile | dpdk_mingw64_compile | +=====================+====================+===================+=========================+======================+ | FreeBSD 13.4 | PASS | SKIPPED | SKIPPED | SKIPPED | +---------------------+--------------------+-------------------+-------------------------+----------------------+ | FreeBSD 14.2 | PASS | SKIPPED | SKIPPED | SKIPPED | +---------------------+--------------------+-------------------+-------------------------+----------------------+ | Windows Server 2022 | SKIPPED | PASS | PASS | PASS | +---------------------+--------------------+-------------------+-------------------------+----------------------+ FreeBSD 13.4 Kernel: 13.4-RELEASE-p1 Compiler: clang 18.1.6 FreeBSD 14.2 Kernel: 14.2-RELEASE Compiler: clang 18.1.6 Windows Server 2022 Kernel: 10.0.20348.2031 Compiler: clang 15.0.7, gcc 14.1.0 (MinGW), and MSVC VS 19.39.33521 To view detailed results, visit: https://lab.dpdk.org/results/dashboard/tarballs/32484/ UNH-IOL DPDK Community Lab To manage your email subscriptions, visit: https://lab.dpdk.org/results/dashboard/preferences/subscriptions/