From mboxrd@z Thu Jan 1 00:00:00 1970 Return-Path: Received: from mails.dpdk.org (mails.dpdk.org [217.70.189.124]) by inbox.dpdk.org (Postfix) with ESMTP id A8037461BA for ; Fri, 7 Feb 2025 10:01:08 +0100 (CET) Received: from mails.dpdk.org (localhost [127.0.0.1]) by mails.dpdk.org (Postfix) with ESMTP id 95E71427B8; Fri, 7 Feb 2025 10:01:08 +0100 (CET) Received: from mail-io1-f98.google.com (mail-io1-f98.google.com [209.85.166.98]) by mails.dpdk.org (Postfix) with ESMTP id 5AE53427B5 for ; Fri, 7 Feb 2025 10:01:07 +0100 (CET) Received: by mail-io1-f98.google.com with SMTP id ca18e2360f4ac-844e9b83aaaso139769939f.3 for ; Fri, 07 Feb 2025 01:01:07 -0800 (PST) DKIM-Signature: v=1; a=rsa-sha256; c=relaxed/relaxed; d=iol.unh.edu; s=unh-iol; t=1738918866; x=1739523666; darn=dpdk.org; h=references:in-reply-to:cc:to:from:subject:message-id:date:from:to :cc:subject:date:message-id:reply-to; bh=SeBOvY1KT8A8IjJAHpeoylPYZ5sk0OiW3iFvkqS8ydw=; b=Vg3JDQFMPzgFPPB4vQDRzy7JvHkPqnUWCI+yp7Ka8yPwLxKeijHzkJ2b4hNNDNI2SF +S6pvqn3Iw9qcBXfpK327rC+SPDHPS2u6mERae1o6WS+Z1OkEWGjZqC/uIDSCARiT/kE UM1/G4suM9Yv2CBMFbgYosbdCEPhmh7rR2FDU= X-Google-DKIM-Signature: v=1; a=rsa-sha256; c=relaxed/relaxed; d=1e100.net; s=20230601; t=1738918866; x=1739523666; h=references:in-reply-to:cc:to:from:subject:message-id:date :x-gm-message-state:from:to:cc:subject:date:message-id:reply-to; bh=SeBOvY1KT8A8IjJAHpeoylPYZ5sk0OiW3iFvkqS8ydw=; b=Bkicbi2tdqcuRc5uY2yZkBRv0Y45dQ6lun3mXlkPdKKi80ysmqacLX1dLjktfHgGet KSSzoKZdaeHkNFJQ8JsiOYtWBtkDMfC777uVwNZO19aFP+OEafOGeFtDZQW8ek3SffOd jRn4SAgQz9888vjGKmdrErYMCZxW8VGbLi8kC+0Za+JncXdkzXw5QvFLVTqKMKRH+H4q 2wXh9eRjBv95rzSc0LcowACYomgSL2TMuGxeOJ8gt729+W/MFKKChCPnyfrGoa2qZfJj OoErSDDLtHDEfjnP5pIgFZLCfm/UqCaC+cwlTtH7DjvZ4G4NRF/rYTB3iWx5rfFURLU0 HRRw== X-Gm-Message-State: AOJu0YzkRgdloY9hqWogWl81VfqWMmMee74J+/fay3WjhKZszP6vgPQV Z79HKth33Euenwn9RitPoH10vvGwiDZXAh85GaACZyG1cntrtIMABDGd61zEUWVEf9DjwiuAbIV UULue8AtsEcHAmJotKGhVik4+EFo40xcJ8sBgqq0J1Zqg2VWYpakFWFyf X-Gm-Gg: ASbGncv8X+H/DWwO6sf0Qo9wRIzw6Xt4Eb0cpk1X69Tcu4tt+ugtGRR87/6+oi/tevf JnHYhwixBU85VVgdeKeOzyDawOko6iJzsdaWGKe1gftkqBmW3VD/ATYlyHkCzqApn1HCRyWst2G B1WSznD3Mgqv9M3YwFDWwTahyL72ixaNjWp2iCopBTmE2wPIAlMc+R/WbarDvwRaRGeL9tYd2wV zaXAtKB4ixhesid6WwOJHpnjyViDlWpDf4906/vqsXMlWpA1izFb6+AyEjMRUmTHLOsetLrHL4o Ps8jmyd9xsQuGTubcZYfKaYt9t3ngNh6CVdylxT07A== X-Google-Smtp-Source: AGHT+IFfw1mBJuz3e9L/efWfVeSy+PCG5Pn37V57nBvwtEPFNZPIJxnsRLxY6OCUMcDBOz+uZPaivw4qHBbV X-Received: by 2002:a05:6602:4a0e:b0:851:f0be:9676 with SMTP id ca18e2360f4ac-854fd88450amr259934339f.1.1738918866658; Fri, 07 Feb 2025 01:01:06 -0800 (PST) Received: from postal.iol.unh.edu (postal.iol.unh.edu. [2606:4100:3880:1234::84]) by smtp-relay.gmail.com with ESMTPS id ca18e2360f4ac-854f675bbbbsm18206239f.26.2025.02.07.01.01.06 (version=TLS1_2 cipher=ECDHE-ECDSA-AES128-GCM-SHA256 bits=128/128); Fri, 07 Feb 2025 01:01:06 -0800 (PST) X-Relaying-Domain: iol.unh.edu Date: Fri, 07 Feb 2025 01:01:06 -0800 (PST) Message-ID: <67a5cbd2.050a0220.2e0bff.9831SMTPIN_ADDED_MISSING@mx.google.com> Received: from [172.21.0.7] (unknown [172.18.0.240]) by postal.iol.unh.edu (Postfix) with ESMTP id 313EE6052471; Fri, 7 Feb 2025 04:01:06 -0500 (EST) Subject: |SUCCESS| pw151078 [PATCH] [v4] net: add thread-safe crc api From: dpdklab@iol.unh.edu To: Test Report Cc: dpdk-test-reports@iol.unh.edu In-Reply-To: <20250207063758.3971992-1-arkadiuszx.kusztal@intel.com> References: <20250207063758.3971992-1-arkadiuszx.kusztal@intel.com> Content-Type: text/plain X-BeenThere: test-report@dpdk.org X-Mailman-Version: 2.1.29 Precedence: list List-Id: automatic DPDK test reports List-Unsubscribe: , List-Archive: List-Post: List-Help: List-Subscribe: , Errors-To: test-report-bounces@dpdk.org Test-Label: iol-compile-amd64-testing Test-Status: SUCCESS http://dpdk.org/patch/151078 _Testing PASS_ Submitter: Arkadiusz Kusztal Date: Friday, February 07 2025 06:37:58 DPDK git baseline: Repo:dpdk Branch: master CommitID:7125636162d67b1c40ba6802a3ff4466d125d243 151078 --> testing pass Upstream job id: Windows-Compile-DPDK-Native#26514 Test environment and result as below: +---------------------+--------------------+-------------------+-------------------------+ | Environment | dpdk_meson_compile | dpdk_msvc_compile | dpdk_llvm_clang_compile | +=====================+====================+===================+=========================+ | FreeBSD 13.4 | PASS | SKIPPED | SKIPPED | +---------------------+--------------------+-------------------+-------------------------+ | FreeBSD 14.2 | PASS | SKIPPED | SKIPPED | +---------------------+--------------------+-------------------+-------------------------+ | Windows Server 2022 | SKIPPED | PASS | PASS | +---------------------+--------------------+-------------------+-------------------------+ FreeBSD 13.4 Kernel: 13.4-RELEASE-p1 Compiler: clang 18.1.6 FreeBSD 14.2 Kernel: 14.2-RELEASE Compiler: clang 18.1.6 Windows Server 2022 Kernel: 10.0.20348.2031 Compiler: clang 15.0.7, gcc 14.1.0 (MinGW), and MSVC VS 19.39.33521 To view detailed results, visit: https://lab.dpdk.org/results/dashboard/patchsets/32519/ UNH-IOL DPDK Community Lab To manage your email subscriptions, visit: https://lab.dpdk.org/results/dashboard/preferences/subscriptions/