From mboxrd@z Thu Jan 1 00:00:00 1970 Return-Path: Received: from mails.dpdk.org (mails.dpdk.org [217.70.189.124]) by inbox.dpdk.org (Postfix) with ESMTP id C22B9461BA for ; Fri, 7 Feb 2025 10:15:27 +0100 (CET) Received: from mails.dpdk.org (localhost [127.0.0.1]) by mails.dpdk.org (Postfix) with ESMTP id EC69F427B8; Fri, 7 Feb 2025 10:15:26 +0100 (CET) Received: from mail-pl1-f227.google.com (mail-pl1-f227.google.com [209.85.214.227]) by mails.dpdk.org (Postfix) with ESMTP id 9A3F0427B5 for ; Fri, 7 Feb 2025 10:15:25 +0100 (CET) Received: by mail-pl1-f227.google.com with SMTP id d9443c01a7336-21f44e7eae4so21098245ad.2 for ; Fri, 07 Feb 2025 01:15:25 -0800 (PST) DKIM-Signature: v=1; a=rsa-sha256; c=relaxed/relaxed; d=iol.unh.edu; s=unh-iol; t=1738919725; x=1739524525; darn=dpdk.org; h=references:in-reply-to:cc:to:from:subject:message-id:date:from:to :cc:subject:date:message-id:reply-to; bh=QcmKhR1uskiFzQvZIEPpPu+fUipK0lcjlPy0GTBTN3M=; b=CgXuEXWEsLPdH5U+28HS+5yjK5/coEjBthzzYKahEitRU7NqwtcqyBTjz0s4F83nUY CsjmtFtwj+96UdiuSDgiUGVnj7vZbJ8560GfsbxLo7PCm3zjKm6Br7uGmlBHc8bdYpvo psMcA7dEIPImNBfyqOHkTwqStVpjrEewN3avs= X-Google-DKIM-Signature: v=1; a=rsa-sha256; c=relaxed/relaxed; d=1e100.net; s=20230601; t=1738919725; x=1739524525; h=references:in-reply-to:cc:to:from:subject:message-id:date :x-gm-message-state:from:to:cc:subject:date:message-id:reply-to; bh=QcmKhR1uskiFzQvZIEPpPu+fUipK0lcjlPy0GTBTN3M=; b=uB/sQib3NUJWjtTNrpFTmu2WLZJyfk+wYhvwcgo04MP3wWctFL72fdhxlrHMXtHgXs P+V0XE48N8ZqAW2juW6KV9mevDfGr5cLe7Bz9bga3Eh6s1DS2X5NIIzMakk9ArF77HJJ yAkNJF6qn6aTqiwdoftpKb0D/5cBjoyaBfrDInS+nTHk+FKr6k2MAiIol8sf6huS15s1 ztt+ryasH2TOSGLedPugqBwaDXwIE2qDzr9tFqB/bxgy2QFko9Gqg+hJ9idMApMe9CdL mIkfocs24Sok0qR5HnSLsOEU8gCCFL7o2m639y13KiMoB9hI9lhv9RDZgtDYBRQKK/eW reBw== X-Gm-Message-State: AOJu0YwsvqgUf/L5nvo+RsxHx6YnNVyAtJMpFyesxD2xVRNvcBhTalkz DxtBv7kYO38iPhIVXCub8Bgk98GgMrhWv32VnU26QnT0EK4rtVH7X87YrBRGnnVlT4EYnup7BzI PdPU+SVHby9o/cQGstcIrYUA5CLFtPh2BeE9ZskRbAoVJ0GVg4H+kqxlt X-Gm-Gg: ASbGncs9Jsk6/DbEK6mOtgWB5ugDas1uIL1D30zXnMoIpprsKDDCcQvwpDx1tkSiVOa Ya2Np+SNZqt+Xhv+z6VhpTJ6T7PDXnh0T6btjNog7vlFDXYv5U/7rE+T/KHXbYocZwHf+n/i2tw 8hW/LTz7d+w95ENMBHuL6nSfL0LFvBq+oO7OSWF2msyBSj/KwHEvCnghnUQEGrNuZe05InbHNKa xinpvlfTxqprj52VheHYtE3uFqf6inP0ACFrYeL/AEHIe5fGhUIb3xp7rj5GWL1V5GOxcpLEVeB vbZuL/yYr/DPE3lNSKMHKYV5qo0kfDkXgk6jG6LuGA== X-Google-Smtp-Source: AGHT+IGrzQ0FWrORnfUnjHp0yAcM6RfbbDSBQjStMqibZ3WvprYpgettX9ilV0trtd4lGKrsm2SRHBHGxEC7 X-Received: by 2002:a17:902:d4c2:b0:21f:4479:a359 with SMTP id d9443c01a7336-21f4e78108amr35952795ad.42.1738919724666; Fri, 07 Feb 2025 01:15:24 -0800 (PST) Received: from postal.iol.unh.edu (postal.iol.unh.edu. [2606:4100:3880:1234::84]) by smtp-relay.gmail.com with ESMTPS id d9443c01a7336-21f368901edsm1517055ad.118.2025.02.07.01.15.24 (version=TLS1_2 cipher=ECDHE-ECDSA-AES128-GCM-SHA256 bits=128/128); Fri, 07 Feb 2025 01:15:24 -0800 (PST) X-Relaying-Domain: iol.unh.edu Date: Fri, 07 Feb 2025 01:15:24 -0800 (PST) Message-ID: <67a5cf2c.170a0220.35ab50.7e1dSMTPIN_ADDED_MISSING@mx.google.com> Received: from [172.21.0.5] (unknown [172.18.0.240]) by postal.iol.unh.edu (Postfix) with ESMTP id CD40C6052471; Fri, 7 Feb 2025 04:15:23 -0500 (EST) Subject: |SUCCESS| pw151074 [PATCH] [v8] graph: mcore: optimize graph search From: dpdklab@iol.unh.edu To: Test Report Cc: dpdk-test-reports@iol.unh.edu In-Reply-To: <20250207013939.1783-1-chcchc88@163.com> References: <20250207013939.1783-1-chcchc88@163.com> Content-Type: text/plain X-BeenThere: test-report@dpdk.org X-Mailman-Version: 2.1.29 Precedence: list List-Id: automatic DPDK test reports List-Unsubscribe: , List-Archive: List-Post: List-Help: List-Subscribe: , Errors-To: test-report-bounces@dpdk.org Test-Label: iol-compile-arm64-testing Test-Status: SUCCESS http://dpdk.org/patch/151074 _Testing PASS_ Submitter: Huichao Cai Date: Friday, February 07 2025 01:39:39 DPDK git baseline: Repo:dpdk Branch: master CommitID:1bf86800f7daf8d5c71a08a0776ff3b754ee6570 151074 --> testing pass Upstream job id: Generic-DPDK-Compile-Meson#358866 Test environment and result as below: +----------------------------------------+--------------------+ | Environment | dpdk_meson_compile | +========================================+====================+ | RHEL9 (ARM) | PASS | +----------------------------------------+--------------------+ | Ubuntu 20.04 ARM GCC Cross Compile | PASS | +----------------------------------------+--------------------+ | Ubuntu 20.04 ARM SVE | PASS | +----------------------------------------+--------------------+ | Debian 12 with MUSDK | PASS | +----------------------------------------+--------------------+ | Fedora 40 (ARM) | PASS | +----------------------------------------+--------------------+ | Fedora 40 (ARM Clang) | PASS | +----------------------------------------+--------------------+ | Fedora 41 (ARM) | PASS | +----------------------------------------+--------------------+ | Fedora 41 (ARM Clang) | PASS | +----------------------------------------+--------------------+ | Ubuntu 20.04 (ARM) | PASS | +----------------------------------------+--------------------+ | Ubuntu 22.04 (ARM) | PASS | +----------------------------------------+--------------------+ | Ubuntu 24.04 (ARM) | PASS | +----------------------------------------+--------------------+ | CentOS Stream 9 (ARM) | PASS | +----------------------------------------+--------------------+ | Debian 11 (Buster) (ARM) | PASS | +----------------------------------------+--------------------+ | Debian 12 (arm) | PASS | +----------------------------------------+--------------------+ | Ubuntu 20.04 ARM Clang Cross Compile | PASS | +----------------------------------------+--------------------+ | Ubuntu 20.04 aarch32 GCC Cross Compile | PASS | +----------------------------------------+--------------------+ RHEL9 (ARM) Kernel: Depends on container host Compiler: gcc 11.5.0 20240719 (Red Hat 11.5.0-2) Ubuntu 20.04 ARM GCC Cross Compile Kernel: Depends on container host Compiler: aarch64-linux-gnu-gcc (Ubuntu 9.4.0-1ubuntu1~20.04.2) 9.4.0 Ubuntu 20.04 ARM SVE Kernel: Depends on container host Compiler: gcc (Ubuntu 10.5.0-1ubuntu1~20.04) 10.5.0 Debian 12 with MUSDK Kernel: Depends on container host Compiler: gcc (Debian 12.2.0-14) 12.2.0 Fedora 40 (ARM) Kernel: Depends on container host Compiler: gcc 14.2.1 20240912 (Red Hat 14.2.1-3) Fedora 40 (ARM Clang) Kernel: Depends on container host Compiler: clang 18.1.8 (Fedora 18.1.8-1.fc40) Fedora 41 (ARM) Kernel: Depends on container host Compiler: gcc 14.2.1 20240912 (Red Hat 14.2.1-3) Fedora 41 (ARM Clang) Kernel: Depends on container host Compiler: clang 19.1.5 (Fedora 19.1.5-1.fc41) Ubuntu 20.04 (ARM) Kernel: Depends on container host Compiler: gcc (Ubuntu 9.4.0-1ubuntu1~20.04.2) 9.4.0 Ubuntu 22.04 (ARM) Kernel: Depends on container host Compiler: gcc (Ubuntu 11.4.0-1ubuntu1~22.04) 11.4.0 Ubuntu 24.04 (ARM) Kernel: Depends on container host Compiler: gcc (Ubuntu 13.3.0-6ubuntu2~24.04) 13.3.0 CentOS Stream 9 (ARM) Kernel: Depends on container host Compiler: gcc 11.5.0 20240719 (Red Hat 11.5.0-2) Debian 11 (Buster) (ARM) Kernel: Depends on container host Compiler: gcc (Debian 10.2.1-6) 10.2.1 20210110 Debian 12 (arm) Kernel: Depends on container host Compiler: gcc (Debian 12.2.0-14) 12.2.0 Ubuntu 20.04 ARM Clang Cross Compile Kernel: Depends on container host Compiler: clang 10.0.0-4ubuntu1 Ubuntu 20.04 aarch32 GCC Cross Compile Kernel: Depends on container host Compiler: gcc 9.4.0 To view detailed results, visit: https://lab.dpdk.org/results/dashboard/patchsets/32516/ UNH-IOL DPDK Community Lab To manage your email subscriptions, visit: https://lab.dpdk.org/results/dashboard/preferences/subscriptions/