From mboxrd@z Thu Jan 1 00:00:00 1970 Return-Path: Received: from mails.dpdk.org (mails.dpdk.org [217.70.189.124]) by inbox.dpdk.org (Postfix) with ESMTP id F2B47461BA for ; Fri, 7 Feb 2025 10:27:32 +0100 (CET) Received: from mails.dpdk.org (localhost [127.0.0.1]) by mails.dpdk.org (Postfix) with ESMTP id D15BF427B8; Fri, 7 Feb 2025 10:27:32 +0100 (CET) Received: from mail-io1-f98.google.com (mail-io1-f98.google.com [209.85.166.98]) by mails.dpdk.org (Postfix) with ESMTP id 7D27C402BC for ; Fri, 7 Feb 2025 10:27:32 +0100 (CET) Received: by mail-io1-f98.google.com with SMTP id ca18e2360f4ac-844e06e5d11so53780439f.0 for ; Fri, 07 Feb 2025 01:27:32 -0800 (PST) DKIM-Signature: v=1; a=rsa-sha256; c=relaxed/relaxed; d=iol.unh.edu; s=unh-iol; t=1738920452; x=1739525252; darn=dpdk.org; h=references:in-reply-to:cc:to:from:subject:message-id:date:from:to :cc:subject:date:message-id:reply-to; bh=UddamDDcXMGd0J1air1flORttEge4RD+8Fie+UoHj5Q=; b=F2z2041jehKsUIh533bU4GZr68gf8gzltyjcgC2fiLTFgTVoGd3fYSN8sVy0ns5e73 8p7D8imDqsn9KdMbUl3nNEwTT+guh/7vi5CHVlqGGoVWErv9dSnZl8nuX0BpyzMTadVs FKXTGqPp0s0+TpeRhbmamdVk78sxP1xeSw0Ok= X-Google-DKIM-Signature: v=1; a=rsa-sha256; c=relaxed/relaxed; d=1e100.net; s=20230601; t=1738920452; x=1739525252; h=references:in-reply-to:cc:to:from:subject:message-id:date :x-gm-message-state:from:to:cc:subject:date:message-id:reply-to; bh=UddamDDcXMGd0J1air1flORttEge4RD+8Fie+UoHj5Q=; b=e03DT87jS3XV6+jsZ/iuy8yqMiDN0NR1rMgcXxp+3yHmbvJB3WbVjDyUtLKqtoZ1d/ 4La4WbWkPor9Dc46xRNujztPyr82ZlS/cSv8dNCXYGarET58kpk6XppTfvivOC82t69k 46DLy4jSpbw6SfGrlid/Wjio17HjFTjcqL/DC3y8ZQAOLlBjAl0SfjnYp9K9fEdB3oH5 rSG3ouZzxjPI59nrisdvFPw24DhkvbR7RCIMkMk6ZwirXu+vo8iBCj1Af5CrqnLVgxaB sPoKqKvnJDS/S5gt/rCV8LC4UX00R1AO5YxDeatG39sUVONq7Mnlc+xUUbSUpU3F1g+L IUIA== X-Gm-Message-State: AOJu0YznCU4fCKOs7Cep7dzRppmnb276j18NpGYhnhajjPLQPW3ZEXvW 8GTuhV/lAp3nPTcdZST3CGE5iRxHdHoEjhrBU7Aflx8mWzPUpL/j/unBP66TNM4JUq6O9nThOX7 DDXY4Ze0cqVwMQOr9Xga75b3hydntMQRR+H9zoOFY X-Gm-Gg: ASbGncvxxUY1wt1C+FaOm+f/Z4auS73h14GG67m+trr07zCCty+CilkV5rpC67tfuUX jA3SDL06wT2l4uvMImfwOPQd3loZupG0F3cuMdo5n2UeQQdsAogmA0qe2wjzZuPGsgunV7D6HzF OvtoOn8PG9OFV6lxSD7WfX4reZpbae/m+tfuhPrANRd0SaqcHM3s/6srw9ig6dVO5OrgTFvJdEx W2pS76JDDB6ruxDpndDfiXQjo/1ygXOHHnqwjbR6UrRFYQqLbUisDBhFpzpp3oT60D+Lh1mSpJm BkY2WBqt88KKfojvAUHedPadq7iuhQ== X-Google-Smtp-Source: AGHT+IFN3+63DpUpt7Ri1F268g29Jnt9lNkCDwW80DCB7F9cvhk7h7PIYLFTHofR+4kcMw349ET7N6pImPEj X-Received: by 2002:a05:6602:4811:b0:843:e89d:b62b with SMTP id ca18e2360f4ac-854fd8f705emr263808039f.11.1738920451808; Fri, 07 Feb 2025 01:27:31 -0800 (PST) Received: from postal.iol.unh.edu (postal.iol.unh.edu. [132.177.123.84]) by smtp-relay.gmail.com with ESMTPS id ca18e2360f4ac-854f6661ae2sm18439139f.1.2025.02.07.01.27.31 (version=TLS1_2 cipher=ECDHE-ECDSA-AES128-GCM-SHA256 bits=128/128); Fri, 07 Feb 2025 01:27:31 -0800 (PST) X-Relaying-Domain: iol.unh.edu Date: Fri, 07 Feb 2025 01:27:31 -0800 (PST) Message-ID: <67a5d203.050a0220.9760a.9cc4SMTPIN_ADDED_MISSING@mx.google.com> Received: from [172.21.0.5] (unknown [172.18.0.240]) by postal.iol.unh.edu (Postfix) with ESMTP id 52B636052471; Fri, 7 Feb 2025 04:27:31 -0500 (EST) Subject: |SUCCESS| pw151075 [PATCH] [v2] app/procinfo: add xstats parameter t From: dpdklab@iol.unh.edu To: Test Report Cc: dpdk-test-reports@iol.unh.edu In-Reply-To: <20250207031333.1782995-1-huangdengdui@huawei.com> References: <20250207031333.1782995-1-huangdengdui@huawei.com> Content-Type: text/plain X-BeenThere: test-report@dpdk.org X-Mailman-Version: 2.1.29 Precedence: list List-Id: automatic DPDK test reports List-Unsubscribe: , List-Archive: List-Post: List-Help: List-Subscribe: , Errors-To: test-report-bounces@dpdk.org Test-Label: iol-compile-amd64-testing Test-Status: SUCCESS http://dpdk.org/patch/151075 _Testing PASS_ Submitter: huangdengdui Date: Friday, February 07 2025 03:13:33 DPDK git baseline: Repo:dpdk Branch: master CommitID:1bf86800f7daf8d5c71a08a0776ff3b754ee6570 151075 --> testing pass Upstream job id: Generic-DPDK-Compile-Meson#358932 Test environment and result as below: +---------------------+--------------------+-------------------------+-------------------+------------------+-------------------+----------------------+ | Environment | dpdk_meson_compile | dpdk_llvm_clang_compile | dpdk_msvc_compile | dpdk_compile_ovs | dpdk_compile_spdk | dpdk_mingw64_compile | +=====================+====================+=========================+===================+==================+===================+======================+ | FreeBSD 13.4 | PASS | SKIPPED | SKIPPED | SKIPPED | SKIPPED | SKIPPED | +---------------------+--------------------+-------------------------+-------------------+------------------+-------------------+----------------------+ | FreeBSD 14.2 | PASS | SKIPPED | SKIPPED | SKIPPED | SKIPPED | SKIPPED | +---------------------+--------------------+-------------------------+-------------------+------------------+-------------------+----------------------+ | CentOS Stream 9 | PASS | SKIPPED | SKIPPED | PASS | PASS | SKIPPED | +---------------------+--------------------+-------------------------+-------------------+------------------+-------------------+----------------------+ | Debian Bullseye | PASS | SKIPPED | SKIPPED | PASS | PASS | SKIPPED | +---------------------+--------------------+-------------------------+-------------------+------------------+-------------------+----------------------+ | Debian 12 | PASS | SKIPPED | SKIPPED | PASS | PASS | SKIPPED | +---------------------+--------------------+-------------------------+-------------------+------------------+-------------------+----------------------+ | Fedora 40 (Clang) | PASS | SKIPPED | SKIPPED | PASS | PASS | SKIPPED | +---------------------+--------------------+-------------------------+-------------------+------------------+-------------------+----------------------+ | Fedora 40 | PASS | SKIPPED | SKIPPED | PASS | PASS | SKIPPED | +---------------------+--------------------+-------------------------+-------------------+------------------+-------------------+----------------------+ | Fedora 41 (Clang) | PASS | SKIPPED | SKIPPED | PASS | PASS | SKIPPED | +---------------------+--------------------+-------------------------+-------------------+------------------+-------------------+----------------------+ | Fedora 41 | PASS | SKIPPED | SKIPPED | PASS | PASS | SKIPPED | +---------------------+--------------------+-------------------------+-------------------+------------------+-------------------+----------------------+ | openSUSE Leap 15 | PASS | SKIPPED | SKIPPED | SKIPPED | SKIPPED | SKIPPED | +---------------------+--------------------+-------------------------+-------------------+------------------+-------------------+----------------------+ | RHEL8 | PASS | SKIPPED | SKIPPED | PASS | SKIPPED | SKIPPED | +---------------------+--------------------+-------------------------+-------------------+------------------+-------------------+----------------------+ | RHEL9 | PASS | SKIPPED | SKIPPED | PASS | SKIPPED | SKIPPED | +---------------------+--------------------+-------------------------+-------------------+------------------+-------------------+----------------------+ | Ubuntu 20.04 | PASS | SKIPPED | SKIPPED | SKIPPED | SKIPPED | SKIPPED | +---------------------+--------------------+-------------------------+-------------------+------------------+-------------------+----------------------+ | Ubuntu 22.04 | PASS | SKIPPED | SKIPPED | PASS | PASS | SKIPPED | +---------------------+--------------------+-------------------------+-------------------+------------------+-------------------+----------------------+ | Ubuntu 24.04 | PASS | SKIPPED | SKIPPED | PASS | PASS | SKIPPED | +---------------------+--------------------+-------------------------+-------------------+------------------+-------------------+----------------------+ | Alpine | PASS | SKIPPED | SKIPPED | PASS | SKIPPED | SKIPPED | +---------------------+--------------------+-------------------------+-------------------+------------------+-------------------+----------------------+ | Windows Server 2022 | SKIPPED | PASS | PASS | SKIPPED | SKIPPED | PASS | +---------------------+--------------------+-------------------------+-------------------+------------------+-------------------+----------------------+ FreeBSD 13.4 Kernel: 13.4-RELEASE-p1 Compiler: clang 18.1.6 FreeBSD 14.2 Kernel: 14.2-RELEASE Compiler: clang 18.1.6 CentOS Stream 9 Kernel: Depends on container host Compiler: gcc 11.5.0 20240719 (Red Hat 11.5.0-2) Debian Bullseye Kernel: Depends on container host Compiler: gcc (Debian 10.2.1-6) 10.2.1 20210110 Debian 12 Kernel: Depends on container host Compiler: gcc (Debian 12.2.0-14) 12.2.0 Fedora 40 (Clang) Kernel: Depends on container host Compiler: clang 18.1.8 (Fedora 18.1.8-1.fc40) Fedora 40 Kernel: Depends on container host Compiler: gcc 14.2.1 20240912 (Red Hat 14.2.1-3) Fedora 41 (Clang) Kernel: Depends on container host Compiler: clang 19.1.5 (Fedora 19.1.5-1.fc41) Fedora 41 Kernel: Depends on container host Compiler: gcc 14.2.1 20240912 (Red Hat 14.2.1-3) openSUSE Leap 15 Kernel: Depends on container host Compiler: gcc (SUSE Linux) 7.5.0 RHEL8 Kernel: Depends on container host Compiler: gcc 8.5.0 20210514 (Red Hat 8.5.0-22) RHEL9 Kernel: Depends on container host Compiler: gcc 11.5.0 20240719 (Red Hat 11.5.0-2) Ubuntu 20.04 Kernel: Depends on container host Compiler: gcc (Ubuntu 9.4.0-1ubuntu1~20.04.2) 9.4.0 Ubuntu 22.04 Kernel: Depends on container host Compiler: gcc (Ubuntu 11.4.0-1ubuntu1~22.04) 11.4.0 Ubuntu 24.04 Kernel: Depends on container host Compiler: gcc (Ubuntu 13.3.0-6ubuntu2~24.04) 13.3.0 Alpine Kernel: Depends on container host Compiler: gcc (Alpine 14.2.0) 14.2.0 Windows Server 2022 Kernel: 10.0.20348.2031 Compiler: clang 15.0.7, gcc 14.1.0 (MinGW), and MSVC VS 19.39.33521 To view detailed results, visit: https://lab.dpdk.org/results/dashboard/patchsets/32517/ UNH-IOL DPDK Community Lab To manage your email subscriptions, visit: https://lab.dpdk.org/results/dashboard/preferences/subscriptions/