From mboxrd@z Thu Jan 1 00:00:00 1970 Return-Path: Received: from mails.dpdk.org (mails.dpdk.org [217.70.189.124]) by inbox.dpdk.org (Postfix) with ESMTP id BF88A461BA for ; Fri, 7 Feb 2025 10:56:31 +0100 (CET) Received: from mails.dpdk.org (localhost [127.0.0.1]) by mails.dpdk.org (Postfix) with ESMTP id 95D58427DC; Fri, 7 Feb 2025 10:56:31 +0100 (CET) Received: from mail-ot1-f100.google.com (mail-ot1-f100.google.com [209.85.210.100]) by mails.dpdk.org (Postfix) with ESMTP id A2E5C427B8 for ; Fri, 7 Feb 2025 10:56:30 +0100 (CET) Received: by mail-ot1-f100.google.com with SMTP id 46e09a7af769-71e181fb288so1271728a34.2 for ; Fri, 07 Feb 2025 01:56:30 -0800 (PST) DKIM-Signature: v=1; a=rsa-sha256; c=relaxed/relaxed; d=iol.unh.edu; s=unh-iol; t=1738922190; x=1739526990; darn=dpdk.org; h=cc:to:from:subject:message-id:date:from:to:cc:subject:date :message-id:reply-to; bh=7/Zckz3NcmtJ4YrcXOYHcoFaETfWqQcL33pE/eg1Vd4=; b=CTndgmZdlnJAQejStumD+4KaGfhPqOTvRmQzTDjPfn+FdVyuSlSi3eDqHH1bg4T0gJ BUibTBnrXX4eSzYzArMLuIwYw9nKwOLJjCcqwwBOTDP5zN4Hsp3QEM+3EV9RXUTOi0rJ EMjw6P6FopWEFHQSkYPjxzBMcgVDxO3vsvfHY= X-Google-DKIM-Signature: v=1; a=rsa-sha256; c=relaxed/relaxed; d=1e100.net; s=20230601; t=1738922190; x=1739526990; h=cc:to:from:subject:message-id:date:x-gm-message-state:from:to:cc :subject:date:message-id:reply-to; bh=7/Zckz3NcmtJ4YrcXOYHcoFaETfWqQcL33pE/eg1Vd4=; b=vqVFIV3xZdctX+yNjGL94ZP5ogLUMXsk8NX+W9reSe6NzFpZVbD6PBPMB7Apu5Y0wf KGyir4uMP+LOm/9VdREVlDGdh0JaW/D63SSnboqaOx1D6IWscqCAXKVY9g/jplAIfleB Sz6eQGAXE5Y8YPaYvFIMIO8+VoSmKz+xtIpsVPQRDBkd6w6efdedv7RoaQq7EG8aO0ZQ VyTnbciLg5YlFEnl6R7aOp1fB/7acFE5GQ+qa618neKu6wXu9T72i2IMRh8Vzj1NRbiw VUA4NhvLRGCi1FSZUsWSOzKegB+3pqq+iVitx1p6WPHjja5341Oal+gFqHJWVEsRrJri wR5g== X-Gm-Message-State: AOJu0Yw3Wydirsa5vbb4suL++1g8r/iv7HL6SAWZ2gMOlAhKGRvsWMAE 7WbBhP8ah7SnGrHFwwXARFUUmYLdVMxiupBP0eE2oYwlrXLh/knikOGqBp/ozyvZwCcY+tuyQXk HcUsGl3w6daZ1AcHM6g/c3GKaPpm6sbcMJE/53lX8zTam9UPb X-Gm-Gg: ASbGncuqFVV6bOMPf1w9YMpQiRyyBkbM6vB/rT58NOUeWYD6EWYOyr+SYiJDI0Oxxl6 OhCVd5WNGjEa8WAFqlLoFN93DJK9MzsZPi/MTEi2fljYhHMvCFuyF3dHUHcFbaFG690kzsVAWVo c0xs4UBhJtnwjgCZEasZTXZmgZeEbXP1ERaIarB4iibqy3KbMMQdltawvUmdjjhCGvsGpMStzZQ D7r6ZESkj8zR/HFW2SB3Wcxh6DeGIOh7qrEcAaaDnXb5KkFB0Dy7+8wCsHe7whjKHCAiRg9icrQ KhKFH+72fI51fY058Wn7mTBOkM2JFWK9rio1Z6fMTQ== X-Google-Smtp-Source: AGHT+IGQ17iTf3mZwKWdAzlvC2TLFIoQwpxk3ZsBuwXsFp/ljXBaHRnuVbq+z9w4xjJbYnWnwW5G68Zve0AE X-Received: by 2002:a05:6830:698c:b0:71e:31a:7521 with SMTP id 46e09a7af769-726b8883b3cmr1589100a34.20.1738922189830; Fri, 07 Feb 2025 01:56:29 -0800 (PST) Received: from postal.iol.unh.edu (postal.iol.unh.edu. [2606:4100:3880:1234::84]) by smtp-relay.gmail.com with ESMTPS id 006d021491bc7-5fc5458b682sm76878eaf.17.2025.02.07.01.56.29 (version=TLS1_2 cipher=ECDHE-ECDSA-AES128-GCM-SHA256 bits=128/128); Fri, 07 Feb 2025 01:56:29 -0800 (PST) X-Relaying-Domain: iol.unh.edu Date: Fri, 07 Feb 2025 01:56:29 -0800 (PST) Message-ID: <67a5d8cd.050a0220.277d0c.435aSMTPIN_ADDED_MISSING@mx.google.com> Received: from [172.21.0.5] (unknown [172.18.0.240]) by postal.iol.unh.edu (Postfix) with ESMTP id 417866052471; Fri, 7 Feb 2025 04:56:29 -0500 (EST) Subject: |SUCCESS| [GIT MASTER] 7ce7d3341d7e21c2a81f2fea8e451681d7306d77 From: dpdklab@iol.unh.edu To: Test Report Cc: dpdk-test-reports@iol.unh.edu, Xueming Li , Christian Ehrhardt , Kevin Traynor , Luca Boccassi Content-Type: text/plain X-BeenThere: test-report@dpdk.org X-Mailman-Version: 2.1.29 Precedence: list List-Id: automatic DPDK test reports List-Unsubscribe: , List-Archive: List-Post: List-Help: List-Subscribe: , Errors-To: test-report-bounces@dpdk.org _Testing PASS_ Branch: tags/v22.11 7ce7d3341d7e21c2a81f2fea8e451681d7306d77 --> testing pass Upstream job id: Generic-DPDK-Compile-ABI#115203 Test environment and result as below: +-------------------+----------+ | Environment | abi_test | +===================+==========+ | CentOS Stream 9 | PASS | +-------------------+----------+ | Debian Bullseye | PASS | +-------------------+----------+ | Debian 12 | PASS | +-------------------+----------+ | Fedora 40 | PASS | +-------------------+----------+ | Fedora 41 (Clang) | PASS | +-------------------+----------+ | openSUSE Leap 15 | PASS | +-------------------+----------+ | Fedora 41 | PASS | +-------------------+----------+ | RHEL9 | PASS | +-------------------+----------+ | RHEL8 | PASS | +-------------------+----------+ | Ubuntu 24.04 | PASS | +-------------------+----------+ | Ubuntu 22.04 | PASS | +-------------------+----------+ | Fedora 40 (Clang) | PASS | +-------------------+----------+ CentOS Stream 9 Kernel: Depends on container host Compiler: gcc 11.5.0 20240719 (Red Hat 11.5.0-2) Debian Bullseye Kernel: Depends on container host Compiler: gcc (Debian 10.2.1-6) 10.2.1 20210110 Debian 12 Kernel: Depends on container host Compiler: gcc (Debian 12.2.0-14) 12.2.0 Fedora 40 Kernel: Depends on container host Compiler: gcc 14.2.1 20240912 (Red Hat 14.2.1-3) Fedora 41 (Clang) Kernel: Depends on container host Compiler: clang 19.1.5 (Fedora 19.1.5-1.fc41) openSUSE Leap 15 Kernel: Depends on container host Compiler: gcc (SUSE Linux) 7.5.0 Fedora 41 Kernel: Depends on container host Compiler: gcc 14.2.1 20240912 (Red Hat 14.2.1-3) RHEL9 Kernel: Depends on container host Compiler: gcc 11.5.0 20240719 (Red Hat 11.5.0-2) RHEL8 Kernel: Depends on container host Compiler: gcc 8.5.0 20210514 (Red Hat 8.5.0-22) Ubuntu 24.04 Kernel: Depends on container host Compiler: gcc (Ubuntu 13.3.0-6ubuntu2~24.04) 13.3.0 Ubuntu 22.04 Kernel: Depends on container host Compiler: gcc (Ubuntu 11.4.0-1ubuntu1~22.04) 11.4.0 Fedora 40 (Clang) Kernel: Depends on container host Compiler: clang 18.1.8 (Fedora 18.1.8-1.fc40) To view detailed results, visit: https://lab.dpdk.org/results/dashboard/tarballs/32482/ UNH-IOL DPDK Community Lab To manage your email subscriptions, visit: https://lab.dpdk.org/results/dashboard/preferences/subscriptions/