From mboxrd@z Thu Jan  1 00:00:00 1970
Return-Path: <test-report-bounces@dpdk.org>
Received: from mails.dpdk.org (mails.dpdk.org [217.70.189.124])
	by inbox.dpdk.org (Postfix) with ESMTP id 16432461BA
	for <public@inbox.dpdk.org>; Fri,  7 Feb 2025 11:17:06 +0100 (CET)
Received: from mails.dpdk.org (localhost [127.0.0.1])
	by mails.dpdk.org (Postfix) with ESMTP id 2100A427B8;
	Fri,  7 Feb 2025 11:17:05 +0100 (CET)
Received: from mail-qv1-f98.google.com (mail-qv1-f98.google.com
 [209.85.219.98]) by mails.dpdk.org (Postfix) with ESMTP id CBAC5402D5
 for <test-report@dpdk.org>; Fri,  7 Feb 2025 11:17:03 +0100 (CET)
Received: by mail-qv1-f98.google.com with SMTP id
 6a1803df08f44-6e1a41935c3so25391966d6.3
 for <test-report@dpdk.org>; Fri, 07 Feb 2025 02:17:03 -0800 (PST)
DKIM-Signature: v=1; a=rsa-sha256; c=relaxed/relaxed;
 d=iol.unh.edu; s=unh-iol; t=1738923423; x=1739528223; darn=dpdk.org;
 h=references:in-reply-to:cc:to:from:subject:message-id:date:from:to
 :cc:subject:date:message-id:reply-to;
 bh=t1RnpAkbJ/mLSPTO9oQAwV/EWyOaPPyXWnYkexhFTJY=;
 b=Q847UiOTbZ2bbRl+NfBZuZR1cCukXszPwsPmZfcKu1BSzOHxIMjS7G7Y2zOcvBztia
 BkepC7ZWis/EC9kNffNeK2vUG43Mm8e0XC/sPAropt+cuSdprThBx81HP3f9GxPMaKMj
 bo2Hi8aSe7CITUL4nmGapdaZnzkD79aZ6NoeI=
X-Google-DKIM-Signature: v=1; a=rsa-sha256; c=relaxed/relaxed;
 d=1e100.net; s=20230601; t=1738923423; x=1739528223;
 h=references:in-reply-to:cc:to:from:subject:message-id:date
 :x-gm-message-state:from:to:cc:subject:date:message-id:reply-to;
 bh=t1RnpAkbJ/mLSPTO9oQAwV/EWyOaPPyXWnYkexhFTJY=;
 b=Cv9ZIjliJH26EXNAwm9wNStABFwlC8L7LDMvrIWGIwKhiuz4q8JZAcYsgGln2OFImF
 fSYrjckbRi0s1gA2ZJ43Uc+ThO5QuraaiERKxWVYOOMHswb4tgcMx7fczIes6O7bpuIU
 XU2r0VIislcQgqazSrLXYrGGbU4lIG/pDNm7oXPEM3rAFqRyo9HLvbSXk53d8NVGVAue
 oYKFTf3Ws3in2RBX60q4ov1g2gf/eeKHkD3zo1ITTI+/XQAN+sFwhWXQfx+IqXUO+Mj+
 G+pCbntWtHSb5dTioiZYqVQ1WesANEOvFZjOvyMDHHsE+hLKisueXnNdbDBnHatiuCOW
 E12Q==
X-Gm-Message-State: AOJu0Yx1zr1Ktq3hTOhS1JgYBaKXv+G2xsW3VW+1WQ+alJ/f6fZGVgcX
 F4n+Ca7D5a+Bzpekt4uMOOaTx63ReOztZaCQK6auVfLuPMN56ODI875xq6CSEr75dHdNI390atE
 qFgQ6BZa099TuSePYcY0CNY9bmcBQ/eLE4JlmAQOe
X-Gm-Gg: ASbGnctu0MOxnKr5xBJYDFOUmRF8DGh3qz4LldbZ/e2gwRrpYLlWR55/YZycgf5qBUV
 1WAoz14lonAWLgBidNSIV+tyjgAkc1v4tn+6EetP64FNYXb+uCbesN2oZ29ZmWRKnbINHAIO6OK
 M8c5SinqNq9fre4VjmLVeojL9RA69L5GvMXu4wD5YTzilGnk85ZlsQ2bIRE1ZOcSIwnVeSKvjvG
 EWq++ppQP11NB6odbacoVqCnJT/ibuM+4bYAeGt0SV29FZZ6sg/xryHnzKlQmVZJJXPWmK7wm6G
 5abcFgrsvWskM69xh+0HnVM06ydVqg==
X-Google-Smtp-Source: AGHT+IFmpdKrs73yvHSVKtJj7cU0Dka6tmaGyYrBBcxnYquGLm8tdgJTROl2nRK3EYmHdSaPDLjIYOeSGrRc
X-Received: by 2002:ad4:5bc4:0:b0:6e4:2d6d:5394 with SMTP id
 6a1803df08f44-6e4456e0c5amr37515446d6.28.1738923423139; 
 Fri, 07 Feb 2025 02:17:03 -0800 (PST)
Received: from postal.iol.unh.edu (postal.iol.unh.edu. [132.177.123.84])
 by smtp-relay.gmail.com with ESMTPS id
 6a1803df08f44-6e43ba40bf8sm1869566d6.24.2025.02.07.02.17.03
 (version=TLS1_2 cipher=ECDHE-ECDSA-AES128-GCM-SHA256 bits=128/128);
 Fri, 07 Feb 2025 02:17:03 -0800 (PST)
X-Relaying-Domain: iol.unh.edu
Date: Fri, 07 Feb 2025 02:17:03 -0800 (PST)
Message-ID: <67a5dd9f.d40a0220.221b0d.a0c0SMTPIN_ADDED_MISSING@mx.google.com>
Received: from [172.21.0.5] (unknown [172.18.0.240])
 by postal.iol.unh.edu (Postfix) with ESMTP id C46076052471;
 Fri,  7 Feb 2025 05:17:02 -0500 (EST)
Subject: |SUCCESS| pw151013-151029 [PATCH] [v22,27/27] config: add -Wvla proj
From: dpdklab@iol.unh.edu
To: Test Report <test-report@dpdk.org>
Cc: dpdk-test-reports@iol.unh.edu
In-Reply-To: <1738805610-17507-28-git-send-email-andremue@linux.microsoft.com>
References: <1738805610-17507-28-git-send-email-andremue@linux.microsoft.com>
Content-Type: text/plain
X-BeenThere: test-report@dpdk.org
X-Mailman-Version: 2.1.29
Precedence: list
List-Id: automatic DPDK test reports <test-report.dpdk.org>
List-Unsubscribe: <https://mails.dpdk.org/options/test-report>,
 <mailto:test-report-request@dpdk.org?subject=unsubscribe>
List-Archive: <http://mails.dpdk.org/archives/test-report/>
List-Post: <mailto:test-report@dpdk.org>
List-Help: <mailto:test-report-request@dpdk.org?subject=help>
List-Subscribe: <https://mails.dpdk.org/listinfo/test-report>,
 <mailto:test-report-request@dpdk.org?subject=subscribe>
Errors-To: test-report-bounces@dpdk.org

Test-Label: iol-sample-apps-testing
Test-Status: SUCCESS
http://dpdk.org/patch/151029

_Testing PASS_

Submitter: Andre Muezerie <andremue@linux.microsoft.com>
Date: Thursday, February 06 2025 01:33:30 
DPDK git baseline: Repo:dpdk
  Branch: master
  CommitID:32c18e7364e30a8e43cc7cc6709a7ce606fa285e

151013-151029 --> testing pass

Upstream job id: ACVP-FIPS-testing#8804

Test environment and result as below:

+--------------------+----------------------+----------------------+
|    Environment     | compressdev_zlib_pmd | dpdk_fips_validation |
+====================+======================+======================+
| Ubuntu 22.04 (ARM) | PASS                 | SKIPPED              |
+--------------------+----------------------+----------------------+
| Ubuntu 22.04       | PASS                 | SKIPPED              |
+--------------------+----------------------+----------------------+
| Ubuntu 20.04       | SKIPPED              | PASS                 |
+--------------------+----------------------+----------------------+


Ubuntu 22.04 (ARM)
	Kernel: 5.15.0-97-generic
	Compiler: gcc gcc (Ubuntu 11.4.0-1ubuntu1~22.04) 11.4.0

Ubuntu 22.04
	Kernel: 5.15.0-100-generic
	Compiler: gcc gcc (Ubuntu 11.4.0-1ubuntu1~22.04) 11.4.0

Ubuntu 20.04
	Kernel: Depends on container host
	Compiler: gcc (Ubuntu 9.4.0-1ubuntu1~20.04.2) 9.4.0

To view detailed results, visit:
https://lab.dpdk.org/results/dashboard/patchsets/32507/

UNH-IOL DPDK Community Lab

To manage your email subscriptions, visit: 
https://lab.dpdk.org/results/dashboard/preferences/subscriptions/