From mboxrd@z Thu Jan 1 00:00:00 1970 Return-Path: Received: from mails.dpdk.org (mails.dpdk.org [217.70.189.124]) by inbox.dpdk.org (Postfix) with ESMTP id AD2A9461BA for ; Fri, 7 Feb 2025 11:21:44 +0100 (CET) Received: from mails.dpdk.org (localhost [127.0.0.1]) by mails.dpdk.org (Postfix) with ESMTP id AB4AD427B8; Fri, 7 Feb 2025 11:21:44 +0100 (CET) Received: from mail-pl1-f226.google.com (mail-pl1-f226.google.com [209.85.214.226]) by mails.dpdk.org (Postfix) with ESMTP id 15EEF402D5 for ; Fri, 7 Feb 2025 11:21:43 +0100 (CET) Received: by mail-pl1-f226.google.com with SMTP id d9443c01a7336-21634338cfdso45953395ad.2 for ; Fri, 07 Feb 2025 02:21:43 -0800 (PST) DKIM-Signature: v=1; a=rsa-sha256; c=relaxed/relaxed; d=iol.unh.edu; s=unh-iol; t=1738923702; x=1739528502; darn=dpdk.org; h=references:in-reply-to:cc:to:from:subject:message-id:date:from:to :cc:subject:date:message-id:reply-to; bh=JCw3CvQqdL2+7gEAYMsetiN78+1d6yCO1zEOnwZ6GtE=; b=eWSKUUMXbO4dpHdGbKOSvtljnQJOOnSSk/2SZM1dPzCuaIAHFMUn2MNcKXhcgsx9rN esFVervHlwMfhlQuZgV+CBuVqMDRHyFw+OCN6rnVFDPk9G4h9B1HfIAsCSPesACseLD6 DXZKDFNc11m/pYamewHaj+1kMPIu4FHurIcN0= X-Google-DKIM-Signature: v=1; a=rsa-sha256; c=relaxed/relaxed; d=1e100.net; s=20230601; t=1738923702; x=1739528502; h=references:in-reply-to:cc:to:from:subject:message-id:date :x-gm-message-state:from:to:cc:subject:date:message-id:reply-to; bh=JCw3CvQqdL2+7gEAYMsetiN78+1d6yCO1zEOnwZ6GtE=; b=kafmIadep/z31p68UmK5sjAPzrP9Lekzrz8se0o1qQhFk83zlQ9iA0SoA0P9bHmVWx m2i31IdUaKMpcbZR7OF6v+sXwMAXUiLvFptjUcyVHMoJvecqp9zFI7HMY4/9xKSdUqq9 zsoIZ7b9jr7z6EhdE/Zppwp1hyKwpflVLUJRNQz5/sTEXBAoAm6wXr/eEQtu2xUHWyjY 9KLzfnOb7gWSviVEOxo21Pyer3hX0Z3S0sQZebh1NKw7O17FeYJ9rQt3PO5++Lmw+hXJ O201i9XbsQTFA/mHX0m9FM4Vo2Vj3F394c4D9D+EIF6A6Moe2VcSX0trmy3KfizUNaZ9 Y1hQ== X-Gm-Message-State: AOJu0YznzxEylqWvtTd6op2i5NxRJW35qTCSS6CCMtMkK9LP932++pRE k1o9RSeDJhfsPd+anrtmqmoQ2EIlNirMtPwAMKIJw5ZrtfXAYlr6rXERMNTD8wIka2HdjjbbFZw +KaVIHjMxTzTiNmERyzcGwptNyI5kS6Ynp5WpA9FL X-Gm-Gg: ASbGncsT9zUBD/Z5jKcP8+hkFJdLHgo0dAmqU/vmfw+5WxQpezIOMXQNy14F0tXqSYF WZZAyEN03yS5W0XQQp9mhdmgwk+isXpKzcGSqLsAR5TMDqWn7czkGvy8YBAVnx2toZHL9F8lyXC k7YzH+QET9NJdpYZQ3Cl4r3g/Cj4XYpzGB4UyP9rW8QlWtC8Q6XSSQSykbHorKW9qhSnxvtKvEi tDvmkE7minGsM1EXjb/qzuyzIDnXACZT3ZhnJ7PrsRt44DH6CNQKn5fZGeVOd/n36dmZ3tCmzs/ AfY8/2nrM9GmhbH0ac/i2NmX7NCifg== X-Google-Smtp-Source: AGHT+IGKF6yPrxb7J9LGW9TyDIIShVCWMRu2HAs8h3DQooD+wnvnFbgtRB4N3d2cu1RQTZG2THIenxs3LBGg X-Received: by 2002:a05:6a20:9f96:b0:1eb:3661:da33 with SMTP id adf61e73a8af0-1ee03bb02e4mr6294677637.30.1738923702265; Fri, 07 Feb 2025 02:21:42 -0800 (PST) Received: from postal.iol.unh.edu (postal.iol.unh.edu. [132.177.123.84]) by smtp-relay.gmail.com with ESMTPS id d2e1a72fcca58-73048e1e9c6sm137628b3a.24.2025.02.07.02.21.42 (version=TLS1_2 cipher=ECDHE-ECDSA-AES128-GCM-SHA256 bits=128/128); Fri, 07 Feb 2025 02:21:42 -0800 (PST) X-Relaying-Domain: iol.unh.edu Date: Fri, 07 Feb 2025 02:21:42 -0800 (PST) Message-ID: <67a5deb6.050a0220.2a706a.761fSMTPIN_ADDED_MISSING@mx.google.com> Received: from [172.21.0.5] (unknown [172.18.0.240]) by postal.iol.unh.edu (Postfix) with ESMTP id 494CF6052471; Fri, 7 Feb 2025 05:21:41 -0500 (EST) Subject: |SUCCESS| pw151072-151073 [PATCH] [v8,2/2] net/af_xdp: Refactor af_x From: dpdklab@iol.unh.edu To: Test Report Cc: dpdk-test-reports@iol.unh.edu In-Reply-To: <20250206204645.1564535-3-ariel.otilibili@6wind.com> References: <20250206204645.1564535-3-ariel.otilibili@6wind.com> Content-Type: text/plain X-BeenThere: test-report@dpdk.org X-Mailman-Version: 2.1.29 Precedence: list List-Id: automatic DPDK test reports List-Unsubscribe: , List-Archive: List-Post: List-Help: List-Subscribe: , Errors-To: test-report-bounces@dpdk.org Test-Label: iol-unit-arm64-testing Test-Status: SUCCESS http://dpdk.org/patch/151073 _Testing PASS_ Submitter: Ariel Otilibili Date: Thursday, February 06 2025 20:46:45 DPDK git baseline: Repo:dpdk Branch: master CommitID:e5ece9ae686535f29ae72c03fec26dc16ff7a925 151072-151073 --> testing pass Upstream job id: Generic-Unit-Test-DPDK#312553 Test environment and result as below: +-----------------------------+--------------+------------------------------+----------------+---------------------------+ | Environment | lpm_autotest | cryptodev_sw_snow3g_autotest | dpdk_unit_test | cryptodev_sw_zuc_autotest | +=============================+==============+==============================+================+===========================+ | Ubuntu 20.04 ARM SVE | PASS | SKIPPED | SKIPPED | SKIPPED | +-----------------------------+--------------+------------------------------+----------------+---------------------------+ | Debian 12 (arm) | SKIPPED | PASS | PASS | PASS | +-----------------------------+--------------+------------------------------+----------------+---------------------------+ | Debian 11 (Buster) (ARM) | SKIPPED | SKIPPED | PASS | SKIPPED | +-----------------------------+--------------+------------------------------+----------------+---------------------------+ | Fedora 40 (ARM Clang) | SKIPPED | SKIPPED | PASS | SKIPPED | +-----------------------------+--------------+------------------------------+----------------+---------------------------+ | Fedora 40 (ARM) | SKIPPED | SKIPPED | PASS | SKIPPED | +-----------------------------+--------------+------------------------------+----------------+---------------------------+ | CentOS Stream 9 (ARM) | SKIPPED | SKIPPED | PASS | SKIPPED | +-----------------------------+--------------+------------------------------+----------------+---------------------------+ | Fedora 41 (ARM) | SKIPPED | SKIPPED | PASS | SKIPPED | +-----------------------------+--------------+------------------------------+----------------+---------------------------+ | Ubuntu 20.04 (ARM) | SKIPPED | SKIPPED | PASS | SKIPPED | +-----------------------------+--------------+------------------------------+----------------+---------------------------+ | Fedora 41 (ARM Clang) | SKIPPED | SKIPPED | PASS | SKIPPED | +-----------------------------+--------------+------------------------------+----------------+---------------------------+ | Ubuntu 22.04 (ARM) | SKIPPED | SKIPPED | PASS | SKIPPED | +-----------------------------+--------------+------------------------------+----------------+---------------------------+ | Ubuntu 24.04 (ARM) | SKIPPED | SKIPPED | PASS | SKIPPED | +-----------------------------+--------------+------------------------------+----------------+---------------------------+ | RHEL9 (ARM) | SKIPPED | SKIPPED | PASS | SKIPPED | +-----------------------------+--------------+------------------------------+----------------+---------------------------+ | 32-bit Ubuntu 22.04.4 (ARM) | SKIPPED | SKIPPED | PASS | SKIPPED | +-----------------------------+--------------+------------------------------+----------------+---------------------------+ Ubuntu 20.04 ARM SVE Kernel: Depends on container host Compiler: gcc (Ubuntu 10.5.0-1ubuntu1~20.04) 10.5.0 Debian 12 (arm) Kernel: Depends on container host Compiler: gcc (Debian 12.2.0-14) 12.2.0 Debian 11 (Buster) (ARM) Kernel: Depends on container host Compiler: gcc (Debian 10.2.1-6) 10.2.1 20210110 Fedora 40 (ARM Clang) Kernel: Depends on container host Compiler: clang 18.1.8 (Fedora 18.1.8-1.fc40) Fedora 40 (ARM) Kernel: Depends on container host Compiler: gcc 14.2.1 20240912 (Red Hat 14.2.1-3) CentOS Stream 9 (ARM) Kernel: Depends on container host Compiler: gcc 11.5.0 20240719 (Red Hat 11.5.0-2) Fedora 41 (ARM) Kernel: Depends on container host Compiler: gcc 14.2.1 20240912 (Red Hat 14.2.1-3) Ubuntu 20.04 (ARM) Kernel: Depends on container host Compiler: gcc (Ubuntu 9.4.0-1ubuntu1~20.04.2) 9.4.0 Fedora 41 (ARM Clang) Kernel: Depends on container host Compiler: clang 19.1.5 (Fedora 19.1.5-1.fc41) Ubuntu 22.04 (ARM) Kernel: Depends on container host Compiler: gcc (Ubuntu 11.4.0-1ubuntu1~22.04) 11.4.0 Ubuntu 24.04 (ARM) Kernel: Depends on container host Compiler: gcc (Ubuntu 13.3.0-6ubuntu2~24.04) 13.3.0 RHEL9 (ARM) Kernel: Depends on container host Compiler: gcc 11.5.0 20240719 (Red Hat 11.5.0-2) 32-bit Ubuntu 22.04.4 (ARM) Kernel: 5.15.83+ aarch64 Compiler: gcc (Ubuntu 11.4.0-1ubuntu1~22.04) 11.4.0 To view detailed results, visit: https://lab.dpdk.org/results/dashboard/patchsets/32515/ UNH-IOL DPDK Community Lab To manage your email subscriptions, visit: https://lab.dpdk.org/results/dashboard/preferences/subscriptions/