From mboxrd@z Thu Jan 1 00:00:00 1970 Return-Path: Received: from mails.dpdk.org (mails.dpdk.org [217.70.189.124]) by inbox.dpdk.org (Postfix) with ESMTP id C8F2C461BA for ; Fri, 7 Feb 2025 11:40:15 +0100 (CET) Received: from mails.dpdk.org (localhost [127.0.0.1]) by mails.dpdk.org (Postfix) with ESMTP id AC2F3427DC; Fri, 7 Feb 2025 11:40:15 +0100 (CET) Received: from mail-il1-f228.google.com (mail-il1-f228.google.com [209.85.166.228]) by mails.dpdk.org (Postfix) with ESMTP id 69201427D0 for ; Fri, 7 Feb 2025 11:40:14 +0100 (CET) Received: by mail-il1-f228.google.com with SMTP id e9e14a558f8ab-3d051dca3b6so6527755ab.1 for ; Fri, 07 Feb 2025 02:40:14 -0800 (PST) DKIM-Signature: v=1; a=rsa-sha256; c=relaxed/relaxed; d=iol.unh.edu; s=unh-iol; t=1738924813; x=1739529613; darn=dpdk.org; h=cc:to:from:subject:message-id:date:from:to:cc:subject:date :message-id:reply-to; bh=+o1LQiafCQZhiK67MU3cFmihfvrQ3Jj+545jRjKJnCg=; b=hz7R7d/hkwN+UAIouCnYzW7hQfLm30UjTKO7SkeX0d3APNEMlQmVTowiD5rhV6xKf9 FW2PQMBbzEURg95SHxweQNuXeMnh1ALHpvNpfILDXdmcVGLLJ+H2k5zaK46NPC7JXTUY 20Z11QF9EluQS2rNE2428767AX5EI0t45XERM= X-Google-DKIM-Signature: v=1; a=rsa-sha256; c=relaxed/relaxed; d=1e100.net; s=20230601; t=1738924813; x=1739529613; h=cc:to:from:subject:message-id:date:x-gm-message-state:from:to:cc :subject:date:message-id:reply-to; bh=+o1LQiafCQZhiK67MU3cFmihfvrQ3Jj+545jRjKJnCg=; b=AnRuFz2sh9n0WfjOuaQQUiOR2+cJh/gafjRPW72hYuwgNarbootCE6IdjtioXkjK9B LQXiSPj8V1BF4lf47iVwM7S3s3NbnGF0nHoM1v4V+mXOZzjv9oIJOEsyMUyt5Qf2LzDQ Z1EO/vahU+YCgxhFV93pBK8pH8WssDG+ABePsfFzWUAm6Ltl0QvDl8P132in3ebGnH0u iY1uPehZGwr3zOorixfSFiFLL+j4XF8eI+FiXau2kdZ3/5/DmLg+GDWJxuBu/YkX+qTv bkOVcJ/QopIQfMHgtOCf2Bbmh76O+h4HeaJWNzj/O4vVmaM2nzdviVlCFQiNlxqS9IML R4Xw== X-Gm-Message-State: AOJu0YzhC8SHZUl1sIKlirRB9q+6JWpCK1EHRXbabIj7KInGm5WTd3Fg N8z1grnVMtz57EV/xX122tldJhMZ3t18sB7nVrLtLWYj5tI7rj9MYL7vYJB/cPhdvy5kyqgIWG3 R3k4LH4lxlfS5Mlk0yEgOXO+1HpbLZO5x X-Gm-Gg: ASbGncvOjnIHPzqtabqX1OiAnutU+TO8nPB/jXkn/NRmUMmsvEKjcoa2lfGjo5I8/ci SYonBIq5t4KP9eXBD6pUTJ/PrmX9qiK6SOUgdH5U3Tmk+vHJVEhjZpsnDN1nhK34e113LxrIoEU i/nQrZ2wTTeh0rPoJASXm9CLmviATfl6AjemWoRy0oMqHg0A62Wsjm8UxzbnpF7ww1Tj0BdTG4d 4TdKNtYiYZ+22ExAD/MZteowRt21prs5GB2p0W7/DnVSrqGVblM5/sTLfMI4kmW/nH5i9SJs8iE YSVFR6V5wFILRZb/D1BgzRXxvn4ROg== X-Google-Smtp-Source: AGHT+IHcwwTdC49iUHPXyU7A/3KEu8Yzfbcv39eyd4e+rvriDYJv+LM0rrNvZI2VxSDZ2nytn2aplzKmXqNB X-Received: by 2002:a05:6e02:310c:b0:3d0:4d76:79ba with SMTP id e9e14a558f8ab-3d13df3e69dmr20414215ab.16.1738924813571; Fri, 07 Feb 2025 02:40:13 -0800 (PST) Received: from postal.iol.unh.edu (postal.iol.unh.edu. [132.177.123.84]) by smtp-relay.gmail.com with ESMTPS id e9e14a558f8ab-3d127258ef6sm1211405ab.34.2025.02.07.02.40.13 (version=TLS1_2 cipher=ECDHE-ECDSA-AES128-GCM-SHA256 bits=128/128); Fri, 07 Feb 2025 02:40:13 -0800 (PST) X-Relaying-Domain: iol.unh.edu Date: Fri, 07 Feb 2025 02:40:13 -0800 (PST) Message-ID: <67a5e30d.050a0220.329862.606eSMTPIN_ADDED_MISSING@mx.google.com> Received: from [172.21.0.6] (unknown [172.18.0.240]) by postal.iol.unh.edu (Postfix) with ESMTP id 077F46052471; Fri, 7 Feb 2025 05:40:13 -0500 (EST) Subject: |SUCCESS| [GIT MASTER] f2eea2f37a82bb73fb01d56350708f7d70e21379 From: dpdklab@iol.unh.edu To: Test Report Cc: dpdk-test-reports@iol.unh.edu, Xueming Li , Christian Ehrhardt , Kevin Traynor , Luca Boccassi Content-Type: text/plain X-BeenThere: test-report@dpdk.org X-Mailman-Version: 2.1.29 Precedence: list List-Id: automatic DPDK test reports List-Unsubscribe: , List-Archive: List-Post: List-Help: List-Subscribe: , Errors-To: test-report-bounces@dpdk.org _Testing PASS_ Branch: tags/v24.11 f2eea2f37a82bb73fb01d56350708f7d70e21379 --> testing pass Upstream job id: Generic-Unit-Test-DPDK#312623 Test environment and result as below: +---------------------+----------------+ | Environment | dpdk_unit_test | +=====================+================+ | Fedora 40 | PASS | +---------------------+----------------+ | Debian Bullseye | PASS | +---------------------+----------------+ | CentOS Stream 9 | PASS | +---------------------+----------------+ | Debian 12 | PASS | +---------------------+----------------+ | Ubuntu 22.04 | PASS | +---------------------+----------------+ | RHEL8 | PASS | +---------------------+----------------+ | Fedora 41 (Clang) | PASS | +---------------------+----------------+ | Fedora 41 | PASS | +---------------------+----------------+ | Fedora 40 (Clang) | PASS | +---------------------+----------------+ | Ubuntu 20.04 | PASS | +---------------------+----------------+ | RHEL9 | PASS | +---------------------+----------------+ | Ubuntu 24.04 | PASS | +---------------------+----------------+ | Windows Server 2022 | PASS | +---------------------+----------------+ Fedora 40 Kernel: Depends on container host Compiler: gcc 14.2.1 20240912 (Red Hat 14.2.1-3) Debian Bullseye Kernel: Depends on container host Compiler: gcc (Debian 10.2.1-6) 10.2.1 20210110 CentOS Stream 9 Kernel: Depends on container host Compiler: gcc 11.5.0 20240719 (Red Hat 11.5.0-2) Debian 12 Kernel: Depends on container host Compiler: gcc (Debian 12.2.0-14) 12.2.0 Ubuntu 22.04 Kernel: Depends on container host Compiler: gcc (Ubuntu 11.4.0-1ubuntu1~22.04) 11.4.0 RHEL8 Kernel: Depends on container host Compiler: gcc 8.5.0 20210514 (Red Hat 8.5.0-22) Fedora 41 (Clang) Kernel: Depends on container host Compiler: clang 19.1.5 (Fedora 19.1.5-1.fc41) Fedora 41 Kernel: Depends on container host Compiler: gcc 14.2.1 20240912 (Red Hat 14.2.1-3) Fedora 40 (Clang) Kernel: Depends on container host Compiler: clang 18.1.8 (Fedora 18.1.8-1.fc40) Ubuntu 20.04 Kernel: Depends on container host Compiler: gcc (Ubuntu 9.4.0-1ubuntu1~20.04.2) 9.4.0 RHEL9 Kernel: Depends on container host Compiler: gcc 11.5.0 20240719 (Red Hat 11.5.0-2) Ubuntu 24.04 Kernel: Depends on container host Compiler: gcc (Ubuntu 13.3.0-6ubuntu2~24.04) 13.3.0 Windows Server 2022 Kernel: 10.0.20348.2031 Compiler: clang 15.0.7, gcc 14.1.0 (MinGW), and MSVC VS 19.39.33521 To view detailed results, visit: https://lab.dpdk.org/results/dashboard/tarballs/32483/ UNH-IOL DPDK Community Lab To manage your email subscriptions, visit: https://lab.dpdk.org/results/dashboard/preferences/subscriptions/