From mboxrd@z Thu Jan 1 00:00:00 1970 Return-Path: Received: from mails.dpdk.org (mails.dpdk.org [217.70.189.124]) by inbox.dpdk.org (Postfix) with ESMTP id 10D95461BA for ; Fri, 7 Feb 2025 12:30:39 +0100 (CET) Received: from mails.dpdk.org (localhost [127.0.0.1]) by mails.dpdk.org (Postfix) with ESMTP id 3D0E742798; Fri, 7 Feb 2025 12:30:38 +0100 (CET) Received: from mail-oo1-f98.google.com (mail-oo1-f98.google.com [209.85.161.98]) by mails.dpdk.org (Postfix) with ESMTP id 049BC40DFD for ; Fri, 7 Feb 2025 12:30:37 +0100 (CET) Received: by mail-oo1-f98.google.com with SMTP id 006d021491bc7-5f31f8f4062so1030429eaf.3 for ; Fri, 07 Feb 2025 03:30:36 -0800 (PST) DKIM-Signature: v=1; a=rsa-sha256; c=relaxed/relaxed; d=iol.unh.edu; s=unh-iol; t=1738927836; x=1739532636; darn=dpdk.org; h=references:in-reply-to:cc:to:from:subject:message-id:date:from:to :cc:subject:date:message-id:reply-to; bh=WqdizUlSPYCKw+cPNOjh200SumhH0wqyXPY2XwVOlcQ=; b=b7R3embIE+j9N4kSz2EGpBjaoLcOAtDdrdHuk0NRRhGIIaqOEohhHLoC270tF9+d7c Aq1ReL30VATIgrUuNnAZFPU8BmaqJZpIFo3z/d9iACxhDLw9Bi4UnIwStEtKo8FqwlC/ O9I2rq6+MBX2jbUzCXxqpDoxIxziQPyTOSWqU= X-Google-DKIM-Signature: v=1; a=rsa-sha256; c=relaxed/relaxed; d=1e100.net; s=20230601; t=1738927836; x=1739532636; h=references:in-reply-to:cc:to:from:subject:message-id:date :x-gm-message-state:from:to:cc:subject:date:message-id:reply-to; bh=WqdizUlSPYCKw+cPNOjh200SumhH0wqyXPY2XwVOlcQ=; b=PTVaTjWcnRE7L4EE/nfoLtVn8Ki4IkygzCCajUImnH2oc1b9xiutdDoHPUI31kpEfk rwGlvdFAcO4Q+w/mZM07GIWzXPQoYWIDNYvQf/j7peM11XMRpAz3+sQ+6CtSu3to0qWl SBU4SIxc1p9JxOQv2WCqkeCJFcHUkbmUcRxOy7oeswZBGalWS9huPPG5X0PObM8SNfm9 CQDik6Tc5ZljBUrFBhRfgM34PClONUI22fhP2L86AV4MiLiUp1gvTIwP5c7H7h7oYVRg 55OGCgbCyUcvBdFF9xDUj77EM076xRXCEg1vrNzbCqfqXnWrNa+FZU/lIgrrafzLad1A Ou+A== X-Gm-Message-State: AOJu0YziarZKnQUuElPYUi6PgcUT/mzxGl+Cpgp2S2cCwpQq0khWFY9H 1oF+AaqDGVVeMrSQff6a8beZK/O3Z6ox8Ynsh+WdEfHQmn5FaW75CfjZ8l92GsgXWMd0kNzwclE YBqLapeURX+stK9nxozVv9ETTXE+jt0WTFyRcEuXN X-Gm-Gg: ASbGncvRTUd6rvjGage/9SBnHqK7TSBUIrUeJ2asdLULs/WuFzFya/aHv9Uzk8YPoms RwJxpHx1EwXw4qsYXI3CHfEm9daof16YeThyYn42gK/aHPhbfHa74DJ4Kc+qQEPe8cJ8UUdRo3o KpGGdasnWnunvybVb+6KE/pK69Dz/58v5WUu/mbcoagshpZkSt5V6treRtmMAvtSs/3dgShbCVY tBlvSzfQyxwi70EoqiqFw8wdTUeT0ykbBb3nYlqdkpe7ZcvjeSL0XOOqIlKEgmysCUTUFV6X+y3 7kqVJq+T/20dcNw/Nv3HwFKQaeC/9Q== X-Google-Smtp-Source: AGHT+IHhT2hQNk4PJ8X/YernHxTDa6AIwXNzTq3G1WJhftvmd3haxVEVU7t3Dm+3If/DJNmnuw9mPiEYlnZT X-Received: by 2002:a05:6870:b6aa:b0:29e:24c7:284f with SMTP id 586e51a60fabf-2b83ec22cc8mr1840144fac.15.1738927835916; Fri, 07 Feb 2025 03:30:35 -0800 (PST) Received: from postal.iol.unh.edu (postal.iol.unh.edu. [132.177.123.84]) by smtp-relay.gmail.com with ESMTPS id 586e51a60fabf-2b8262728c3sm173515fac.37.2025.02.07.03.30.35 (version=TLS1_2 cipher=ECDHE-ECDSA-AES128-GCM-SHA256 bits=128/128); Fri, 07 Feb 2025 03:30:35 -0800 (PST) X-Relaying-Domain: iol.unh.edu Date: Fri, 07 Feb 2025 03:30:35 -0800 (PST) Message-ID: <67a5eedb.050a0220.38702e.9fc4SMTPIN_ADDED_MISSING@mx.google.com> Received: from [172.21.0.7] (unknown [172.18.0.240]) by postal.iol.unh.edu (Postfix) with ESMTP id 251E76052471; Fri, 7 Feb 2025 06:30:35 -0500 (EST) Subject: |SUCCESS| pw151075 [PATCH] [v2] app/procinfo: add xstats parameter t From: dpdklab@iol.unh.edu To: Test Report Cc: dpdk-test-reports@iol.unh.edu In-Reply-To: <20250207031333.1782995-1-huangdengdui@huawei.com> References: <20250207031333.1782995-1-huangdengdui@huawei.com> Content-Type: text/plain X-BeenThere: test-report@dpdk.org X-Mailman-Version: 2.1.29 Precedence: list List-Id: automatic DPDK test reports List-Unsubscribe: , List-Archive: List-Post: List-Help: List-Subscribe: , Errors-To: test-report-bounces@dpdk.org Test-Label: iol-compile-arm64-testing Test-Status: SUCCESS http://dpdk.org/patch/151075 _Testing PASS_ Submitter: huangdengdui Date: Friday, February 07 2025 03:13:33 DPDK git baseline: Repo:dpdk Branch: master CommitID:1bf86800f7daf8d5c71a08a0776ff3b754ee6570 151075 --> testing pass Upstream job id: Generic-DPDK-Compile-Meson#358950 Test environment and result as below: +----------------------------------------+--------------------+ | Environment | dpdk_meson_compile | +========================================+====================+ | RHEL9 (ARM) | PASS | +----------------------------------------+--------------------+ | Ubuntu 20.04 ARM GCC Cross Compile | PASS | +----------------------------------------+--------------------+ | Ubuntu 20.04 ARM SVE | PASS | +----------------------------------------+--------------------+ | Debian 12 with MUSDK | PASS | +----------------------------------------+--------------------+ | Fedora 40 (ARM) | PASS | +----------------------------------------+--------------------+ | Fedora 40 (ARM Clang) | PASS | +----------------------------------------+--------------------+ | Fedora 41 (ARM) | PASS | +----------------------------------------+--------------------+ | Fedora 41 (ARM Clang) | PASS | +----------------------------------------+--------------------+ | Ubuntu 20.04 (ARM) | PASS | +----------------------------------------+--------------------+ | Ubuntu 22.04 (ARM) | PASS | +----------------------------------------+--------------------+ | Ubuntu 24.04 (ARM) | PASS | +----------------------------------------+--------------------+ | CentOS Stream 9 (ARM) | PASS | +----------------------------------------+--------------------+ | Debian 11 (Buster) (ARM) | PASS | +----------------------------------------+--------------------+ | Debian 12 (arm) | PASS | +----------------------------------------+--------------------+ | Ubuntu 20.04 ARM Clang Cross Compile | PASS | +----------------------------------------+--------------------+ | Ubuntu 20.04 aarch32 GCC Cross Compile | PASS | +----------------------------------------+--------------------+ RHEL9 (ARM) Kernel: Depends on container host Compiler: gcc 11.5.0 20240719 (Red Hat 11.5.0-2) Ubuntu 20.04 ARM GCC Cross Compile Kernel: Depends on container host Compiler: aarch64-linux-gnu-gcc (Ubuntu 9.4.0-1ubuntu1~20.04.2) 9.4.0 Ubuntu 20.04 ARM SVE Kernel: Depends on container host Compiler: gcc (Ubuntu 10.5.0-1ubuntu1~20.04) 10.5.0 Debian 12 with MUSDK Kernel: Depends on container host Compiler: gcc (Debian 12.2.0-14) 12.2.0 Fedora 40 (ARM) Kernel: Depends on container host Compiler: gcc 14.2.1 20240912 (Red Hat 14.2.1-3) Fedora 40 (ARM Clang) Kernel: Depends on container host Compiler: clang 18.1.8 (Fedora 18.1.8-1.fc40) Fedora 41 (ARM) Kernel: Depends on container host Compiler: gcc 14.2.1 20240912 (Red Hat 14.2.1-3) Fedora 41 (ARM Clang) Kernel: Depends on container host Compiler: clang 19.1.5 (Fedora 19.1.5-1.fc41) Ubuntu 20.04 (ARM) Kernel: Depends on container host Compiler: gcc (Ubuntu 9.4.0-1ubuntu1~20.04.2) 9.4.0 Ubuntu 22.04 (ARM) Kernel: Depends on container host Compiler: gcc (Ubuntu 11.4.0-1ubuntu1~22.04) 11.4.0 Ubuntu 24.04 (ARM) Kernel: Depends on container host Compiler: gcc (Ubuntu 13.3.0-6ubuntu2~24.04) 13.3.0 CentOS Stream 9 (ARM) Kernel: Depends on container host Compiler: gcc 11.5.0 20240719 (Red Hat 11.5.0-2) Debian 11 (Buster) (ARM) Kernel: Depends on container host Compiler: gcc (Debian 10.2.1-6) 10.2.1 20210110 Debian 12 (arm) Kernel: Depends on container host Compiler: gcc (Debian 12.2.0-14) 12.2.0 Ubuntu 20.04 ARM Clang Cross Compile Kernel: Depends on container host Compiler: clang 10.0.0-4ubuntu1 Ubuntu 20.04 aarch32 GCC Cross Compile Kernel: Depends on container host Compiler: gcc 9.4.0 To view detailed results, visit: https://lab.dpdk.org/results/dashboard/patchsets/32517/ UNH-IOL DPDK Community Lab To manage your email subscriptions, visit: https://lab.dpdk.org/results/dashboard/preferences/subscriptions/