From mboxrd@z Thu Jan 1 00:00:00 1970 Return-Path: Received: from mails.dpdk.org (mails.dpdk.org [217.70.189.124]) by inbox.dpdk.org (Postfix) with ESMTP id D0D34461BA for ; Fri, 7 Feb 2025 12:42:18 +0100 (CET) Received: from mails.dpdk.org (localhost [127.0.0.1]) by mails.dpdk.org (Postfix) with ESMTP id B495442798; Fri, 7 Feb 2025 12:42:18 +0100 (CET) Received: from mail-il1-f228.google.com (mail-il1-f228.google.com [209.85.166.228]) by mails.dpdk.org (Postfix) with ESMTP id CE8CB40DFD for ; Fri, 7 Feb 2025 12:42:16 +0100 (CET) Received: by mail-il1-f228.google.com with SMTP id e9e14a558f8ab-3d05b672ee6so5776335ab.1 for ; Fri, 07 Feb 2025 03:42:16 -0800 (PST) DKIM-Signature: v=1; a=rsa-sha256; c=relaxed/relaxed; d=iol.unh.edu; s=unh-iol; t=1738928536; x=1739533336; darn=dpdk.org; h=references:in-reply-to:cc:to:from:subject:message-id:date:from:to :cc:subject:date:message-id:reply-to; bh=MPkrW9JwO8vRHAupzSkxwNQbjkioYhYN7UxKOfQun9I=; b=d6iFpFam3O9DPrX5AwGvP8Xs7+fEDYY4mH3zNSFj/xllwXQ4mb5KRfswDGtLayDJu1 kR73VXgbBcB2G/J6BKM2KTdMJkEwkU6DDCH7FG1GFzwfHG6ZhEVJdQtnwPAP6gqLo4BF fiJqal+OBrCZYTu5+dKxi/2uLf/D5XRXmNGRg= X-Google-DKIM-Signature: v=1; a=rsa-sha256; c=relaxed/relaxed; d=1e100.net; s=20230601; t=1738928536; x=1739533336; h=references:in-reply-to:cc:to:from:subject:message-id:date :x-gm-message-state:from:to:cc:subject:date:message-id:reply-to; bh=MPkrW9JwO8vRHAupzSkxwNQbjkioYhYN7UxKOfQun9I=; b=qUFiAYIF5aLXZrR1x+CXEujNbbwY34y8d9yYJdHW7e8mXfRUvEgEy5W6zpfRRThMcV ohxO8B0fVmP6/2yX85F9hrqgiDty/0RYzYOky22f0p88UV0RfI29fKVZ0E09TtsxHKij nmipjTP5lWueZk+wc0VUAcvi7eyHpq0rwgZVEb6nApy3hk5+pWj1yE6nC6+uSu2efacE Me4YtlSf2PzBiER6M+POGOFLwOL+KONM+spZ7y7KeGO8OKxxjJyWcP7mdWTeF1tNKpfW Qsw4nPrlXi1+VxtawE5DhJdoqWvBJhleVx0xkB3qRhfHwC7uMr895YSzUdG4W3AyiIRF I4lQ== X-Gm-Message-State: AOJu0Ywa1lLCZfVESoTe/lLp8k9vFM+yM89uQKDVjIvVUkIjsSfZMwxZ OI09Pkp8Rvh5aRSk+gkorlGDVNGrVNwo2ToySXqJtGRifq5sYSNXdJds1xp81d+g9naKyHeGZGQ M1y/2b75ivy6H53v7BKCE1wzOxrmwwnmWfJgt/9tD X-Gm-Gg: ASbGncv4owMD3+vEtqFuqT2YAu4ZLt8Rl6Xs83Vcu7uqgoq7U2a38OW9P/Z6aJbliif SPq11RAx7XUWz73/7iR/U780ypi7H+dQ7Tz83XLKH+UHnxMNH7yNfnpOiDQ79Nn6Yyuzb6VNZES cTfBJU7QLZAe5JppGU1Ij+rwZsAvjM2eFGnl+3cPksWCxmhhpk/n+0F58USp9zFlmDViheJ2Gdk DtkLocmA0QDNswmMUvsaDnAcDPun2jVG+5KalGTzoozGcIHCvQGhVEIkVzCbOj/5odgYAfs6EzZ 64f+6XS/Am8vmR0H8BQur6fa7qEUHQ== X-Google-Smtp-Source: AGHT+IHVbQLjmlQZkJql0UcOYPYDZMBO3N/SxrFEuELS3xqK6RkWNhk1iUycLYVZDy9fPWxWCzeTtkUSXWwB X-Received: by 2002:a92:c243:0:b0:3d0:353a:c97e with SMTP id e9e14a558f8ab-3d13e2e3680mr18409365ab.10.1738928535895; Fri, 07 Feb 2025 03:42:15 -0800 (PST) Received: from postal.iol.unh.edu (postal.iol.unh.edu. [132.177.123.84]) by smtp-relay.gmail.com with ESMTPS id e9e14a558f8ab-3d05e91910esm2144535ab.32.2025.02.07.03.42.15 (version=TLS1_2 cipher=ECDHE-ECDSA-AES128-GCM-SHA256 bits=128/128); Fri, 07 Feb 2025 03:42:15 -0800 (PST) X-Relaying-Domain: iol.unh.edu Date: Fri, 07 Feb 2025 03:42:15 -0800 (PST) Message-ID: <67a5f197.050a0220.ea7ba.baf6SMTPIN_ADDED_MISSING@mx.google.com> Received: from [172.21.0.10] (unknown [172.18.0.240]) by postal.iol.unh.edu (Postfix) with ESMTP id 85B696052471; Fri, 7 Feb 2025 06:42:15 -0500 (EST) Subject: |SUCCESS| pw151076-151077 [PATCH] [v1,2/2] net/r8169: add support fo From: dpdklab@iol.unh.edu To: Test Report Cc: dpdk-test-reports@iol.unh.edu In-Reply-To: <20250207031845.22168-3-howard_wang@realsil.com.cn> References: <20250207031845.22168-3-howard_wang@realsil.com.cn> Content-Type: text/plain X-BeenThere: test-report@dpdk.org X-Mailman-Version: 2.1.29 Precedence: list List-Id: automatic DPDK test reports List-Unsubscribe: , List-Archive: List-Post: List-Help: List-Subscribe: , Errors-To: test-report-bounces@dpdk.org Test-Label: iol-unit-arm64-testing Test-Status: SUCCESS http://dpdk.org/patch/151077 _Testing PASS_ Submitter: Howard Wang Date: Friday, February 07 2025 03:18:45 DPDK git baseline: Repo:dpdk Branch: master CommitID:e5ece9ae686535f29ae72c03fec26dc16ff7a925 151076-151077 --> testing pass Upstream job id: Generic-Unit-Test-DPDK#312577 Test environment and result as below: +-----------------------------+----------------+---------------------------+------------------------------+--------------+ | Environment | dpdk_unit_test | cryptodev_sw_zuc_autotest | cryptodev_sw_snow3g_autotest | lpm_autotest | +=============================+================+===========================+==============================+==============+ | 32-bit Ubuntu 22.04.4 (ARM) | PASS | SKIPPED | SKIPPED | SKIPPED | +-----------------------------+----------------+---------------------------+------------------------------+--------------+ | CentOS Stream 9 (ARM) | PASS | SKIPPED | SKIPPED | SKIPPED | +-----------------------------+----------------+---------------------------+------------------------------+--------------+ | Debian 12 (arm) | PASS | PASS | PASS | SKIPPED | +-----------------------------+----------------+---------------------------+------------------------------+--------------+ | Fedora 40 (ARM) | PASS | SKIPPED | SKIPPED | SKIPPED | +-----------------------------+----------------+---------------------------+------------------------------+--------------+ | Fedora 41 (ARM Clang) | PASS | SKIPPED | SKIPPED | SKIPPED | +-----------------------------+----------------+---------------------------+------------------------------+--------------+ | Fedora 41 (ARM) | PASS | SKIPPED | SKIPPED | SKIPPED | +-----------------------------+----------------+---------------------------+------------------------------+--------------+ | RHEL9 (ARM) | PASS | SKIPPED | SKIPPED | SKIPPED | +-----------------------------+----------------+---------------------------+------------------------------+--------------+ | Fedora 40 (ARM Clang) | PASS | SKIPPED | SKIPPED | SKIPPED | +-----------------------------+----------------+---------------------------+------------------------------+--------------+ | Debian 11 (Buster) (ARM) | PASS | SKIPPED | SKIPPED | SKIPPED | +-----------------------------+----------------+---------------------------+------------------------------+--------------+ | Ubuntu 22.04 (ARM) | PASS | SKIPPED | SKIPPED | SKIPPED | +-----------------------------+----------------+---------------------------+------------------------------+--------------+ | Ubuntu 20.04 (ARM) | PASS | SKIPPED | SKIPPED | SKIPPED | +-----------------------------+----------------+---------------------------+------------------------------+--------------+ | Ubuntu 24.04 (ARM) | PASS | SKIPPED | SKIPPED | SKIPPED | +-----------------------------+----------------+---------------------------+------------------------------+--------------+ | Ubuntu 20.04 ARM SVE | SKIPPED | SKIPPED | SKIPPED | PASS | +-----------------------------+----------------+---------------------------+------------------------------+--------------+ 32-bit Ubuntu 22.04.4 (ARM) Kernel: 5.15.83+ aarch64 Compiler: gcc (Ubuntu 11.4.0-1ubuntu1~22.04) 11.4.0 CentOS Stream 9 (ARM) Kernel: Depends on container host Compiler: gcc 11.5.0 20240719 (Red Hat 11.5.0-2) Debian 12 (arm) Kernel: Depends on container host Compiler: gcc (Debian 12.2.0-14) 12.2.0 Fedora 40 (ARM) Kernel: Depends on container host Compiler: gcc 14.2.1 20240912 (Red Hat 14.2.1-3) Fedora 41 (ARM Clang) Kernel: Depends on container host Compiler: clang 19.1.5 (Fedora 19.1.5-1.fc41) Fedora 41 (ARM) Kernel: Depends on container host Compiler: gcc 14.2.1 20240912 (Red Hat 14.2.1-3) RHEL9 (ARM) Kernel: Depends on container host Compiler: gcc 11.5.0 20240719 (Red Hat 11.5.0-2) Fedora 40 (ARM Clang) Kernel: Depends on container host Compiler: clang 18.1.8 (Fedora 18.1.8-1.fc40) Debian 11 (Buster) (ARM) Kernel: Depends on container host Compiler: gcc (Debian 10.2.1-6) 10.2.1 20210110 Ubuntu 22.04 (ARM) Kernel: Depends on container host Compiler: gcc (Ubuntu 11.4.0-1ubuntu1~22.04) 11.4.0 Ubuntu 20.04 (ARM) Kernel: Depends on container host Compiler: gcc (Ubuntu 9.4.0-1ubuntu1~20.04.2) 9.4.0 Ubuntu 24.04 (ARM) Kernel: Depends on container host Compiler: gcc (Ubuntu 13.3.0-6ubuntu2~24.04) 13.3.0 Ubuntu 20.04 ARM SVE Kernel: Depends on container host Compiler: gcc (Ubuntu 10.5.0-1ubuntu1~20.04) 10.5.0 To view detailed results, visit: https://lab.dpdk.org/results/dashboard/patchsets/32518/ UNH-IOL DPDK Community Lab To manage your email subscriptions, visit: https://lab.dpdk.org/results/dashboard/preferences/subscriptions/