From mboxrd@z Thu Jan 1 00:00:00 1970 Return-Path: Received: from mails.dpdk.org (mails.dpdk.org [217.70.189.124]) by inbox.dpdk.org (Postfix) with ESMTP id 2CB93461BA for ; Fri, 7 Feb 2025 12:44:43 +0100 (CET) Received: from mails.dpdk.org (localhost [127.0.0.1]) by mails.dpdk.org (Postfix) with ESMTP id 2559342798; Fri, 7 Feb 2025 12:44:43 +0100 (CET) Received: from mail-pj1-f99.google.com (mail-pj1-f99.google.com [209.85.216.99]) by mails.dpdk.org (Postfix) with ESMTP id B748A40DFD for ; Fri, 7 Feb 2025 12:44:41 +0100 (CET) Received: by mail-pj1-f99.google.com with SMTP id 98e67ed59e1d1-2f9bac7699aso2828073a91.1 for ; Fri, 07 Feb 2025 03:44:41 -0800 (PST) DKIM-Signature: v=1; a=rsa-sha256; c=relaxed/relaxed; d=iol.unh.edu; s=unh-iol; t=1738928681; x=1739533481; darn=dpdk.org; h=cc:to:from:subject:message-id:date:from:to:cc:subject:date :message-id:reply-to; bh=+Z2DopD9KoBYoJzEB+UtU80+dIc64cL5OV8NLqkoCWI=; b=GQpso86Y6ujYDdsGVSHOR/29Pej+nmCpNmTbn6hgdmGYmoXisnr3uO2wX3mAh3wyrZ fxHBUkwlNsPt1qW/KhsscWlHNF7sLBwneG34j1xOFt73hF6JMtxZHNfQ48IcwiW0Tvv5 cc3ccYQroa9zuRNlZeP8rbff+R5Vf20wAyLRw= X-Google-DKIM-Signature: v=1; a=rsa-sha256; c=relaxed/relaxed; d=1e100.net; s=20230601; t=1738928681; x=1739533481; h=cc:to:from:subject:message-id:date:x-gm-message-state:from:to:cc :subject:date:message-id:reply-to; bh=+Z2DopD9KoBYoJzEB+UtU80+dIc64cL5OV8NLqkoCWI=; b=JoKcUsqRKM4b3rmzGm7ZIrunV30Jb7pGSZppy71mFJxJiZUzHDazw0v6Mj2GP3wb3x P1N0QT2cgAWd0A5H2JCrsBZGv6m1w00Lro+/08fCiHJbhty2yklJYXH+VE0EhuriLTMR bVSjfNNr2vqvmJtziVNCmI1QAypPufJvvmxMTcwli93pAlsxkz9R6DTNQKI8v7CGsoPb jK0OaZnerfwqfnZ6ES3vLJKKrlnGv1lcE+X6ddCZU2D6yy9nmOjh/rbxMnoADDbYXQog 1CZrKKIdtxWPw2p8wCtno3FudROf/YFmIk56yzWS+3gMToG/eDEe7ogjgC21DowccdYB iLyA== X-Gm-Message-State: AOJu0YzzV5oaraQo85YDhzPAArj0H2Y2PJTYIMJjaWjsV5uF0CnlgzBM MaL7/YhL08Al7z/ziiyM2SiqBzQRO5UxjHXrh9HAdXrNSyYiDviL4ETd34t+4HMtc4oao5zrfj3 nnMp8inCcGgGO8dg8C2G3ZJvmRkBrncqICcB53wmmdnNPVxhQ X-Gm-Gg: ASbGnct9ynSvnSuLdLA3gIzOsbDG/CGhXT1GEiur7UlyFRTmJnNtnqNReLomXySXC5n fMhjtLTdbRZOZ0boo4ihE12dp0CwZErICK1cA38VOoqt9EfdUVq+Dq9IfaMGyKWjfC3amoeijxY 1J2n3bDfQ7YkNLM2mGcZ+ZxsnQZFzD3YwmgDHuePnFkMR50T47rLwVi5mXCubud2sEMfFQHOSCb /eclsOUfosouFri64PDOH4pX9m1cIBJOfTxhOB2zLXdiyITIddyuaGFyvCou+nCrZAUELjC7x7h 1Mrck8O+gmB9yOdxIIqGNrluM6JGcVvy9AkS2BpBdg== X-Google-Smtp-Source: AGHT+IEMQlJfA83/i+QlNYKZFn354yhVCoahp4pEokK5ejE882rhlC8NskebgMj1KuhRvoKAAp0Ya+53wxti X-Received: by 2002:a17:90b:38c3:b0:2ee:f687:6ad5 with SMTP id 98e67ed59e1d1-2fa23f5eb89mr4725266a91.2.1738928680844; Fri, 07 Feb 2025 03:44:40 -0800 (PST) Received: from postal.iol.unh.edu (postal.iol.unh.edu. [2606:4100:3880:1234::84]) by smtp-relay.gmail.com with ESMTPS id 98e67ed59e1d1-2fa23eedb89sm113110a91.15.2025.02.07.03.44.40 (version=TLS1_2 cipher=ECDHE-ECDSA-AES128-GCM-SHA256 bits=128/128); Fri, 07 Feb 2025 03:44:40 -0800 (PST) X-Relaying-Domain: iol.unh.edu Date: Fri, 07 Feb 2025 03:44:40 -0800 (PST) Message-ID: <67a5f228.170a0220.2c7a6f.5846SMTPIN_ADDED_MISSING@mx.google.com> Received: from [172.21.0.5] (unknown [172.18.0.240]) by postal.iol.unh.edu (Postfix) with ESMTP id 44C426052471; Fri, 7 Feb 2025 06:44:40 -0500 (EST) Subject: |SUCCESS| [GIT MASTER] c66daa12e76d7b4912cfb7109a761856a7a873ab From: dpdklab@iol.unh.edu To: Test Report Cc: dpdk-test-reports@iol.unh.edu, Xueming Li , Christian Ehrhardt , Kevin Traynor , Luca Boccassi Content-Type: text/plain X-BeenThere: test-report@dpdk.org X-Mailman-Version: 2.1.29 Precedence: list List-Id: automatic DPDK test reports List-Unsubscribe: , List-Archive: List-Post: List-Help: List-Subscribe: , Errors-To: test-report-bounces@dpdk.org _Testing PASS_ Branch: tags/v23.11 c66daa12e76d7b4912cfb7109a761856a7a873ab --> testing pass Upstream job id: Generic-Unit-Test-DPDK#312653 Test environment and result as below: +---------------------+----------------+ | Environment | dpdk_unit_test | +=====================+================+ | Debian Bullseye | PASS | +---------------------+----------------+ | Fedora 40 | PASS | +---------------------+----------------+ | CentOS Stream 9 | PASS | +---------------------+----------------+ | Debian 12 | PASS | +---------------------+----------------+ | Fedora 40 (Clang) | PASS | +---------------------+----------------+ | Fedora 41 | PASS | +---------------------+----------------+ | RHEL8 | PASS | +---------------------+----------------+ | RHEL9 | PASS | +---------------------+----------------+ | Ubuntu 20.04 | PASS | +---------------------+----------------+ | Fedora 41 (Clang) | PASS | +---------------------+----------------+ | Ubuntu 22.04 | PASS | +---------------------+----------------+ | Ubuntu 24.04 | PASS | +---------------------+----------------+ | Windows Server 2022 | PASS | +---------------------+----------------+ Debian Bullseye Kernel: Depends on container host Compiler: gcc (Debian 10.2.1-6) 10.2.1 20210110 Fedora 40 Kernel: Depends on container host Compiler: gcc 14.2.1 20240912 (Red Hat 14.2.1-3) CentOS Stream 9 Kernel: Depends on container host Compiler: gcc 11.5.0 20240719 (Red Hat 11.5.0-2) Debian 12 Kernel: Depends on container host Compiler: gcc (Debian 12.2.0-14) 12.2.0 Fedora 40 (Clang) Kernel: Depends on container host Compiler: clang 18.1.8 (Fedora 18.1.8-1.fc40) Fedora 41 Kernel: Depends on container host Compiler: gcc 14.2.1 20240912 (Red Hat 14.2.1-3) RHEL8 Kernel: Depends on container host Compiler: gcc 8.5.0 20210514 (Red Hat 8.5.0-22) RHEL9 Kernel: Depends on container host Compiler: gcc 11.5.0 20240719 (Red Hat 11.5.0-2) Ubuntu 20.04 Kernel: Depends on container host Compiler: gcc (Ubuntu 9.4.0-1ubuntu1~20.04.2) 9.4.0 Fedora 41 (Clang) Kernel: Depends on container host Compiler: clang 19.1.5 (Fedora 19.1.5-1.fc41) Ubuntu 22.04 Kernel: Depends on container host Compiler: gcc (Ubuntu 11.4.0-1ubuntu1~22.04) 11.4.0 Ubuntu 24.04 Kernel: Depends on container host Compiler: gcc (Ubuntu 13.3.0-6ubuntu2~24.04) 13.3.0 Windows Server 2022 Kernel: 10.0.20348.2031 Compiler: clang 15.0.7, gcc 14.1.0 (MinGW), and MSVC VS 19.39.33521 To view detailed results, visit: https://lab.dpdk.org/results/dashboard/tarballs/32484/ UNH-IOL DPDK Community Lab To manage your email subscriptions, visit: https://lab.dpdk.org/results/dashboard/preferences/subscriptions/