From mboxrd@z Thu Jan 1 00:00:00 1970 Return-Path: Received: from mails.dpdk.org (mails.dpdk.org [217.70.189.124]) by inbox.dpdk.org (Postfix) with ESMTP id A7E65461BA for ; Fri, 7 Feb 2025 13:03:16 +0100 (CET) Received: from mails.dpdk.org (localhost [127.0.0.1]) by mails.dpdk.org (Postfix) with ESMTP id A4BA942798; Fri, 7 Feb 2025 13:03:16 +0100 (CET) Received: from mail-pj1-f99.google.com (mail-pj1-f99.google.com [209.85.216.99]) by mails.dpdk.org (Postfix) with ESMTP id 9CB6A40DFD for ; Fri, 7 Feb 2025 13:03:15 +0100 (CET) Received: by mail-pj1-f99.google.com with SMTP id 98e67ed59e1d1-2ee9a780de4so3106863a91.3 for ; Fri, 07 Feb 2025 04:03:15 -0800 (PST) DKIM-Signature: v=1; a=rsa-sha256; c=relaxed/relaxed; d=iol.unh.edu; s=unh-iol; t=1738929795; x=1739534595; darn=dpdk.org; h=references:in-reply-to:cc:to:from:subject:message-id:date:from:to :cc:subject:date:message-id:reply-to; bh=xUIVrDTqA053U6WzmEoI2LfcKNyBk5RN8alsA9h6ND4=; b=XDU5dnDf0p46inD/TVW1UYFBYj45J83UmNfXsPAf3v4RIETT8ZKoZkmFWX35G5VQmx 3sbG7ARB0cKI+/TGPa/xW6VZ2bjFZW0QrxahShlKHc48Uzc7mrrvBz7TR0zbCN17gIWg JcSm5u6+4Up3cJ0tI7wJKsoWgBeQwRg2zqCMk= X-Google-DKIM-Signature: v=1; a=rsa-sha256; c=relaxed/relaxed; d=1e100.net; s=20230601; t=1738929795; x=1739534595; h=references:in-reply-to:cc:to:from:subject:message-id:date :x-gm-message-state:from:to:cc:subject:date:message-id:reply-to; bh=xUIVrDTqA053U6WzmEoI2LfcKNyBk5RN8alsA9h6ND4=; b=hqzWH8NTWgdpVIbLEsqNEIPRm9U5YlgTONhebRKHvHUpyrxCsFduzOM+F07c6aEK9T +7kl8/YuPUoVz2ScgL3sJ/Kjet+fc2j/dFaAGG+vvc1yP4LtL0YuOdczUAdSltxc6uHd mYn14EoTC0xior/J04H7bN3Sc9hW3r5LLar713cPgK76oTq8tTV/L+rDTwcqaP118aQZ A7EJnHFZAZefb1BeSW0DoRNoxi2As6sFzsow0snrqbbuIE76ocVT+zW8jMegr6v4Mkgx cZ8Q/wG0wSYNxhSoEIXCOamCl7TQegoUaFVD+res49zIT7IT8iIGJGt/PFtWm47uFIfB 872w== X-Gm-Message-State: AOJu0Yy4Gbj69TmYNL4x+KVV8/cJBKqBpwXCVMikVQgnpFbaw4XbLh85 E5lGJaOqGWFEtKHGkbaL6vCZb/XGcqTsO4iG1RFRftk/7k1qwEJetX0IDGcSvVNEKLKv21F2ak0 37GVpOkEDjrdzeanZZXPXW9chCJefIyNO5dnf+A+SR2Bx7pwQRyOOXQVs X-Gm-Gg: ASbGncv+bOQPGbPWwMm37RlNzcLjvUwZHmbCZi1cMV/oqkshcyQIys5OWI5DfoYDYcl Y7R+uTadqtFh9TDakWypUsyxi/PghPc5ZExeh0uBYoCcygFRSszh/DXTfJI9GnDEOA8hrIOZExe ntUmXe+P2E2F0blH+zLrCVEpxXQYOGWZqhFfjmRA2uibF+Kk7rjOseoItmxPa18vtHW27H2tIof HAHzptbKYEURRxdynMzwVYkuJdtdFRhrq2Yri9MDi0qDxj+idCIK5wUyQ/Ofsi5lnfaY8CQtisi PFKaIVL4EzeECKRsWN2y8dj3Im0HDlIhWFAhYkQN/Q== X-Google-Smtp-Source: AGHT+IErqsQvvI7f5F1mkdmb755Pb8o2FJeIt4g3p/uBB0mgrhPwOlXQzqcX1hLys4QMdoUbjvIfYpyT8KqL X-Received: by 2002:a17:90b:3e8a:b0:2fa:f8d:65de with SMTP id 98e67ed59e1d1-2fa242e5c39mr3604423a91.22.1738929794705; Fri, 07 Feb 2025 04:03:14 -0800 (PST) Received: from postal.iol.unh.edu (postal.iol.unh.edu. [2606:4100:3880:1234::84]) by smtp-relay.gmail.com with ESMTPS id d9443c01a7336-21f3694df55sm1811615ad.12.2025.02.07.04.03.14 (version=TLS1_2 cipher=ECDHE-ECDSA-AES128-GCM-SHA256 bits=128/128); Fri, 07 Feb 2025 04:03:14 -0800 (PST) X-Relaying-Domain: iol.unh.edu Date: Fri, 07 Feb 2025 04:03:14 -0800 (PST) Message-ID: <67a5f682.170a0220.8af54.a1e6SMTPIN_ADDED_MISSING@mx.google.com> Received: from [172.21.0.5] (unknown [172.18.0.240]) by postal.iol.unh.edu (Postfix) with ESMTP id E72826052471; Fri, 7 Feb 2025 07:03:13 -0500 (EST) Subject: |SUCCESS| pw151075 [PATCH] [v2] app/procinfo: add xstats parameter t From: dpdklab@iol.unh.edu To: Test Report Cc: dpdk-test-reports@iol.unh.edu In-Reply-To: <20250207031333.1782995-1-huangdengdui@huawei.com> References: <20250207031333.1782995-1-huangdengdui@huawei.com> Content-Type: text/plain X-BeenThere: test-report@dpdk.org X-Mailman-Version: 2.1.29 Precedence: list List-Id: automatic DPDK test reports List-Unsubscribe: , List-Archive: List-Post: List-Help: List-Subscribe: , Errors-To: test-report-bounces@dpdk.org Test-Label: iol-unit-arm64-testing Test-Status: SUCCESS http://dpdk.org/patch/151075 _Testing PASS_ Submitter: huangdengdui Date: Friday, February 07 2025 03:13:33 DPDK git baseline: Repo:dpdk Branch: master CommitID:1bf86800f7daf8d5c71a08a0776ff3b754ee6570 151075 --> testing pass Upstream job id: Generic-Unit-Test-DPDK#312598 Test environment and result as below: +-----------------------------+----------------+--------------+------------------------------+---------------------------+ | Environment | dpdk_unit_test | lpm_autotest | cryptodev_sw_snow3g_autotest | cryptodev_sw_zuc_autotest | +=============================+================+==============+==============================+===========================+ | Fedora 40 (ARM) | PASS | SKIPPED | SKIPPED | SKIPPED | +-----------------------------+----------------+--------------+------------------------------+---------------------------+ | Debian 11 (Buster) (ARM) | PASS | SKIPPED | SKIPPED | SKIPPED | +-----------------------------+----------------+--------------+------------------------------+---------------------------+ | CentOS Stream 9 (ARM) | PASS | SKIPPED | SKIPPED | SKIPPED | +-----------------------------+----------------+--------------+------------------------------+---------------------------+ | Fedora 40 (ARM Clang) | PASS | SKIPPED | SKIPPED | SKIPPED | +-----------------------------+----------------+--------------+------------------------------+---------------------------+ | Debian 12 (arm) | PASS | SKIPPED | PASS | PASS | +-----------------------------+----------------+--------------+------------------------------+---------------------------+ | RHEL9 (ARM) | PASS | SKIPPED | SKIPPED | SKIPPED | +-----------------------------+----------------+--------------+------------------------------+---------------------------+ | Fedora 41 (ARM Clang) | PASS | SKIPPED | SKIPPED | SKIPPED | +-----------------------------+----------------+--------------+------------------------------+---------------------------+ | Fedora 41 (ARM) | PASS | SKIPPED | SKIPPED | SKIPPED | +-----------------------------+----------------+--------------+------------------------------+---------------------------+ | Ubuntu 20.04 (ARM) | PASS | SKIPPED | SKIPPED | SKIPPED | +-----------------------------+----------------+--------------+------------------------------+---------------------------+ | 32-bit Ubuntu 22.04.4 (ARM) | PASS | SKIPPED | SKIPPED | SKIPPED | +-----------------------------+----------------+--------------+------------------------------+---------------------------+ | Ubuntu 22.04 (ARM) | PASS | SKIPPED | SKIPPED | SKIPPED | +-----------------------------+----------------+--------------+------------------------------+---------------------------+ | Ubuntu 24.04 (ARM) | PASS | SKIPPED | SKIPPED | SKIPPED | +-----------------------------+----------------+--------------+------------------------------+---------------------------+ | Ubuntu 20.04 ARM SVE | SKIPPED | PASS | SKIPPED | SKIPPED | +-----------------------------+----------------+--------------+------------------------------+---------------------------+ Fedora 40 (ARM) Kernel: Depends on container host Compiler: gcc 14.2.1 20240912 (Red Hat 14.2.1-3) Debian 11 (Buster) (ARM) Kernel: Depends on container host Compiler: gcc (Debian 10.2.1-6) 10.2.1 20210110 CentOS Stream 9 (ARM) Kernel: Depends on container host Compiler: gcc 11.5.0 20240719 (Red Hat 11.5.0-2) Fedora 40 (ARM Clang) Kernel: Depends on container host Compiler: clang 18.1.8 (Fedora 18.1.8-1.fc40) Debian 12 (arm) Kernel: Depends on container host Compiler: gcc (Debian 12.2.0-14) 12.2.0 RHEL9 (ARM) Kernel: Depends on container host Compiler: gcc 11.5.0 20240719 (Red Hat 11.5.0-2) Fedora 41 (ARM Clang) Kernel: Depends on container host Compiler: clang 19.1.5 (Fedora 19.1.5-1.fc41) Fedora 41 (ARM) Kernel: Depends on container host Compiler: gcc 14.2.1 20240912 (Red Hat 14.2.1-3) Ubuntu 20.04 (ARM) Kernel: Depends on container host Compiler: gcc (Ubuntu 9.4.0-1ubuntu1~20.04.2) 9.4.0 32-bit Ubuntu 22.04.4 (ARM) Kernel: 5.15.83+ aarch64 Compiler: gcc (Ubuntu 11.4.0-1ubuntu1~22.04) 11.4.0 Ubuntu 22.04 (ARM) Kernel: Depends on container host Compiler: gcc (Ubuntu 11.4.0-1ubuntu1~22.04) 11.4.0 Ubuntu 24.04 (ARM) Kernel: Depends on container host Compiler: gcc (Ubuntu 13.3.0-6ubuntu2~24.04) 13.3.0 Ubuntu 20.04 ARM SVE Kernel: Depends on container host Compiler: gcc (Ubuntu 10.5.0-1ubuntu1~20.04) 10.5.0 To view detailed results, visit: https://lab.dpdk.org/results/dashboard/patchsets/32517/ UNH-IOL DPDK Community Lab To manage your email subscriptions, visit: https://lab.dpdk.org/results/dashboard/preferences/subscriptions/