From mboxrd@z Thu Jan 1 00:00:00 1970 Return-Path: Received: from mails.dpdk.org (mails.dpdk.org [217.70.189.124]) by inbox.dpdk.org (Postfix) with ESMTP id AC4CF461BA for ; Fri, 7 Feb 2025 13:05:14 +0100 (CET) Received: from mails.dpdk.org (localhost [127.0.0.1]) by mails.dpdk.org (Postfix) with ESMTP id A744A42798; Fri, 7 Feb 2025 13:05:14 +0100 (CET) Received: from mail-io1-f100.google.com (mail-io1-f100.google.com [209.85.166.100]) by mails.dpdk.org (Postfix) with ESMTP id 0E14440DFD for ; Fri, 7 Feb 2025 13:05:14 +0100 (CET) Received: by mail-io1-f100.google.com with SMTP id ca18e2360f4ac-852050432a8so59075639f.1 for ; Fri, 07 Feb 2025 04:05:13 -0800 (PST) DKIM-Signature: v=1; a=rsa-sha256; c=relaxed/relaxed; d=iol.unh.edu; s=unh-iol; t=1738929913; x=1739534713; darn=dpdk.org; h=references:in-reply-to:cc:to:from:subject:message-id:date:from:to :cc:subject:date:message-id:reply-to; bh=le3RDUpsEykCj1PNDsiUjjCk/UJdq+Al31KXD+ruqDQ=; b=GujBQagxuLKfQVPeN2fihCuKKzNoyN4f23Ba/svwUNVqYhzvoYIMCqZH1pz0RLHG9y Xk0f3nyU2yKUrn2GILK7J/ZI7EekS1AdUQ7Bjc47DZgrnuPXMQCUfJVhzCjuHwRUiajK NRFVcRs9lHyl4iiVoScYPN4Ub3yxXBQJ6dGWQ= X-Google-DKIM-Signature: v=1; a=rsa-sha256; c=relaxed/relaxed; d=1e100.net; s=20230601; t=1738929913; x=1739534713; h=references:in-reply-to:cc:to:from:subject:message-id:date :x-gm-message-state:from:to:cc:subject:date:message-id:reply-to; bh=le3RDUpsEykCj1PNDsiUjjCk/UJdq+Al31KXD+ruqDQ=; b=JS1mBY868xe5c3fmDB6HHLZpXyjhUpuaUy5a9ZsGkUoOklYl++QJpR0+e6Dsdfer8g W/rR6ppZjsPZVsXuQwIXSdS6SPgnDE74YkYXPohKT+jbYFq3h8wSvqMfa0DDKwQA0Ey1 +/s2QQ3J4ZF8vQ37KIOTnIUSMEW6rf1Cnpw//5FDHqet8oCdXlsvEyo+GisSNuLE3WLt 0s3BNFInzQPzRIlrCBSCxUVCeC8HvQeZC9zrNbsI3/YoVHfHbsJMNB1b61lMMkUoRYG1 CN8ISDskt5JnPSRf+ZOq3wyEVQXbskBj8vXDP+DQkJqpXEodDh8bV7uMMicvX17S6jWJ 2emQ== X-Gm-Message-State: AOJu0Yz0GyJld+oVQnORxiPfFgzBMX3fELfC/je6YniXr0Ib3A24dRsw UIGkHbTh4x0jL4hMKB92L6DrWOWTTQJ0W3qbvoykzKPGStqmERffCVAX1ldVQrhvpwXw8OoWJga lFTobz2wdWw6WYyw9ZESnbg0HoG2IU9Hj5okKpMRa7YZXf3UhD0s/od70 X-Gm-Gg: ASbGnctMpHKktOJv8OvoQh3qOAWGylNlcKpH/Hu2RWm/puR3iWyC54Kh/Tblg3Bic1W KwZXropl27E5SCHhdgL74YjAzx8g4ucIfndJBKDICelePMdmGlyAx5fEEz3bIrfSUWa5VAJZ4j2 1CrCaDCcAYC9YgPse2jgSjj1MTDFwV6f2EQqGh3iX6xfQe4HM/USDWVP2GWzWE4NN2B6od5QkWQ pc0cRjqXesyVwD1+YmiF85XeduvEooF4LOr70ft10HS0ffZHA6ajyuLxS/LMEjXMz/b9fUV5Ahw fmfhw1uV3La+NiY8sxHGcgJH5Jlls6WW6F6r8XDTmQ== X-Google-Smtp-Source: AGHT+IGxki+SjmaRDqHfa2Orz0+E6hB1gV9vGPbO/0HV9OYIK6cCsVqm3bs6DMPa6sMF6XdGy0FkpbLG5U1O X-Received: by 2002:a05:6602:6e0b:b0:83a:943d:a280 with SMTP id ca18e2360f4ac-854f39a7567mr511834739f.1.1738929913309; Fri, 07 Feb 2025 04:05:13 -0800 (PST) Received: from postal.iol.unh.edu (postal.iol.unh.edu. [2606:4100:3880:1234::84]) by smtp-relay.gmail.com with ESMTPS id ca18e2360f4ac-854f675f484sm19230739f.28.2025.02.07.04.05.13 (version=TLS1_2 cipher=ECDHE-ECDSA-AES128-GCM-SHA256 bits=128/128); Fri, 07 Feb 2025 04:05:13 -0800 (PST) X-Relaying-Domain: iol.unh.edu Date: Fri, 07 Feb 2025 04:05:13 -0800 (PST) Message-ID: <67a5f6f9.050a0220.1d6e38.9e86SMTPIN_ADDED_MISSING@mx.google.com> Received: from [172.21.0.5] (unknown [172.18.0.240]) by postal.iol.unh.edu (Postfix) with ESMTP id CE9CA6052471; Fri, 7 Feb 2025 07:05:12 -0500 (EST) Subject: |SUCCESS| pw151078 [PATCH] [v4] net: add thread-safe crc api From: dpdklab@iol.unh.edu To: Test Report Cc: dpdk-test-reports@iol.unh.edu In-Reply-To: <20250207063758.3971992-1-arkadiuszx.kusztal@intel.com> References: <20250207063758.3971992-1-arkadiuszx.kusztal@intel.com> Content-Type: text/plain X-BeenThere: test-report@dpdk.org X-Mailman-Version: 2.1.29 Precedence: list List-Id: automatic DPDK test reports List-Unsubscribe: , List-Archive: List-Post: List-Help: List-Subscribe: , Errors-To: test-report-bounces@dpdk.org Test-Label: iol-abi-testing Test-Status: SUCCESS http://dpdk.org/patch/151078 _Testing PASS_ Submitter: Arkadiusz Kusztal Date: Friday, February 07 2025 06:37:58 DPDK git baseline: Repo:dpdk Branch: master CommitID:7125636162d67b1c40ba6802a3ff4466d125d243 151078 --> testing pass Upstream job id: Generic-DPDK-Compile-ABI#115247 Test environment and result as below: +-------------------+----------+ | Environment | abi_test | +===================+==========+ | CentOS Stream 9 | PASS | +-------------------+----------+ | Debian Bullseye | PASS | +-------------------+----------+ | Fedora 40 (Clang) | PASS | +-------------------+----------+ | Fedora 40 | PASS | +-------------------+----------+ | Fedora 41 (Clang) | PASS | +-------------------+----------+ | Fedora 41 | PASS | +-------------------+----------+ | RHEL8 | PASS | +-------------------+----------+ | openSUSE Leap 15 | PASS | +-------------------+----------+ | RHEL9 | PASS | +-------------------+----------+ | Ubuntu 22.04 | PASS | +-------------------+----------+ | Ubuntu 24.04 | PASS | +-------------------+----------+ | Debian 12 | PASS | +-------------------+----------+ CentOS Stream 9 Kernel: Depends on container host Compiler: gcc 11.5.0 20240719 (Red Hat 11.5.0-2) Debian Bullseye Kernel: Depends on container host Compiler: gcc (Debian 10.2.1-6) 10.2.1 20210110 Fedora 40 (Clang) Kernel: Depends on container host Compiler: clang 18.1.8 (Fedora 18.1.8-1.fc40) Fedora 40 Kernel: Depends on container host Compiler: gcc 14.2.1 20240912 (Red Hat 14.2.1-3) Fedora 41 (Clang) Kernel: Depends on container host Compiler: clang 19.1.5 (Fedora 19.1.5-1.fc41) Fedora 41 Kernel: Depends on container host Compiler: gcc 14.2.1 20240912 (Red Hat 14.2.1-3) RHEL8 Kernel: Depends on container host Compiler: gcc 8.5.0 20210514 (Red Hat 8.5.0-22) openSUSE Leap 15 Kernel: Depends on container host Compiler: gcc (SUSE Linux) 7.5.0 RHEL9 Kernel: Depends on container host Compiler: gcc 11.5.0 20240719 (Red Hat 11.5.0-2) Ubuntu 22.04 Kernel: Depends on container host Compiler: gcc (Ubuntu 11.4.0-1ubuntu1~22.04) 11.4.0 Ubuntu 24.04 Kernel: Depends on container host Compiler: gcc (Ubuntu 13.3.0-6ubuntu2~24.04) 13.3.0 Debian 12 Kernel: Depends on container host Compiler: gcc (Debian 12.2.0-14) 12.2.0 To view detailed results, visit: https://lab.dpdk.org/results/dashboard/patchsets/32519/ UNH-IOL DPDK Community Lab To manage your email subscriptions, visit: https://lab.dpdk.org/results/dashboard/preferences/subscriptions/