From mboxrd@z Thu Jan 1 00:00:00 1970 Return-Path: Received: from mails.dpdk.org (mails.dpdk.org [217.70.189.124]) by inbox.dpdk.org (Postfix) with ESMTP id D4047461BA for ; Fri, 7 Feb 2025 13:05:22 +0100 (CET) Received: from mails.dpdk.org (localhost [127.0.0.1]) by mails.dpdk.org (Postfix) with ESMTP id D090242798; Fri, 7 Feb 2025 13:05:22 +0100 (CET) Received: from mail-yb1-f227.google.com (mail-yb1-f227.google.com [209.85.219.227]) by mails.dpdk.org (Postfix) with ESMTP id 1C04340DFD for ; Fri, 7 Feb 2025 13:05:22 +0100 (CET) Received: by mail-yb1-f227.google.com with SMTP id 3f1490d57ef6-e479e529ebcso1464831276.3 for ; Fri, 07 Feb 2025 04:05:22 -0800 (PST) DKIM-Signature: v=1; a=rsa-sha256; c=relaxed/relaxed; d=iol.unh.edu; s=unh-iol; t=1738929921; x=1739534721; darn=dpdk.org; h=references:in-reply-to:cc:to:from:subject:message-id:date:from:to :cc:subject:date:message-id:reply-to; bh=JTaRNKsf8GXt7/zVsXaEsnHQGN1i07WQ+ecSNNVHcmM=; b=LYO1EbgcMKfwXrBTe99NR23yD9QADc5wfl1jL7nBGPtBEOSmjfOWbew/M1/YuYNjmy 3g9vqWw+1+d89F+IgwlCVJ0gj5mOrbqmW/1JbarB1aBoMYesKGGqUr5wvbckj4JoCh7d 67q4Ka5xO01FH4R8aEEi0yE1PqdymBW2A+8Ng= X-Google-DKIM-Signature: v=1; a=rsa-sha256; c=relaxed/relaxed; d=1e100.net; s=20230601; t=1738929921; x=1739534721; h=references:in-reply-to:cc:to:from:subject:message-id:date :x-gm-message-state:from:to:cc:subject:date:message-id:reply-to; bh=JTaRNKsf8GXt7/zVsXaEsnHQGN1i07WQ+ecSNNVHcmM=; b=bKDos2hnFFn0juzBpDHjMOmxGZTwkua+4SJmxPneDel8ifYdr7ZYn+X+Vgc7D5bJeI 16xw8zxdyw81DTXFtPeNeJH7nu2bYcKaRoNZtZ2kS1Tot431EH0Wt2xgC7SHX6EBj3e2 KIt6FQ5PAqBrxNm61ZT+FK8BR9uCOt9+vr8ZAeKPRpwPTehnRmiWe2ytUR4Koe2vrnql ru+D776I1QSX0xAQDHeqxflie/ZKSLLbEAWXhz0AEE91VGCjmO+qBriMvKUK6yWbS14b zvYvjKqzl8GaA8SCbZP0WwDynPlIpI+hQi9XdJ8TuxFqjdPv/YBGxG7U6/U41WHGtXYL iDBQ== X-Gm-Message-State: AOJu0YyMHyJiHh3CxNURGB7zD0quen+2UDjJPdAOqnIker13MjWFQ6Km ClLqomeoV9GKd5FnWgzYSRy3mPbmLa3CN+EEUwJRCoWYw0/8bSYjZb9ToY1bMvyHp8rvn3b4KhC n9VIMi9P6i/HLZXII8VvMsPZarOFDmHIAOYquyywRWzGXHeopXGteZm97 X-Gm-Gg: ASbGncsnZLdoptzvcYsyCAonmVlYavel3T7zDXJqI26YBeGN56dvyBnlj6HsJxE+kxp ST8d0G11vJVcyN3WT3XiIHD1u+B/NRLliB3pZpoqd2uYbKOj0qDmTXET/HDm6SFDlS6x8qLs9mP N7Fwjxw0/1D4obP3SJDOQPDxJaJH61nXnUSIVX8X9ukGFSJGxH82n/51kGZ/4r5WToTCHZnBNuq 51dQzZJ0M8kvpAcGzPyc/CtbRPoJFScdWYVApYkRQzFaRkRwJhtnLIpm5xdpL3iBeO+hBYDqO0s 4n1SOF8cTpOY31P8nc/S/BoiossNz/yzS3YQP4NRkg== X-Google-Smtp-Source: AGHT+IHaUj4jMwtpPmRUbdaFNLDBMwmUW5egQhKpe6ZmzT5ci8m21OIkUeWyctVlT77wa7zpY9ms+3wW9r4m X-Received: by 2002:a05:6902:2009:b0:e5a:e88e:b2cd with SMTP id 3f1490d57ef6-e5b46296514mr2103369276.39.1738929921044; Fri, 07 Feb 2025 04:05:21 -0800 (PST) Received: from postal.iol.unh.edu (postal.iol.unh.edu. [2606:4100:3880:1234::84]) by smtp-relay.gmail.com with ESMTPS id 3f1490d57ef6-e5b3a206702sm185300276.10.2025.02.07.04.05.20 (version=TLS1_2 cipher=ECDHE-ECDSA-AES128-GCM-SHA256 bits=128/128); Fri, 07 Feb 2025 04:05:21 -0800 (PST) X-Relaying-Domain: iol.unh.edu Date: Fri, 07 Feb 2025 04:05:21 -0800 (PST) Message-ID: <67a5f701.250a0220.bbb86.a863SMTPIN_ADDED_MISSING@mx.google.com> Received: from [172.21.0.6] (unknown [172.18.0.240]) by postal.iol.unh.edu (Postfix) with ESMTP id 9DD386052471; Fri, 7 Feb 2025 07:05:20 -0500 (EST) Subject: |SUCCESS| pw151078 [PATCH] [v4] net: add thread-safe crc api From: dpdklab@iol.unh.edu To: Test Report Cc: dpdk-test-reports@iol.unh.edu In-Reply-To: <20250207063758.3971992-1-arkadiuszx.kusztal@intel.com> References: <20250207063758.3971992-1-arkadiuszx.kusztal@intel.com> Content-Type: text/plain X-BeenThere: test-report@dpdk.org X-Mailman-Version: 2.1.29 Precedence: list List-Id: automatic DPDK test reports List-Unsubscribe: , List-Archive: List-Post: List-Help: List-Subscribe: , Errors-To: test-report-bounces@dpdk.org Test-Label: iol-abi-testing Test-Status: SUCCESS http://dpdk.org/patch/151078 _Testing PASS_ Submitter: Arkadiusz Kusztal Date: Friday, February 07 2025 06:37:58 DPDK git baseline: Repo:dpdk Branch: master CommitID:7125636162d67b1c40ba6802a3ff4466d125d243 151078 --> testing pass Upstream job id: Generic-DPDK-Compile-ABI#115242 Test environment and result as below: +-------------------+----------+ | Environment | abi_test | +===================+==========+ | CentOS Stream 9 | PASS | +-------------------+----------+ | Debian Bullseye | PASS | +-------------------+----------+ | Fedora 40 (Clang) | PASS | +-------------------+----------+ | Fedora 40 | PASS | +-------------------+----------+ | Fedora 41 (Clang) | PASS | +-------------------+----------+ | Fedora 41 | PASS | +-------------------+----------+ | RHEL8 | PASS | +-------------------+----------+ | openSUSE Leap 15 | PASS | +-------------------+----------+ | RHEL9 | PASS | +-------------------+----------+ | Ubuntu 22.04 | PASS | +-------------------+----------+ | Ubuntu 24.04 | PASS | +-------------------+----------+ | Debian 12 | PASS | +-------------------+----------+ CentOS Stream 9 Kernel: Depends on container host Compiler: gcc 11.5.0 20240719 (Red Hat 11.5.0-2) Debian Bullseye Kernel: Depends on container host Compiler: gcc (Debian 10.2.1-6) 10.2.1 20210110 Fedora 40 (Clang) Kernel: Depends on container host Compiler: clang 18.1.8 (Fedora 18.1.8-1.fc40) Fedora 40 Kernel: Depends on container host Compiler: gcc 14.2.1 20240912 (Red Hat 14.2.1-3) Fedora 41 (Clang) Kernel: Depends on container host Compiler: clang 19.1.5 (Fedora 19.1.5-1.fc41) Fedora 41 Kernel: Depends on container host Compiler: gcc 14.2.1 20240912 (Red Hat 14.2.1-3) RHEL8 Kernel: Depends on container host Compiler: gcc 8.5.0 20210514 (Red Hat 8.5.0-22) openSUSE Leap 15 Kernel: Depends on container host Compiler: gcc (SUSE Linux) 7.5.0 RHEL9 Kernel: Depends on container host Compiler: gcc 11.5.0 20240719 (Red Hat 11.5.0-2) Ubuntu 22.04 Kernel: Depends on container host Compiler: gcc (Ubuntu 11.4.0-1ubuntu1~22.04) 11.4.0 Ubuntu 24.04 Kernel: Depends on container host Compiler: gcc (Ubuntu 13.3.0-6ubuntu2~24.04) 13.3.0 Debian 12 Kernel: Depends on container host Compiler: gcc (Debian 12.2.0-14) 12.2.0 To view detailed results, visit: https://lab.dpdk.org/results/dashboard/patchsets/32519/ UNH-IOL DPDK Community Lab To manage your email subscriptions, visit: https://lab.dpdk.org/results/dashboard/preferences/subscriptions/